BEGIN:VCALENDAR
VERSION:2.0
PRODID:-//South Baltimore Gateway Partnership - ECPv6.15.18//NONSGML v1.0//EN
CALSCALE:GREGORIAN
METHOD:PUBLISH
X-WR-CALNAME:South Baltimore Gateway Partnership
X-ORIGINAL-URL:https://sbgpartnership.org
X-WR-CALDESC:Events for South Baltimore Gateway Partnership
REFRESH-INTERVAL;VALUE=DURATION:PT1H
X-Robots-Tag:noindex
X-PUBLISHED-TTL:PT1H
BEGIN:VTIMEZONE
TZID:America/New_York
BEGIN:DAYLIGHT
TZOFFSETFROM:-0500
TZOFFSETTO:-0400
TZNAME:EDT
DTSTART:20250309T070000
END:DAYLIGHT
BEGIN:STANDARD
TZOFFSETFROM:-0400
TZOFFSETTO:-0500
TZNAME:EST
DTSTART:20251102T060000
END:STANDARD
BEGIN:DAYLIGHT
TZOFFSETFROM:-0500
TZOFFSETTO:-0400
TZNAME:EDT
DTSTART:20260308T070000
END:DAYLIGHT
BEGIN:STANDARD
TZOFFSETFROM:-0400
TZOFFSETTO:-0500
TZNAME:EST
DTSTART:20261101T060000
END:STANDARD
BEGIN:DAYLIGHT
TZOFFSETFROM:-0500
TZOFFSETTO:-0400
TZNAME:EDT
DTSTART:20270314T070000
END:DAYLIGHT
BEGIN:STANDARD
TZOFFSETFROM:-0400
TZOFFSETTO:-0500
TZNAME:EST
DTSTART:20271107T060000
END:STANDARD
END:VTIMEZONE
BEGIN:VEVENT
DTSTART;TZID=America/New_York:20260303T090000
DTEND;TZID=America/New_York:20260303T110000
DTSTAMP:20260423T152150
CREATED:20251010T195747Z
LAST-MODIFIED:20260302T235919Z
UID:52056-1772528400-1772535600@sbgpartnership.org
SUMMARY:SBGP Strategic Planning Committee
DESCRIPTION:The SBGP Strategic Planning Committee will meet from 9:00 to 11:00 am on the 1st Tuesday of each month. This meeting is open to the public\, however\, part or all of the meeting may be conducted in a closed session to discuss matters that the Open Meetings Act permits to be discussed in a closed session. \nThis meeting will take place via screen-sharing conference call. Email brogers@sbgpartnership.org at least 24 hours in advance for call-in instructions. \nIf requesting accommodations for this meeting\, please reach out one week in advance to cemmanuelle@sbgpartnership.org. SBGP will make reasonable accommodations as possible. \nAccess the agenda here.
URL:https://sbgpartnership.org/event/sbgp-strategic-planning-committee-70/
CATEGORIES:Events
END:VEVENT
BEGIN:VEVENT
DTSTART;TZID=America/New_York:20260305T113000
DTEND;TZID=America/New_York:20260305T123000
DTSTAMP:20260423T152150
CREATED:20260305T154340Z
LAST-MODIFIED:20260305T154540Z
UID:67231-1772710200-1772713800@sbgpartnership.org
SUMMARY:SBGP Executive Committee Meeting
DESCRIPTION:This meeting is open to the public\, however\, part or all of the meeting may be conducted in a closed session to discuss matters that the Open Meetings Act permits to be discussed in a closed session. \nThis meeting will be held virtually. Email epitkow@sbgpartnership.org at least 24 hours in advance to RSVP for the meeting and to request conference call instructions. \nIf requesting accommodations for this meeting\, please reach out one week in advance to cemmanuelle@sbgpartnership.org. SBGP will make reasonable accommodations as possible. \nAccess the agenda here.
URL:https://sbgpartnership.org/event/sbgp-executive-committee-meeting-12/
CATEGORIES:Events
END:VEVENT
BEGIN:VEVENT
DTSTART;TZID=America/New_York:20260311T090000
DTEND;TZID=America/New_York:20260311T100000
DTSTAMP:20260423T152150
CREATED:20251009T222954Z
LAST-MODIFIED:20260310T155918Z
UID:51952-1773219600-1773223200@sbgpartnership.org
SUMMARY:SBGP Finance Committee Meeting
DESCRIPTION:  \nThis meeting is open to the public\, however\, part or all of the meeting may be conducted in a closed session to discuss matters that the Open Meetings Act permits to be discussed in a closed session. \nThis meeting will be held by screen-sharing conference call. Email kfgordon@sbgpartnership.org at least 24 hours in advance to RSVP for the meeting and to request conference call instructions. \nIf requesting accommodations for this meeting\, please reach out one week in advance to cemmanuelle@sbgpartnership.org. SBGP will make reasonable accommodations as possible. \nAccess the agenda here.
URL:https://sbgpartnership.org/event/sbgp-finance-committee-meeting-145/
CATEGORIES:Events
END:VEVENT
BEGIN:VEVENT
DTSTART;TZID=America/New_York:20260312T180000
DTEND;TZID=America/New_York:20260312T193000
DTSTAMP:20260423T152150
CREATED:20260219T145553Z
LAST-MODIFIED:20260312T221409Z
UID:66616-1773338400-1773343800@sbgpartnership.org
SUMMARY:SBGP Keys to Capacity Workshop: Individual Giving – Retaining Donors
DESCRIPTION:SBGP Keys to Capacity Workshop: Individual Giving – Retaining Donors \nThursday\, March 12\, 2026\, 6:00-7:30PM (Virtual) \nThis workshop is the second in a four-part series facilitated by Business Volunteers Maryland. \nTo complement the spring 2025 training\, attendees will build on the basics of managing and maintaining an individual giving program with a specific focus on stewarding donor relationships in order to retain donors. \nRegister here. \nIf requesting accommodations for this meeting\, please reach out one week in advance to cemmanuelle@sbgpartnership.org. SBGP will make reasonable accommodations as possible. 
URL:https://sbgpartnership.org/event/sbgp-keys-to-capacity-workshop-individual-giving-retaining-donors/
END:VEVENT
BEGIN:VEVENT
DTSTART;TZID=America/New_York:20260318T180000
DTEND;TZID=America/New_York:20260318T200000
DTSTAMP:20260423T152150
CREATED:20251009T222955Z
LAST-MODIFIED:20260318T161421Z
UID:51953-1773856800-1773864000@sbgpartnership.org
SUMMARY:SBGP Board of Directors Meeting
DESCRIPTION:The SBGP Board of Directors meets at least six times each calendar year. This meeting is open to the public\, however\, part or all of the meeting may be conducted in a closed session to discuss matters that the Open Meetings Act permits to be discussed in a closed session. \nThis meeting will be held in-person at City Garage with a virtual option: 101 W. Dickman Street\, Suite 1000\, Baltimore\, MD\, 21230\nEmail epitkow@sbgpartnership.org at least 24 hours in advance to RSVP for the meeting and to request conference call instructions.\n\n \nMasks are welcome but not required. Parking on-site\, ADA accessible bathrooms\, first-floor meeting space. \nIf requesting accommodations for this meeting\, please reach out one week in advance to cemmanuelle@sbgpartnership.org. SBGP will make reasonable accommodations as possible. \nAccess the agenda here.
URL:https://sbgpartnership.org/event/sbgp-board-of-directors-meeting-123/
LOCATION:City Garage\, 101 W Dickman St\, Baltimore\, MD\, United States
CATEGORIES:Events
END:VEVENT
END:VCALENDAR