BEGIN:VCALENDAR
VERSION:2.0
PRODID:-//South Baltimore Gateway Partnership - ECPv6.15.18//NONSGML v1.0//EN
CALSCALE:GREGORIAN
METHOD:PUBLISH
X-WR-CALNAME:South Baltimore Gateway Partnership
X-ORIGINAL-URL:https://sbgpartnership.org
X-WR-CALDESC:Events for South Baltimore Gateway Partnership
REFRESH-INTERVAL;VALUE=DURATION:PT1H
X-Robots-Tag:noindex
X-PUBLISHED-TTL:PT1H
BEGIN:VTIMEZONE
TZID:America/New_York
BEGIN:DAYLIGHT
TZOFFSETFROM:-0500
TZOFFSETTO:-0400
TZNAME:EDT
DTSTART:20240310T070000
END:DAYLIGHT
BEGIN:STANDARD
TZOFFSETFROM:-0400
TZOFFSETTO:-0500
TZNAME:EST
DTSTART:20241103T060000
END:STANDARD
BEGIN:DAYLIGHT
TZOFFSETFROM:-0500
TZOFFSETTO:-0400
TZNAME:EDT
DTSTART:20250309T070000
END:DAYLIGHT
BEGIN:STANDARD
TZOFFSETFROM:-0400
TZOFFSETTO:-0500
TZNAME:EST
DTSTART:20251102T060000
END:STANDARD
BEGIN:DAYLIGHT
TZOFFSETFROM:-0500
TZOFFSETTO:-0400
TZNAME:EDT
DTSTART:20260308T070000
END:DAYLIGHT
BEGIN:STANDARD
TZOFFSETFROM:-0400
TZOFFSETTO:-0500
TZNAME:EST
DTSTART:20261101T060000
END:STANDARD
END:VTIMEZONE
BEGIN:VEVENT
DTSTART;TZID=America/New_York:20251209T090000
DTEND;TZID=America/New_York:20251209T110000
DTSTAMP:20260423T192307
CREATED:20241122T194525Z
LAST-MODIFIED:20251208T235917Z
UID:33224-1765270800-1765278000@sbgpartnership.org
SUMMARY:SBGP Strategic Planning Committee
DESCRIPTION:The SBGP Strategic Planning Committee will meet from 9:00 to 11:00 am on the 1st Tuesday of each month. This meeting is open to the public\, however\, part or all of the meeting may be conducted in a closed session to discuss matters that the Open Meetings Act permits to be discussed in a closed session. \nThis meeting will take place via screen-sharing conference call. Email brogers@sbgpartnership.org at least 24 hours in advance for call-in instructions. \nAccess the agenda here. \nIf requesting accommodations for this meeting\, please reach out one week in advance to cemmanuelle@sbgpartnership.org. SBGP will make reasonable accommodations as possible. \n 
URL:https://sbgpartnership.org/event/sbgp-strategic-planning-committee-67/
CATEGORIES:Events
END:VEVENT
BEGIN:VEVENT
DTSTART;TZID=America/New_York:20251210T180000
DTEND;TZID=America/New_York:20251210T200000
DTSTAMP:20260423T192307
CREATED:20241122T194526Z
LAST-MODIFIED:20251210T230308Z
UID:33225-1765389600-1765396800@sbgpartnership.org
SUMMARY:SBGP Board of Directors Meeting
DESCRIPTION:  \nThe SBGP Board of Directors meets at least six times each calendar year. This meeting is open to the public\, however\, part or all of the meeting may be conducted in a closed session to discuss matters that the Open Meetings Act permits to be discussed in a closed session. \nThis meeting will be held in-person at City Garage with a virtual option: 101 W. Dickman Street\, Suite 1000\, Baltimore\, MD\, 21230\nEmail epitkow@sbgpartnership.org at least 24 hours in advance to RSVP for the meeting and to request conference call instructions. \nIn-person meeting attendees are expected to be vaccinated. Masks are welcome but not required. Parking on-site\, ADA accessible bathrooms\, first-floor meeting space. \nIf requesting accommodations for this meeting\, please reach out one week in advance to cemmanuelle@sbgpartnership.org. SBGP will make reasonable accommodations as possible. \nAccess the agenda here.
URL:https://sbgpartnership.org/event/sbgp-board-of-directors-meeting-120/
LOCATION:City Garage\, 101 W Dickman St\, Baltimore\, MD\, United States
CATEGORIES:Events
END:VEVENT
BEGIN:VEVENT
DTSTART;TZID=America/New_York:20251225T090000
DTEND;TZID=America/New_York:20251225T170000
DTSTAMP:20260423T192307
CREATED:20241122T194540Z
LAST-MODIFIED:20251225T101608Z
UID:33238-1766653200-1766682000@sbgpartnership.org
SUMMARY:Christmas Day (SBGP Closed)
DESCRIPTION:SBGP is closed for Christmas Day.
URL:https://sbgpartnership.org/event/christmas-day-sbgp-closed-5/
CATEGORIES:Events
END:VEVENT
BEGIN:VEVENT
DTSTART;TZID=America/New_York:20251226T090000
DTEND;TZID=America/New_York:20251226T170000
DTSTAMP:20260423T192307
CREATED:20241122T194541Z
LAST-MODIFIED:20251226T102920Z
UID:33239-1766739600-1766768400@sbgpartnership.org
SUMMARY:Holiday (SBGP Closed)
DESCRIPTION:SBGP is closed for a holiday.
URL:https://sbgpartnership.org/event/holiday-sbgp-closed-7/
CATEGORIES:Events
END:VEVENT
BEGIN:VEVENT
DTSTART;TZID=America/New_York:20251229T090000
DTEND;TZID=America/New_York:20251229T170000
DTSTAMP:20260423T192307
CREATED:20241122T194542Z
LAST-MODIFIED:20251229T104457Z
UID:33240-1766998800-1767027600@sbgpartnership.org
SUMMARY:Holiday (SBGP Closed)
DESCRIPTION:SBGP is closed for a holiday.
URL:https://sbgpartnership.org/event/holiday-sbgp-closed-8/
CATEGORIES:Events
END:VEVENT
BEGIN:VEVENT
DTSTART;TZID=America/New_York:20251230T090000
DTEND;TZID=America/New_York:20251230T170000
DTSTAMP:20260423T192307
CREATED:20241122T194542Z
LAST-MODIFIED:20251230T104436Z
UID:33241-1767085200-1767114000@sbgpartnership.org
SUMMARY:Holiday (SBGP Closed)
DESCRIPTION:SBGP is closed for a holiday.
URL:https://sbgpartnership.org/event/holiday-sbgp-closed-9/
CATEGORIES:Events
END:VEVENT
BEGIN:VEVENT
DTSTART;TZID=America/New_York:20251231T090000
DTEND;TZID=America/New_York:20251231T170000
DTSTAMP:20260423T192307
CREATED:20241122T194543Z
LAST-MODIFIED:20251231T104435Z
UID:33242-1767171600-1767200400@sbgpartnership.org
SUMMARY:Holiday (SBGP Closed)
DESCRIPTION:SBGP is closed for a holiday.
URL:https://sbgpartnership.org/event/holiday-sbgp-closed-10/
CATEGORIES:Events
END:VEVENT
END:VCALENDAR