BEGIN:VCALENDAR
VERSION:2.0
PRODID:-//South Baltimore Gateway Partnership - ECPv6.15.18//NONSGML v1.0//EN
CALSCALE:GREGORIAN
METHOD:PUBLISH
X-ORIGINAL-URL:https://sbgpartnership.org
X-WR-CALDESC:Events for South Baltimore Gateway Partnership
REFRESH-INTERVAL;VALUE=DURATION:PT1H
X-Robots-Tag:noindex
X-PUBLISHED-TTL:PT1H
BEGIN:VTIMEZONE
TZID:America/New_York
BEGIN:DAYLIGHT
TZOFFSETFROM:-0500
TZOFFSETTO:-0400
TZNAME:EDT
DTSTART:20240310T070000
END:DAYLIGHT
BEGIN:STANDARD
TZOFFSETFROM:-0400
TZOFFSETTO:-0500
TZNAME:EST
DTSTART:20241103T060000
END:STANDARD
BEGIN:DAYLIGHT
TZOFFSETFROM:-0500
TZOFFSETTO:-0400
TZNAME:EDT
DTSTART:20250309T070000
END:DAYLIGHT
BEGIN:STANDARD
TZOFFSETFROM:-0400
TZOFFSETTO:-0500
TZNAME:EST
DTSTART:20251102T060000
END:STANDARD
BEGIN:DAYLIGHT
TZOFFSETFROM:-0500
TZOFFSETTO:-0400
TZNAME:EDT
DTSTART:20260308T070000
END:DAYLIGHT
BEGIN:STANDARD
TZOFFSETFROM:-0400
TZOFFSETTO:-0500
TZNAME:EST
DTSTART:20261101T060000
END:STANDARD
END:VTIMEZONE
BEGIN:VEVENT
DTSTART;TZID=America/New_York:20250401T090000
DTEND;TZID=America/New_York:20250401T110000
DTSTAMP:20260424T063010
CREATED:20241122T194451Z
LAST-MODIFIED:20250331T192951Z
UID:33190-1743498000-1743505200@sbgpartnership.org
SUMMARY:SBGP Strategic Planning Committee
DESCRIPTION:The SBGP Strategic Planning Committee will meet from 9:00 to 11:00 am on the 1st Tuesday of each month. This meeting is open to the public\, however\, part or all of the meeting may be conducted in a closed session to discuss matters that the Open Meetings Act permits to be discussed in a closed session. \nThis meeting will take place via screen-sharing conference call. Email brogers@sbgpartnership.org at least 24 hours in advance for call-in instructions. \nIf requesting accommodations for this meeting\, please reach out one week in advance to cemmanuelle@sbgpartnership.org. SBGP will make reasonable accommodations as possible. \nAccess the agenda here.
URL:https://sbgpartnership.org/event/sbgp-strategic-planning-committee-59/
CATEGORIES:Events
END:VEVENT
BEGIN:VEVENT
DTSTART;TZID=America/New_York:20250403T180000
DTEND;TZID=America/New_York:20250403T193000
DTSTAMP:20260424T063010
CREATED:20241213T200622Z
LAST-MODIFIED:20250403T194421Z
UID:33723-1743703200-1743708600@sbgpartnership.org
SUMMARY:communityBUILD Fundraising Workshop: Individual Giving - Getting Started (virtual)
DESCRIPTION:communityBUILD Fundraising Workshop: Individual Giving – Getting Started (virtual) \nThursday\, April 3\, 2025: 6:00 – 7:30pm \nRegister here. \nAttendees will learn about the basics of managing and maintaining an individual giving program and establish a checklist of practical items they will need to prepare or update to support their fundraising program. \nAbout the presenter \nKatie Sutton\, CFRE \n \nKatie is an accomplished fundraising professional with a decade ofexperience in nonprofit development and management. Currently serving as DeputyDirector at Business Volunteers Maryland\, she specializes in relationshipdevelopment\, fundraising strategy\, and facilitation. Katie is dedicated todriving impactful nonprofit initiatives\, especially related to education\, andhas a proven track record in the Baltimore nonprofit sector. With a strongcommitment to philanthropy\, she holds the Certified Fund Raising Executive(CFRE) credential. She is also a 2018 graduate of the civic engagement GIVEFellowship. Learn more and connect at linkedin.com/in/katiesuttoncfre/ \nIf requesting accommodations for this meeting\, please reach out one week in advance to cemmanuelle@sbgpartnership.org. SBGP will make reasonable accommodations as possible. 
URL:https://sbgpartnership.org/event/communitybuild-fundraising-workshop-individual-giving-getting-started-virtual/
END:VEVENT
BEGIN:VEVENT
DTSTART;TZID=America/New_York:20250405T090000
DTEND;TZID=America/New_York:20250405T170000
DTSTAMP:20260424T063010
CREATED:20250220T234426Z
LAST-MODIFIED:20250321T211815Z
UID:35937-1743843600-1743872400@sbgpartnership.org
SUMMARY:SGBP Program Committee Meeting
DESCRIPTION:This meeting is open to the public\, however\, part or all of the meeting may be conducted in a closed session to discuss matters that the Open Meetings Act permits to be discussed in a closed session.  This in-person meeting will be reviewing Community Grant applications. Meeting will be held at City Garage\, 101 W. Dickman Street\, Suite 1000\, Baltimore\, MD 21230. \nFor joining instructions email lvanoeveren@sbgpartnership.org. \nIn-person meeting attendees are expected to be vaccinated. Masks are welcome but not required. Free parking\, ADA accessible bathrooms\, first-floor meeting space. \nIf requesting accommodations for this meeting\, please reach out one week in advance\nto cemmanuelle@sbgpartnership.org. SBGP will make reasonable accommodations as possible. \nAccess the agenda here. \n 
URL:https://sbgpartnership.org/event/sgbp-program-committee-meeting-89/
LOCATION:City Garage\, 101 W Dickman St\, Baltimore\, MD\, United States
CATEGORIES:Events,Meeting
END:VEVENT
BEGIN:VEVENT
DTSTART;TZID=America/New_York:20250409T090000
DTEND;TZID=America/New_York:20250409T100000
DTSTAMP:20260424T063010
CREATED:20250203T221657Z
LAST-MODIFIED:20250408T194621Z
UID:35222-1744189200-1744192800@sbgpartnership.org
SUMMARY:SBGP Finance Committee Meeting
DESCRIPTION:This meeting is open to the public\, however\, part or all of the meeting may be conducted in a closed session to discuss matters that the Open Meetings Act permits to be discussed in a closed session. \nThis meeting will be held by screen-sharing conference call. Email kfgordon@sbgpartnership.org at least 24 hours in advance to RSVP for the meeting and to request conference call instructions. \nIf requesting accommodations for this meeting\, please reach out one week in advance to cemmanuelle@sbgpartnership.org. SBGP will make reasonable accommodations as possible. \nAccess the agenda here.
URL:https://sbgpartnership.org/event/sbgp-finance-committee-meeting-133/
CATEGORIES:Events
END:VEVENT
BEGIN:VEVENT
DTSTART;TZID=America/New_York:20250409T180000
DTEND;TZID=America/New_York:20250409T200000
DTSTAMP:20260424T063010
CREATED:20241122T194452Z
LAST-MODIFIED:20250409T194520Z
UID:33191-1744221600-1744228800@sbgpartnership.org
SUMMARY:SBGP Public Meeting
DESCRIPTION:Members of the general public are invited to the annual Spring Public Meeting and to provide feedback on the proposed Budget for Fiscal Year 2026 and the general performance of SBGP.\n\nThe Spring Public Meeting is scheduled for Wednesday\, April 9\, 2025. In case of inclement weather the meeting will be moved to Thursday\, April 10th.\n\nEmail epitkow@sbgpartnership.org at least 24 hours in advance to RSVP for the meeting and to request joining instructions. \nIf requesting accommodations for this meeting\, please reach out one week in advance to cemmanuelle@sbgpartnership.org. SBGP will make reasonable accommodations as possible. \nAccess the agenda here.
URL:https://sbgpartnership.org/event/sbgp-public-meeting-5/
CATEGORIES:Events
END:VEVENT
BEGIN:VEVENT
DTSTART;TZID=America/New_York:20250410T180000
DTEND;TZID=America/New_York:20250410T200000
DTSTAMP:20260424T063010
CREATED:20241122T194454Z
LAST-MODIFIED:20250410T194440Z
UID:33193-1744308000-1744315200@sbgpartnership.org
SUMMARY:SBGP Public Meeting (Rain Date)
DESCRIPTION:Members of the general public are invited to the annual Spring Public Meeting and to provide feedback on the proposed Budget for Fiscal Year 2026 and the general performance of SBGP.The rain date for the Spring Public Meeting is scheduled for Thursday\, April 10\, 2025.Email epitkow@sbgpartnership.org at least 24 hours in advance to RSVP for the meeting and to request joining instructions. \nIf requesting accommodations for this meeting\, please reach out one week in advance to cemmanuelle@sbgpartnership.org. SBGP will make reasonable accommodations as possible.
URL:https://sbgpartnership.org/event/sbgp-public-meeting-rain-date-3/
CATEGORIES:Events
END:VEVENT
BEGIN:VEVENT
DTSTART;TZID=America/New_York:20250416T180000
DTEND;TZID=America/New_York:20250416T200000
DTSTAMP:20260424T063010
CREATED:20241122T194458Z
LAST-MODIFIED:20250416T200002Z
UID:33195-1744826400-1744833600@sbgpartnership.org
SUMMARY:SBGP Board of Directors Meeting
DESCRIPTION:The SBGP Board of Directors meets at least six times each calendar year. This meeting is open to the public\, however\, part or all of the meeting may be conducted in a closed session to discuss matters that the Open Meetings Act permits to be discussed in a closed session. \nThis meeting will be held in-person at City Garage with a virtual option: 101 W. Dickman Street\, Suite 1000\, Baltimore\, MD\, 21230\nEmail epitkow@sbgpartnership.org at least 24 hours in advance to RSVP for the meeting and to request conference call instructions. \nIn-person meeting attendees are expected to be vaccinated. Masks are welcome but not required. Parking on-site\, ADA accessible bathrooms\, first-floor meeting space. \nIf requesting accommodations for this meeting\, please reach out one week in advance to cemmanuelle@sbgpartnership.org. SBGP will make reasonable accommodations as possible. \nAccess the agenda here.
URL:https://sbgpartnership.org/event/sbgp-board-of-directors-meeting-112/
LOCATION:City Garage\, 101 W Dickman St\, Baltimore\, MD\, United States
CATEGORIES:Events
END:VEVENT
BEGIN:VEVENT
DTSTART;TZID=America/New_York:20250424T180000
DTEND;TZID=America/New_York:20250424T193000
DTSTAMP:20260424T063010
CREATED:20241213T200622Z
LAST-MODIFIED:20250424T141505Z
UID:33724-1745517600-1745523000@sbgpartnership.org
SUMMARY:communityBUILD Fundraising Workshop: Building Strategic Partnerships with Businesses (virtual)
DESCRIPTION:communityBUILD Fundraising Workshop: Building Strategic Partnerships with Businesses (virtual) \nThursday\, April 24\, 2025: 6:00 – 7:30pm \nRegister here. \nThis virtual workshop is a formal yet participatory training meant to educate and empower attendees with a roadmap on how to build\, manage\, and sustain strategic partnerships in the business community. Building strong relationships with key businesses\, organizations\, and stakeholders is critical to furthering your organization’s mission and impact. Through discussion\, data\, and case studies\, our presenter will share the blueprint for developing dynamic partnerships that result in the recruitment of partnerships that bring time\, leadership\, and resources with their commitment. \nThe session will be led by Alissa Ganser\, President & CEO of Business Volunteers Maryland. \nIf requesting accommodations for this meeting\, please reach out one week in advance to cemmanuelle@sbgpartnership.org. SBGP will make reasonable accommodations as possible. 
URL:https://sbgpartnership.org/event/building-strategic-partnerships-with-businesses/
CATEGORIES:Workshops
END:VEVENT
END:VCALENDAR