BEGIN:VCALENDAR
VERSION:2.0
PRODID:-//South Baltimore Gateway Partnership - ECPv6.15.18//NONSGML v1.0//EN
CALSCALE:GREGORIAN
METHOD:PUBLISH
X-ORIGINAL-URL:https://sbgpartnership.org
X-WR-CALDESC:Events for South Baltimore Gateway Partnership
REFRESH-INTERVAL;VALUE=DURATION:PT1H
X-Robots-Tag:noindex
X-PUBLISHED-TTL:PT1H
BEGIN:VTIMEZONE
TZID:America/New_York
BEGIN:DAYLIGHT
TZOFFSETFROM:-0500
TZOFFSETTO:-0400
TZNAME:EDT
DTSTART:20240310T070000
END:DAYLIGHT
BEGIN:STANDARD
TZOFFSETFROM:-0400
TZOFFSETTO:-0500
TZNAME:EST
DTSTART:20241103T060000
END:STANDARD
BEGIN:DAYLIGHT
TZOFFSETFROM:-0500
TZOFFSETTO:-0400
TZNAME:EDT
DTSTART:20250309T070000
END:DAYLIGHT
BEGIN:STANDARD
TZOFFSETFROM:-0400
TZOFFSETTO:-0500
TZNAME:EST
DTSTART:20251102T060000
END:STANDARD
BEGIN:DAYLIGHT
TZOFFSETFROM:-0500
TZOFFSETTO:-0400
TZNAME:EDT
DTSTART:20260308T070000
END:DAYLIGHT
BEGIN:STANDARD
TZOFFSETFROM:-0400
TZOFFSETTO:-0500
TZNAME:EST
DTSTART:20261101T060000
END:STANDARD
END:VTIMEZONE
BEGIN:VTIMEZONE
TZID:UTC
BEGIN:STANDARD
TZOFFSETFROM:+0000
TZOFFSETTO:+0000
TZNAME:UTC
DTSTART:20240101T000000
END:STANDARD
END:VTIMEZONE
BEGIN:VEVENT
DTSTART;TZID=America/New_York:20250304T090000
DTEND;TZID=America/New_York:20250304T110000
DTSTAMP:20260424T075652
CREATED:20241122T194448Z
LAST-MODIFIED:20250304T160007Z
UID:33187-1741078800-1741086000@sbgpartnership.org
SUMMARY:SBGP Strategic Planning Committee
DESCRIPTION:  \nThe SBGP Strategic Planning Committee will meet from 9:00 to 11:00 am on the 1st Tuesday of each month. This meeting is open to the public\, however\, part or all of the meeting may be conducted in a closed session to discuss matters that the Open Meetings Act permits to be discussed in a closed session. \nThis meeting will take place via screen-sharing conference call. Email brogers@sbgpartnership.org at least 24 hours in advance for call-in instructions. \nAccess Agenda Here \nIf requesting accommodations for this meeting\, please reach out one week in advance to cemmanuelle@sbgpartnership.org. SBGP will make reasonable accommodations as possible. \n 
URL:https://sbgpartnership.org/event/sbgp-strategic-planning-committee-58/
CATEGORIES:Events
END:VEVENT
BEGIN:VEVENT
DTSTART;TZID=America/New_York:20250312T090000
DTEND;TZID=America/New_York:20250312T100000
DTSTAMP:20260424T075652
CREATED:20250203T221655Z
LAST-MODIFIED:20250311T161448Z
UID:35221-1741770000-1741773600@sbgpartnership.org
SUMMARY:SBGP Finance Committee Meeting
DESCRIPTION:This meeting is open to the public\, however\, part or all of the meeting may be conducted in a closed session to discuss matters that the Open Meetings Act permits to be discussed in a closed session. \nThis meeting will be held by screen-sharing conference call. Email kfgordon@sbgpartnership.org at least 24 hours in advance to RSVP for the meeting and to request conference call instructions. \nIf requesting accommodations for this meeting\, please reach out one week in advance to cemmanuelle@sbgpartnership.org. SBGP will make reasonable accommodations as possible. \nAccess the agenda here.
URL:https://sbgpartnership.org/event/sbgp-finance-committee-meeting-132/
CATEGORIES:Events
END:VEVENT
BEGIN:VEVENT
DTSTART;TZID=America/New_York:20250313T180000
DTEND;TZID=America/New_York:20250313T193000
DTSTAMP:20260424T075652
CREATED:20241213T200621Z
LAST-MODIFIED:20250313T175929Z
UID:33722-1741888800-1741894200@sbgpartnership.org
SUMMARY:communityBUILD Fundraising Workshop: Securing Corporate Sponsorships (virtual)
DESCRIPTION:communityBUILD Fundraising Workshop: Securing Corporate Sponsorships (virtual) \nThursday\, March 13\, 2025: 6:00 – 7:30pm \nRegister here. \nAttendees will hear from CSR professionals about what they look for in a corporate sponsorship package\, review successful proposals\, and take the first steps in developing their own corporate sponsorship package. \nAbout the presenter \nKatie Sutton\, CFRE \n \nKatie is an accomplished fundraising professional with a decade ofexperience in nonprofit development and management. Currently serving as DeputyDirector at Business Volunteers Maryland\, she specializes in relationshipdevelopment\, fundraising strategy\, and facilitation. Katie is dedicated todriving impactful nonprofit initiatives\, especially related to education\, andhas a proven track record in the Baltimore nonprofit sector. With a strongcommitment to philanthropy\, she holds the Certified Fund Raising Executive(CFRE) credential. She is also a 2018 graduate of the civic engagement GIVEFellowship. Learn more and connect at linkedin.com/in/katiesuttoncfre/ \nIf requesting accommodations for this meeting\, please reach out one week in advance to cemmanuelle@sbgpartnership.org. SBGP will make reasonable accommodations as possible. 
URL:https://sbgpartnership.org/event/communitybuild-fundraising-workshop-securing-corporate-sponsorships-virtual/
END:VEVENT
BEGIN:VEVENT
DTSTART;TZID=UTC:20250317T143000
DTEND;TZID=UTC:20250317T153000
DTSTAMP:20260424T075652
CREATED:20250304T224533Z
LAST-MODIFIED:20250304T231342Z
UID:36466-1742221800-1742225400@sbgpartnership.org
SUMMARY:SBGP Governance & Nominating Committee Meeting
DESCRIPTION:This meeting is open to the public\, however\, part or all of the meeting may be conducted in a closed session to discuss matters that the Open Meetings Act permits to be discussed in a closed session. \nThis meeting will be held by screen-sharing conference call. Email epitkow@sbgpartnership.org at least 24 hours in advance to RSVP for the meeting and to request conference call instructions. \nIf requesting accommodations for this meeting\, please reach out one week in advance to cemmanuelle@sbgpartnership.org. SBGP will make reasonable accommodations as possible. \nAccess the agenda here.
URL:https://sbgpartnership.org/event/sbgp-governance-nominating-committee-meeting-7/
CATEGORIES:Events
END:VEVENT
BEGIN:VEVENT
DTSTART;TZID=America/New_York:20250317T143000
DTEND;TZID=America/New_York:20250317T153000
DTSTAMP:20260424T075652
CREATED:20250304T232931Z
LAST-MODIFIED:20250317T165950Z
UID:36479-1742221800-1742225400@sbgpartnership.org
SUMMARY:SBGP Governance & Nominating Committee Meeting
DESCRIPTION:This meeting is open to the public\, however\, part or all of the meeting may be conducted in a closed session to discuss matters that the Open Meetings Act permits to be discussed in a closed session. \nThis meeting will be held by screen-sharing conference call. Email epitkow@sbgpartnership.org at least 24 hours in advance to RSVP for the meeting and to request conference call instructions. \nIf requesting accommodations for this meeting\, please reach out one week in advance to cemmanuelle@sbgpartnership.org. SBGP will make reasonable accommodations as possible. \nAccess the agenda here.
URL:https://sbgpartnership.org/event/sbgp-governance-nominating-committee-meeting-8/
CATEGORIES:Events
END:VEVENT
BEGIN:VEVENT
DTSTART;TZID=America/New_York:20250319T180000
DTEND;TZID=America/New_York:20250319T200000
DTSTAMP:20260424T075652
CREATED:20241122T194450Z
LAST-MODIFIED:20250319T173025Z
UID:33189-1742407200-1742414400@sbgpartnership.org
SUMMARY:SBGP Board of Directors Meeting
DESCRIPTION:The SBGP Board of Directors meets at least six times each calendar year. This meeting is open to the public\, however\, part or all of the meeting may be conducted in a closed session to discuss matters that the Open Meetings Act permits to be discussed in a closed session. \nThis meeting will be held in-person at City Garage with a virtual option: 101 W. Dickman Street\, Suite 1000\, Baltimore\, MD\, 21230\nEmail epitkow@sbgpartnership.org at least 24 hours in advance to RSVP for the meeting and to request conference call instructions. \nIn-person meeting attendees are expected to be vaccinated. Masks are welcome but not required. Parking on-site\, ADA accessible bathrooms\, first-floor meeting space. \nIf requesting accommodations for this meeting\, please reach out one week in advance to cemmanuelle@sbgpartnership.org. SBGP will make reasonable accommodations as possible. \nAccess the agenda here.
URL:https://sbgpartnership.org/event/sbgp-board-of-directors-meeting-111/
LOCATION:City Garage\, 101 W Dickman St\, Baltimore\, MD\, United States
CATEGORIES:Events,Meeting
END:VEVENT
END:VCALENDAR