BEGIN:VCALENDAR
VERSION:2.0
PRODID:-//South Baltimore Gateway Partnership - ECPv6.15.18//NONSGML v1.0//EN
CALSCALE:GREGORIAN
METHOD:PUBLISH
X-ORIGINAL-URL:https://sbgpartnership.org
X-WR-CALDESC:Events for South Baltimore Gateway Partnership
REFRESH-INTERVAL;VALUE=DURATION:PT1H
X-Robots-Tag:noindex
X-PUBLISHED-TTL:PT1H
BEGIN:VTIMEZONE
TZID:America/New_York
BEGIN:DAYLIGHT
TZOFFSETFROM:-0500
TZOFFSETTO:-0400
TZNAME:EDT
DTSTART:20230312T070000
END:DAYLIGHT
BEGIN:STANDARD
TZOFFSETFROM:-0400
TZOFFSETTO:-0500
TZNAME:EST
DTSTART:20231105T060000
END:STANDARD
BEGIN:DAYLIGHT
TZOFFSETFROM:-0500
TZOFFSETTO:-0400
TZNAME:EDT
DTSTART:20240310T070000
END:DAYLIGHT
BEGIN:STANDARD
TZOFFSETFROM:-0400
TZOFFSETTO:-0500
TZNAME:EST
DTSTART:20241103T060000
END:STANDARD
BEGIN:DAYLIGHT
TZOFFSETFROM:-0500
TZOFFSETTO:-0400
TZNAME:EDT
DTSTART:20250309T070000
END:DAYLIGHT
BEGIN:STANDARD
TZOFFSETFROM:-0400
TZOFFSETTO:-0500
TZNAME:EST
DTSTART:20251102T060000
END:STANDARD
END:VTIMEZONE
BEGIN:VEVENT
DTSTART;TZID=America/New_York:20241203T090000
DTEND;TZID=America/New_York:20241203T110000
DTSTAMP:20260424T120948
CREATED:20231204T191654Z
LAST-MODIFIED:20241203T141903Z
UID:29108-1733216400-1733223600@sbgpartnership.org
SUMMARY:SBGP Strategic Planning Committee
DESCRIPTION:The SBGP Strategic Planning Committee will meet from 9:00 to 11:00 am on the 1st Tuesday of each month in 2024. This meeting is open to the public\, however\, part or all of the meeting may be conducted in a closed session to discuss matters that the Open Meetings Act permits to be discussed in a closed session. \nThis meeting will take place via screen-sharing conference call. Email brogers@sbgpartnership.org at least 24 hours in advance for call-in instructions. \nIf requesting accommodations for this meeting\, please reach out one week in advance to cemmanuelle@sbgpartnership.org. SBGP will make reasonable accommodations as possible. \nAccess the agenda here.
URL:https://sbgpartnership.org/event/sbgp-strategic-planning-committee-55/
CATEGORIES:Events
END:VEVENT
BEGIN:VEVENT
DTSTART;TZID=America/New_York:20241211T180000
DTEND;TZID=America/New_York:20241211T200000
DTSTAMP:20260424T120948
CREATED:20231204T191655Z
LAST-MODIFIED:20241211T220028Z
UID:29109-1733940000-1733947200@sbgpartnership.org
SUMMARY:SBGP Board of Directors Meeting
DESCRIPTION:The SBGP Board of Directors meets at least six times each calendar year. This meeting is open to the public\, however\, part or all of the meeting may be conducted in a closed session to discuss matters that the Open Meetings Act permits to be discussed in a closed session. \nThis meeting will be held in-person at Gordon Ramsay Steak in the Horseshoe Casino Baltimore with a virtual option: 1525 Russell St\, Baltimore\, MD 21230\nEmail epitkow@sbgpartnership.org at least 24 hours in advance to RSVP for the meeting and to request conference call instructions. \nIn-person meeting attendees are expected to be vaccinated. Masks are welcome but not required. Parking on-site\, ADA accessible bathrooms. \nIf requesting accommodations for this meeting\, please reach out one week in advance to cemmanuelle@sbgpartnership.org. SBGP will make reasonable accommodations as possible. \nAccess the agenda here.
URL:https://sbgpartnership.org/event/sbgp-board-of-directors-meeting-96/
LOCATION:Gordon Ramsay Steak\, 1525 Russell St\, Baltimore\, MD 21230\, USA
CATEGORIES:Events,Meeting
END:VEVENT
BEGIN:VEVENT
DTSTART;TZID=America/New_York:20241225T090000
DTEND;TZID=America/New_York:20241225T170000
DTSTAMP:20260424T120948
CREATED:20231204T165138Z
LAST-MODIFIED:20241225T214436Z
UID:29044-1735117200-1735146000@sbgpartnership.org
SUMMARY:Christmas Day (SBGP Closed)
DESCRIPTION:SBGP is closed for Christmas Day.
URL:https://sbgpartnership.org/event/christmas-day-sbgp-closed-4/
CATEGORIES:Events
END:VEVENT
BEGIN:VEVENT
DTSTART;TZID=America/New_York:20241226T090000
DTEND;TZID=America/New_York:20241226T170000
DTSTAMP:20260424T120949
CREATED:20240923T190934Z
LAST-MODIFIED:20241226T214507Z
UID:32366-1735203600-1735232400@sbgpartnership.org
SUMMARY:Holiday (SBGP Closed)
DESCRIPTION:SBGP is closed for a holiday.
URL:https://sbgpartnership.org/event/holiday-sbgp-closed-3/
CATEGORIES:Events
END:VEVENT
BEGIN:VEVENT
DTSTART;TZID=America/New_York:20241227T090000
DTEND;TZID=America/New_York:20241227T170000
DTSTAMP:20260424T120949
CREATED:20240923T190936Z
LAST-MODIFIED:20241227T215936Z
UID:32367-1735290000-1735318800@sbgpartnership.org
SUMMARY:Holiday (SBGP Closed)
DESCRIPTION:SBGP is closed for a holiday.
URL:https://sbgpartnership.org/event/holiday-sbgp-closed-4/
CATEGORIES:Events
END:VEVENT
BEGIN:VEVENT
DTSTART;TZID=America/New_York:20241230T090000
DTEND;TZID=America/New_York:20241230T170000
DTSTAMP:20260424T120949
CREATED:20240923T190936Z
LAST-MODIFIED:20241230T215936Z
UID:32368-1735549200-1735578000@sbgpartnership.org
SUMMARY:Holiday (SBGP Closed)
DESCRIPTION:SBGP is closed for a holiday.
URL:https://sbgpartnership.org/event/holiday-sbgp-closed-5/
CATEGORIES:Events
END:VEVENT
BEGIN:VEVENT
DTSTART;TZID=America/New_York:20241231T090000
DTEND;TZID=America/New_York:20241231T170000
DTSTAMP:20260424T120949
CREATED:20240923T190937Z
LAST-MODIFIED:20241231T215927Z
UID:32369-1735635600-1735664400@sbgpartnership.org
SUMMARY:Holiday (SBGP Closed)
DESCRIPTION:SBGP is closed for a holiday.
URL:https://sbgpartnership.org/event/holiday-sbgp-closed-6/
CATEGORIES:Events
END:VEVENT
END:VCALENDAR