BEGIN:VCALENDAR
VERSION:2.0
PRODID:-//South Baltimore Gateway Partnership - ECPv6.15.18//NONSGML v1.0//EN
CALSCALE:GREGORIAN
METHOD:PUBLISH
X-ORIGINAL-URL:https://sbgpartnership.org
X-WR-CALDESC:Events for South Baltimore Gateway Partnership
REFRESH-INTERVAL;VALUE=DURATION:PT1H
X-Robots-Tag:noindex
X-PUBLISHED-TTL:PT1H
BEGIN:VTIMEZONE
TZID:America/New_York
BEGIN:DAYLIGHT
TZOFFSETFROM:-0500
TZOFFSETTO:-0400
TZNAME:EDT
DTSTART:20230312T070000
END:DAYLIGHT
BEGIN:STANDARD
TZOFFSETFROM:-0400
TZOFFSETTO:-0500
TZNAME:EST
DTSTART:20231105T060000
END:STANDARD
BEGIN:DAYLIGHT
TZOFFSETFROM:-0500
TZOFFSETTO:-0400
TZNAME:EDT
DTSTART:20240310T070000
END:DAYLIGHT
BEGIN:STANDARD
TZOFFSETFROM:-0400
TZOFFSETTO:-0500
TZNAME:EST
DTSTART:20241103T060000
END:STANDARD
BEGIN:DAYLIGHT
TZOFFSETFROM:-0500
TZOFFSETTO:-0400
TZNAME:EDT
DTSTART:20250309T070000
END:DAYLIGHT
BEGIN:STANDARD
TZOFFSETFROM:-0400
TZOFFSETTO:-0500
TZNAME:EST
DTSTART:20251102T060000
END:STANDARD
END:VTIMEZONE
BEGIN:VEVENT
DTSTART;TZID=America/New_York:20240902T090000
DTEND;TZID=America/New_York:20240902T170000
DTSTAMP:20260424T161340
CREATED:20231204T165138Z
LAST-MODIFIED:20240902T203831Z
UID:29040-1725267600-1725296400@sbgpartnership.org
SUMMARY:Labor Day (SBGP Closed)
DESCRIPTION:SBGP is closed for Labor Day.
URL:https://sbgpartnership.org/event/labor-day-sbgp-closed-6/
CATEGORIES:Events
END:VEVENT
BEGIN:VEVENT
DTSTART;TZID=America/New_York:20240903T090000
DTEND;TZID=America/New_York:20240903T110000
DTSTAMP:20260424T161340
CREATED:20231204T191649Z
LAST-MODIFIED:20240902T210923Z
UID:29096-1725354000-1725361200@sbgpartnership.org
SUMMARY:SBGP Strategic Planning Committee
DESCRIPTION:The SBGP Strategic Planning Committee will meet from 9:00 to 11:00 am on the 1st Tuesday of each month in 2024. This meeting is open to the public\, however\, part or all of the meeting may be conducted in a closed session to discuss matters that the Open Meetings Act permits to be discussed in a closed session. \nThis meeting will take place via screen-sharing conference call. Email brogers@sbgpartnership.org at least 24 hours in advance for call-in instructions. \nIf requesting accommodations for this meeting\, please reach out one week in advance to cemmanuelle@sbgpartnership.org. SBGP will make reasonable accommodations as possible. \nAccess the agenda here.
URL:https://sbgpartnership.org/event/sbgp-strategic-planning-committee-52/
CATEGORIES:Events
END:VEVENT
BEGIN:VEVENT
DTSTART;TZID=America/New_York:20240905T150000
DTEND;TZID=America/New_York:20240905T170000
DTSTAMP:20260424T161340
CREATED:20240726T180550Z
LAST-MODIFIED:20240904T210547Z
UID:31646-1725548400-1725555600@sbgpartnership.org
SUMMARY:SBGP Communications Committee
DESCRIPTION:This meeting is open to the public\, however\, part or all of the meeting may be conducted in a closed session to discuss matters that the Open Meetings Act permits to be discussed in a closed session. \nThis meeting will be held by screen-sharing conference call. Email cemmanuelle@sbgpartnership.org at least 24 hours in advance to RSVP for the meeting and to request conference call instructions \nIf requesting accommodations for this meeting\, please reach out one week in advance to cemmanuelle@sbgpartnership.org. SBGP will make reasonable accommodations as possible. \nAccess the agenda here.
URL:https://sbgpartnership.org/event/sbgp-communications-committee-14/
CATEGORIES:Events
END:VEVENT
BEGIN:VEVENT
DTSTART;TZID=America/New_York:20240905T180000
DTEND;TZID=America/New_York:20240905T200000
DTSTAMP:20260424T161340
CREATED:20240802T013551Z
LAST-MODIFIED:20240905T215245Z
UID:31718-1725559200-1725566400@sbgpartnership.org
SUMMARY:SBGP Keys to Capacity Workshop: Bookkeeping & Finances Part 1 of 2 (virtual)
DESCRIPTION:SBGP Keys to Capacity Workshop: Bookkeeping & Finances Part 1 of 2 (virtual) \nThursday\, September 5\, 2024: 6:00 – 8:00pm \nPart 1 of a two-part series for individuals serving nonprofits that want to better understand their organization’s finances and how implementing best practices can help their organization be even more successful and transformative within their communities. This workshop is led by Baltimore Fiscal Partners. \nRegister here. \nFor Part 1\, ideal attendees will be individuals whose nonprofit organization is just starting out or has new staff or volunteers that want to understand the fundamentals of bookkeeping and finance. During this workshop\, participants will: \n\nLearn how to create operating and program budgets.\nUnderstand best practices for grant tracking and reporting.\nIdentify basic accounting systems that can help their organization automate their finances.\n\nIf requesting accommodations for this meeting\, please reach out one week in advance to cemmanuelle@sbgpartnership.org. SBGP will make reasonable accommodations as possible.
URL:https://sbgpartnership.org/event/sbgp-keys-to-capacity-workshop-bookkeeping-finances-part-1-of-2-virtual/
CATEGORIES:Workshops
END:VEVENT
BEGIN:VEVENT
DTSTART;TZID=America/New_York:20240909T180000
DTEND;TZID=America/New_York:20240909T200000
DTSTAMP:20260424T161340
CREATED:20240807T193128Z
LAST-MODIFIED:20240909T210936Z
UID:31825-1725904800-1725912000@sbgpartnership.org
SUMMARY:SGBP Unconscious Bias & Grant Review Training
DESCRIPTION:  \nThe Unconscious Bias and Grant Review Training will explore how unconscious bias may impact grantmaking and the process of reviewing SBGP Community Grant applications. This training is required for all new board members and staff that wish to participate in the review process for Community Grant applications. Program Committee members are allowed to attend to provide additional context to their experience as a reviewer or if wishing to have a refresher course in how to review\, score\, and provide feedback to submitted applications. \nThis meeting is open to the public\, however\, part or all of the meeting may be conducted in a closed session to discuss matters that the Open Meetings Act permits to be discussed in a closed session. \nThis meeting will take place via screen sharing conference call. For call-in instructions email aasbell@sbgpartnership.org. \nIf requesting accommodations for this meeting\, please reach out one week in advance to cemmanuelle@sbgpartnership.org. SBGP will make reasonable accommodations as possible. \nAccess the agenda here.
URL:https://sbgpartnership.org/event/sgbp-unconscious-bias-grant-review-training-20/
CATEGORIES:Events,Meeting
END:VEVENT
BEGIN:VEVENT
DTSTART;TZID=America/New_York:20240912T090000
DTEND;TZID=America/New_York:20240912T100000
DTSTAMP:20260424T161340
CREATED:20240109T223130Z
LAST-MODIFIED:20240911T212345Z
UID:29507-1726131600-1726135200@sbgpartnership.org
SUMMARY:SBGP Finance Committee Meeting
DESCRIPTION:  \nThis meeting is open to the public\, however\, part or all of the meeting may be conducted in a closed session to discuss matters that the Open Meetings Act permits to be discussed in a closed session. \nThis meeting will be held by screen-sharing conference call. Email kfgordon@sbgpartnership.org at least 24 hours in advance to RSVP for the meeting and to request conference call instructions. \nIf requesting accommodations for this meeting\, please reach out one week in advance to cemmanuelle@sbgpartnership.org. SBGP will make reasonable accommodations as possible. \nAccess the agenda here.
URL:https://sbgpartnership.org/event/sbgp-finance-committee-meeting-114/
CATEGORIES:Events,Meeting
END:VEVENT
BEGIN:VEVENT
DTSTART;TZID=America/New_York:20240918T180000
DTEND;TZID=America/New_York:20240918T200000
DTSTAMP:20260424T161340
CREATED:20231204T191649Z
LAST-MODIFIED:20240918T215705Z
UID:29098-1726682400-1726689600@sbgpartnership.org
SUMMARY:SBGP Board of Directors Meeting
DESCRIPTION:The SBGP Board of Directors meets at least six times each calendar year. This meeting is open to the public\, however\, part or all of the meeting may be conducted in a closed session to discuss matters that the Open Meetings Act permits to be discussed in a closed session. \nThis meeting will be held in-person at City Garage with a virtual option: 101 W. Dickman Street\, Suite 1000\, Baltimore\, MD\, 21230\nEmail epitkow@sbgpartnership.org at least 24 hours in advance to RSVP for the meeting and to request conference call instructions. \nIn-person meeting attendees are expected to be vaccinated. Masks are welcome but not required. Parking on-site\, ADA accessible bathrooms\, first-floor meeting space. \nIf requesting accommodations for this meeting\, please reach out one week in advance to cemmanuelle@sbgpartnership.org. SBGP will make reasonable accommodations as possible. \nAccess the agenda here. \n 
URL:https://sbgpartnership.org/event/sbgp-board-of-directors-meeting-93/
LOCATION:City Garage\, 101 W Dickman St\, Baltimore\, MD\, United States
CATEGORIES:Events,Meeting
END:VEVENT
BEGIN:VEVENT
DTSTART;TZID=America/New_York:20240919T180000
DTEND;TZID=America/New_York:20240919T200000
DTSTAMP:20260424T161340
CREATED:20240802T013551Z
LAST-MODIFIED:20240919T225752Z
UID:31719-1726768800-1726776000@sbgpartnership.org
SUMMARY:SBGP Keys to Capacity Workshop: Bookkeeping & Finances Part 2 of 2 (virtual)
DESCRIPTION:SBGP Keys to Capacity Workshop: Bookkeeping & Finances Part 2 of 2 (virtual)\n\nThursday\, September 19\, 2024: 6:00 – 8:00pm \nPart 2 of a two-part series for individuals serving nonprofits that want to better understand their organization’s finances and how implementing best practices can help their organization be even more successful and transformative within their communities. This workshop is led by Baltimore Fiscal Partners. \nRegister here. \nFor Part 2\, ideal attendees will be individuals who attended Part 1 and individuals whose nonprofit organizations have established financial systems and want to learn more about implementing best practices and getting their organization ready for potential audits or financial reviews. \nDuring this workshop\, participants will: \n\nExplore best practices for nonprofit accounting and learn more about the financial policies that organizations should have.\nIncrease their understanding of the use of nonprofit financial statements and grant fund reporting.\nIdentify what is involved in a nonprofit audit or financial review.\n\nIf requesting accommodations for this meeting\, please reach out one week in advance to cemmanuelle@sbgpartnership.org. SBGP will make reasonable accommodations as possible.
URL:https://sbgpartnership.org/event/sbgp-keys-to-capacity-workshop-bookkeeping-finances-part-2-of-2-virtual/
CATEGORIES:Workshops
END:VEVENT
BEGIN:VEVENT
DTSTART;TZID=America/New_York:20240926T180000
DTEND;TZID=America/New_York:20240926T200000
DTSTAMP:20260424T161340
CREATED:20240806T195635Z
LAST-MODIFIED:20240926T232323Z
UID:31783-1727373600-1727380800@sbgpartnership.org
SUMMARY:SBGP Keys to Capacity Workshop: Technology Tools for Bookkeeping & Finances (virtual)
DESCRIPTION:SBGP Keys to Capacity Workshop: Technology Tools for Bookkeeping & Finances (virtual) \nThursday\, September 26\, 2024\, 6:00 – 8:00pm \nRegister here. \nTime is money! Using technology to streamline your finances doesn’t have to be hard\, but it can save you and your organization both time and money. During this workshop participants will learn about: \n\nProcessing payments and sending invoices through online platforms like Melio.com.\n\n\nCollecting receipts and other documentation that will streamline your grant reimbursement requests.\n\n\nLinking your accounts to QuickBooks Online to easily track your income and expenses.\n\nIf requesting accommodations for this meeting\, please reach out one week in advance to cemmanuelle@sbgpartnership.org. SBGP will make reasonable accommodations as possible. 
URL:https://sbgpartnership.org/event/sbgp-keys-to-capacity-workshop-technology-tools-for-bookkeeping-finances-virtual/
CATEGORIES:Workshops
END:VEVENT
END:VCALENDAR