BEGIN:VCALENDAR
VERSION:2.0
PRODID:-//South Baltimore Gateway Partnership - ECPv6.15.18//NONSGML v1.0//EN
CALSCALE:GREGORIAN
METHOD:PUBLISH
X-ORIGINAL-URL:https://sbgpartnership.org
X-WR-CALDESC:Events for South Baltimore Gateway Partnership
REFRESH-INTERVAL;VALUE=DURATION:PT1H
X-Robots-Tag:noindex
X-PUBLISHED-TTL:PT1H
BEGIN:VTIMEZONE
TZID:America/New_York
BEGIN:DAYLIGHT
TZOFFSETFROM:-0500
TZOFFSETTO:-0400
TZNAME:EDT
DTSTART:20230312T070000
END:DAYLIGHT
BEGIN:STANDARD
TZOFFSETFROM:-0400
TZOFFSETTO:-0500
TZNAME:EST
DTSTART:20231105T060000
END:STANDARD
BEGIN:DAYLIGHT
TZOFFSETFROM:-0500
TZOFFSETTO:-0400
TZNAME:EDT
DTSTART:20240310T070000
END:DAYLIGHT
BEGIN:STANDARD
TZOFFSETFROM:-0400
TZOFFSETTO:-0500
TZNAME:EST
DTSTART:20241103T060000
END:STANDARD
BEGIN:DAYLIGHT
TZOFFSETFROM:-0500
TZOFFSETTO:-0400
TZNAME:EDT
DTSTART:20250309T070000
END:DAYLIGHT
BEGIN:STANDARD
TZOFFSETFROM:-0400
TZOFFSETTO:-0500
TZNAME:EST
DTSTART:20251102T060000
END:STANDARD
END:VTIMEZONE
BEGIN:VEVENT
DTSTART;TZID=America/New_York:20240507T090000
DTEND;TZID=America/New_York:20240507T110000
DTSTAMP:20260424T220523
CREATED:20231204T191646Z
LAST-MODIFIED:20240506T234005Z
UID:29081-1715072400-1715079600@sbgpartnership.org
SUMMARY:SBGP Strategic Planning Committee
DESCRIPTION:  \nThe SBGP Strategic Planning Committee will meet from 9:00 to 11:00 am on the 1st Tuesday of each month in 2024. This meeting is open to the public\, however\, part or all of the meeting may be conducted in a closed session to discuss matters that the Open Meetings Act permits to be discussed in a closed session. \nThis meeting will take place via screen-sharing conference call. Email brogers@sbgpartnership.org at least 24 hours in advance for call-in instructions. \nIf requesting accommodations for this meeting\, please reach out one week in advance to cemmanuelle@sbgpartnership.org. SBGP will make reasonable accommodations as possible. \nAccess the agenda here.
URL:https://sbgpartnership.org/event/sbgp-strategic-planning-committee-48/
CATEGORIES:Events
END:VEVENT
BEGIN:VEVENT
DTSTART;TZID=America/New_York:20240507T133000
DTEND;TZID=America/New_York:20240507T143000
DTSTAMP:20260424T220523
CREATED:20240418T223701Z
LAST-MODIFIED:20240506T234009Z
UID:30606-1715088600-1715092200@sbgpartnership.org
SUMMARY:SBGP Executive Committee Meeting
DESCRIPTION:This meeting is open to the public\, however\, part or all of the meeting may be conducted in a closed session to discuss matters that the Open Meetings Act permits to be discussed in a closed session. \nThis meeting will be held virtually. Email epitkow@sbgpartnership.org at least 24 hours in advance to RSVP for the meeting and to request conference call instructions. \nIf requesting accommodations for this meeting\, please reach out one week in advance to cemmanuelle@sbgpartnership.org. SBGP will make reasonable accommodations as possible. \nAccess the agenda here.
URL:https://sbgpartnership.org/event/sbgp-executive-committee-meeting-9/
CATEGORIES:Events
END:VEVENT
BEGIN:VEVENT
DTSTART;TZID=America/New_York:20240509T090000
DTEND;TZID=America/New_York:20240509T100000
DTSTAMP:20260424T220523
CREATED:20240109T223127Z
LAST-MODIFIED:20240509T000619Z
UID:29503-1715245200-1715248800@sbgpartnership.org
SUMMARY:SBGP Finance Committee Meeting
DESCRIPTION:This meeting is open to the public\, however\, part or all of the meeting may be conducted in a closed session to discuss matters that the Open Meetings Act permits to be discussed in a closed session. \nThis meeting will be held by screen-sharing conference call. Email kfgordon@sbgpartnership.org at least 24 hours in advance to RSVP for the meeting and to request conference call instructions. \nIf requesting accommodations for this meeting\, please reach out one week in advance to cemmanuelle@sbgpartnership.org. SBGP will make reasonable accommodations as possible. \nAccess the agenda here.
URL:https://sbgpartnership.org/event/sbgp-finance-committee-meeting-110/
CATEGORIES:Events,Meeting
END:VEVENT
BEGIN:VEVENT
DTSTART;TZID=America/New_York:20240515T180000
DTEND;TZID=America/New_York:20240515T200000
DTSTAMP:20260424T220523
CREATED:20231204T191647Z
LAST-MODIFIED:20240515T002157Z
UID:29083-1715796000-1715803200@sbgpartnership.org
SUMMARY:SBGP Board of Directors Meeting
DESCRIPTION:The SBGP Board of Directors meets at least six times each calendar year. This meeting is open to the public\, however\, part or all of the meeting may be conducted in a closed session to discuss matters that the Open Meetings Act permits to be discussed in a closed session. \nThis meeting will be held in-person at City Garage with a virtual option: 101 W. Dickman Street\, Suite 1000\, Baltimore\, MD\, 21230\nEmail epitkow@sbgpartnership.org at least 24 hours in advance to RSVP for the meeting and to request conference call instructions. \nIn-person meeting attendees are expected to be vaccinated. Masks are welcome but not required. Parking on-site\, ADA accessible bathrooms\, first-floor meeting space. \nIf requesting accommodations for this meeting\, please reach out one week in advance to cemmanuelle@sbgpartnership.org. SBGP will make reasonable accommodations as possible. \nAccess the agenda here. \n 
URL:https://sbgpartnership.org/event/sbgp-board-of-directors-meeting-89/
LOCATION:City Garage\, 101 W Dickman St\, Baltimore\, MD\, United States
CATEGORIES:Events,Meeting
END:VEVENT
BEGIN:VEVENT
DTSTART;TZID=America/New_York:20240516T180000
DTEND;TZID=America/New_York:20240516T200000
DTSTAMP:20260424T220523
CREATED:20230831T154701Z
LAST-MODIFIED:20240516T205103Z
UID:27707-1715882400-1715889600@sbgpartnership.org
SUMMARY:Keys to Capacity Workshop: Board BUILD Leadership Series (Part 4 of 4): Panel Discussion for Executive Directors and Board Leadership (virtual)
DESCRIPTION:Keys to Capacity Workshop: Board BUILD Leadership Series (Part 4 of 4): Panel Discussion for Executive Directors and Board Leadership\nMay 16\, 2024 6:00-8:00PM (virtual)\n \nRegister here. \nAttendees will hear from leading regional nonprofits and their executive board leadership on best practices in governance\, management\, and partnership to provide strong health and growth to the organization. \nIf requesting accommodations for this meeting\, please reach out one week in advance to cemmanuelle@sbgpartnership.org. SBGP will make reasonable accommodations as possible. \nKeys to Capacity with Business Volunteers Maryland: Our Partnership\nSouth Baltimore Gateway Partnership is partnering with Business Volunteers Maryland to provide “Keys to Capacity” professional development workshops. These free virtual or in-person gatherings provide an opportunity for SBGP grantees and other Baltimore-based nonprofits and other organizations to collaborate in an informal\, moderated setting centered around a changing topic related to nonprofit capacity building. \nAbout Business Volunteers Maryland \nBusiness Volunteers helps to build the capacity\, network\, and resources of community organizations by connecting them to the time\, talent\, and support of the business community. Through partnerships with regional companies and their employees\, BVM provides nonprofits and schools free and facilitated connections to volunteers\, consultants\, board members\, trainings\, partnerships\, and more! Every community organization that works with Business Volunteers Maryland must complete a Nonprofit Profile. Complete a Nonprofit Profile
URL:https://sbgpartnership.org/event/keys-to-capacity-workshop-board-build-leadership-series-part4of-4-panel-discussion-for-executive-directors-and-board-leadership-virtual/
CATEGORIES:Workshops
END:VEVENT
BEGIN:VEVENT
DTSTART;TZID=America/New_York:20240527T090000
DTEND;TZID=America/New_York:20240527T170000
DTSTAMP:20260424T220523
CREATED:20231204T165137Z
LAST-MODIFIED:20240527T012121Z
UID:29037-1716800400-1716829200@sbgpartnership.org
SUMMARY:Memorial Day (SBGP Closed)
DESCRIPTION:SBGP is closed for Memorial Day.
URL:https://sbgpartnership.org/event/memorial-day-sbgp-closed-6/
CATEGORIES:Events
END:VEVENT
END:VCALENDAR