BEGIN:VCALENDAR
VERSION:2.0
PRODID:-//South Baltimore Gateway Partnership - ECPv6.15.18//NONSGML v1.0//EN
CALSCALE:GREGORIAN
METHOD:PUBLISH
X-ORIGINAL-URL:https://sbgpartnership.org
X-WR-CALDESC:Events for South Baltimore Gateway Partnership
REFRESH-INTERVAL;VALUE=DURATION:PT1H
X-Robots-Tag:noindex
X-PUBLISHED-TTL:PT1H
BEGIN:VTIMEZONE
TZID:America/New_York
BEGIN:DAYLIGHT
TZOFFSETFROM:-0500
TZOFFSETTO:-0400
TZNAME:EDT
DTSTART:20230312T070000
END:DAYLIGHT
BEGIN:STANDARD
TZOFFSETFROM:-0400
TZOFFSETTO:-0500
TZNAME:EST
DTSTART:20231105T060000
END:STANDARD
BEGIN:DAYLIGHT
TZOFFSETFROM:-0500
TZOFFSETTO:-0400
TZNAME:EDT
DTSTART:20240310T070000
END:DAYLIGHT
BEGIN:STANDARD
TZOFFSETFROM:-0400
TZOFFSETTO:-0500
TZNAME:EST
DTSTART:20241103T060000
END:STANDARD
BEGIN:DAYLIGHT
TZOFFSETFROM:-0500
TZOFFSETTO:-0400
TZNAME:EDT
DTSTART:20250309T070000
END:DAYLIGHT
BEGIN:STANDARD
TZOFFSETFROM:-0400
TZOFFSETTO:-0500
TZNAME:EST
DTSTART:20251102T060000
END:STANDARD
END:VTIMEZONE
BEGIN:VEVENT
DTSTART;TZID=America/New_York:20240101T090000
DTEND;TZID=America/New_York:20240101T170000
DTSTAMP:20260425T031849
CREATED:20231204T165137Z
LAST-MODIFIED:20240101T172221Z
UID:29034-1704099600-1704128400@sbgpartnership.org
SUMMARY:New Year's Day (SBGP Closed)
DESCRIPTION:SBGP is closed for New Year’s Day.
URL:https://sbgpartnership.org/event/new-years-day-sbgp-closed-3/
CATEGORIES:Events
END:VEVENT
BEGIN:VEVENT
DTSTART;TZID=America/New_York:20240102T100000
DTEND;TZID=America/New_York:20240102T100000
DTSTAMP:20260425T031849
CREATED:20231128T175451Z
LAST-MODIFIED:20240101T213601Z
UID:28926-1704189600-1704189600@sbgpartnership.org
SUMMARY:SBGP Community Grants Winter 2024 Cycle 13 Application Opens
DESCRIPTION:Applications for our Winter 2024 Community Grants Cycle 13 open on Tuesday\, January 2\, 2024 at 10:00am and close on Thursday\, February 29\, 2024 at 5:00pm. \nEarly Submission Community Grant Application: Technical Review  \nAny applications submitted before February 14\, 2024 through SBGP’s web portal\, will receive a technical review to ensure that your required documents are correct and meet eligibility requirements for further review. SBGP staff will email you by February 21 to let you know about any missing or incorrect materials. It is encouraged that you read through the grant guidances to avoid needing to resubmit materials. You will have until 5:00pm on February 29\, 2024 to update your application or resubmit necessary materials through SBGP’s web portal. The SBGP Review team will not consider incomplete applications for potential funding. \nLearn more and apply at https://sbgpartnership.org/community-grants/
URL:https://sbgpartnership.org/event/sbgp-community-grants-winter-2024-cycle-13-application-opens/
END:VEVENT
BEGIN:VEVENT
DTSTART;TZID=America/New_York:20240104T120000
DTEND;TZID=America/New_York:20240104T140000
DTSTAMP:20260425T031849
CREATED:20231128T175438Z
LAST-MODIFIED:20240103T192053Z
UID:28919-1704369600-1704376800@sbgpartnership.org
SUMMARY:Community Grants Winter 2024 Info Session #1 (virtual)
DESCRIPTION:  \nCommunity Grants Winter 2024 Info Session #1 (virtual) \nThursday\, January 4\, 2024: 12:00 – 2:00pm \nRegister here.\n\nGet ready to apply for our next round of Community Grants! The Winter 2024 Community Grants Cycle 13 application closes Thursday\, February 29 at 5:00pm. \nJoin us virtually for an application overview and tips for prospective grantees so you can prepare a strong grant proposal. \nIf requesting accommodations for this meeting\, please reach out one week in advance to cemmanuelle@sbgpartnership.org. SBGP will make reasonable accommodations as possible. \n 
URL:https://sbgpartnership.org/event/community-grants-winter-2024-info-session-1-virtual/
CATEGORIES:Workshops
END:VEVENT
BEGIN:VEVENT
DTSTART;TZID=America/New_York:20240109T090000
DTEND;TZID=America/New_York:20240109T110000
DTSTAMP:20260425T031849
CREATED:20231204T191643Z
LAST-MODIFIED:20240108T183614Z
UID:29062-1704790800-1704798000@sbgpartnership.org
SUMMARY:SBGP Strategic Planning Committee
DESCRIPTION:The SBGP Strategic Planning Committee will meet from 9:00 to 11:00 am on the 1st Tuesday of each month in 2024\, unless noted otherwise. This meeting is open to the public\, however\, part or all of the meeting may be conducted in a closed session to discuss matters that the Open Meetings Act permits to be discussed in a closed session. \nThis meeting will take place via screen-sharing conference call. Email brogers@sbgpartnership.org at least 24 hours in advance for call-in instructions. \nIf requesting accommodations for this meeting\, please reach out one week in advance to cemmanuelle@sbgpartnership.org. SBGP will make reasonable accommodations as possible. \nSee agenda here.
URL:https://sbgpartnership.org/event/sbgp-strategic-planning-committee-44/
CATEGORIES:Events
END:VEVENT
BEGIN:VEVENT
DTSTART;TZID=America/New_York:20240111T090000
DTEND;TZID=America/New_York:20240111T100000
DTSTAMP:20260425T031849
CREATED:20231204T191644Z
LAST-MODIFIED:20240110T223649Z
UID:29063-1704963600-1704967200@sbgpartnership.org
SUMMARY:SBGP Finance Committee Meeting
DESCRIPTION:  \nThis meeting is open to the public\, however\, part or all of the meeting may be conducted in a closed session to discuss matters that the Open Meetings Act permits to be discussed in a closed session. \nThis meeting will be held by screen-sharing conference call. Email lmcdade@sbgpartnership.org at least 24 hours in advance to RSVP for the meeting and to request conference call instructions. \nIf requesting accommodations for this meeting\, please reach out one week in advance to cemmanuelle@sbgpartnership.org. SBGP will make reasonable accommodations as possible. \nSee agenda here.
URL:https://sbgpartnership.org/event/sbgp-finance-committee-meeting-94/
CATEGORIES:Events
END:VEVENT
BEGIN:VEVENT
DTSTART;TZID=America/New_York:20240111T090000
DTEND;TZID=America/New_York:20240111T100000
DTSTAMP:20260425T031849
CREATED:20240109T223119Z
LAST-MODIFIED:20240110T223649Z
UID:29498-1704963600-1704967200@sbgpartnership.org
SUMMARY:SBGP Finance Committee Meeting
DESCRIPTION:This meeting is open to the public\, however\, part or all of the meeting may be conducted in a closed session to discuss matters that the Open Meetings Act permits to be discussed in a closed session. \nThis meeting will be held by screen-sharing conference call. Email lmcdade@sbgpartnership.org at least 24 hours in advance to RSVP for the meeting and to request conference call instructions. \nIf requesting accommodations for this meeting\, please reach out one week in advance to cemmanuelle@sbgpartnership.org. SBGP will make reasonable accommodations as possible. \nSee agenda here.
URL:https://sbgpartnership.org/event/sbgp-finance-committee-meeting-106/
CATEGORIES:Events
END:VEVENT
BEGIN:VEVENT
DTSTART;TZID=America/New_York:20240115T090000
DTEND;TZID=America/New_York:20240115T170000
DTSTAMP:20260425T031849
CREATED:20231204T165137Z
LAST-MODIFIED:20240115T182049Z
UID:29035-1705309200-1705338000@sbgpartnership.org
SUMMARY:Birthday of Dr. Martin Luther King\, Jr. (SBGP Closed)
DESCRIPTION:SBGP is closed for the birthday of Dr. Martin Luther King\, Jr.
URL:https://sbgpartnership.org/event/birthday-of-dr-martin-luther-king-jr-sbgp-closed-6/
CATEGORIES:Events
END:VEVENT
BEGIN:VEVENT
DTSTART;TZID=America/New_York:20240117T180000
DTEND;TZID=America/New_York:20240117T200000
DTSTAMP:20260425T031849
CREATED:20231204T191644Z
LAST-MODIFIED:20240117T225239Z
UID:29064-1705514400-1705521600@sbgpartnership.org
SUMMARY:SBGP Board of Directors Meeting (Virtual only)
DESCRIPTION:The SBGP Board of Directors meets at least six times each calendar year. This meeting is open to the public\, however\, part or all of the meeting may be conducted in a closed session to discuss matters that the Open Meetings Act permits to be discussed in a closed session. \nThis meeting will be held virtually.\nEmail epitkow@sbgpartnership.org at least 24 hours in advance to RSVP for the meeting and to request conference call instructions. \nIf requesting accommodations for this meeting\, please reach out one week in advance to cemmanuelle@sbgpartnership.org. SBGP will make reasonable accommodations as possible. \nSee agenda here.
URL:https://sbgpartnership.org/event/sbgp-board-of-directors-meeting-85/
CATEGORIES:Events
END:VEVENT
BEGIN:VEVENT
DTSTART;TZID=America/New_York:20240125T160000
DTEND;TZID=America/New_York:20240125T170000
DTSTAMP:20260425T031849
CREATED:20240119T210915Z
LAST-MODIFIED:20240125T213734Z
UID:29620-1706198400-1706202000@sbgpartnership.org
SUMMARY:SBGP Communications Committee
DESCRIPTION:This meeting is open to the public\, however\, part or all of the meeting may be conducted in a closed session to discuss matters that the Open Meetings Act permits to be discussed in a closed session. \nThis meeting will be held by screen-sharing conference call. Email cemmanuelle@sbgpartnership.org at least 24 hours in advance to RSVP for the meeting and to request conference call instructions \nIf requesting accommodations for this meeting\, please reach out one week in advance to cemmanuelle@sbgpartnership.org. SBGP will make reasonable accommodations as possible. \nSee agenda here.
URL:https://sbgpartnership.org/event/sbgp-communications-committee-12/
CATEGORIES:Events,Meeting
END:VEVENT
BEGIN:VEVENT
DTSTART;TZID=America/New_York:20240125T180000
DTEND;TZID=America/New_York:20240125T200000
DTSTAMP:20260425T031849
CREATED:20230831T154701Z
LAST-MODIFIED:20240125T195252Z
UID:27703-1706205600-1706212800@sbgpartnership.org
SUMMARY:Keys to Capacity Workshop: Bookkeeping & Finances Part 2 (Virtual only)
DESCRIPTION:Keys to Capacity Workshop: Bookkeeping & Finances Part 2 with Baltimore Fiscal Partners\nJanuary 25\, 2024 6:00-8:00PM (Virtual only)\n \nRegister here. \nPart 2 of a two-part series for individuals serving nonprofits that want to better understand their organization’s finances and how implementing best practices can help their organization be even more successful and transformative within their communities. \nFor Part 2\, ideal attendees will be individuals who attended Part 1 and individuals whose nonprofit organizations have established financial systems and want to learn more about implementing best practices and getting their organization ready for potential audits or financial reviews. \nDuring this workshop\, participants will: \n\nExplore best practices for nonprofit accounting and learn more about financial policies that organizations should have\nIncrease their understanding of the use of nonprofit financial statements and grant fund reporting\nIdentify what is involved in a nonprofit audit or financial review\n\nEach participating organization will be invited to schedule a follow-up technical consulting meeting to explore and support your organization’s bookkeeping and finances strengths and areas of improvement \nFacilitating: Baltimore Fiscal Partners – Emilie Drasher \nIf requesting accommodations for this meeting\, please reach out one week in advance to cemmanuelle@sbgpartnership.org. SBGP will make reasonable accommodations as possible.
URL:https://sbgpartnership.org/event/keys-to-capacity-workshop-bookkeeping-finances-part-2-hybrid/
CATEGORIES:Workshops
END:VEVENT
END:VCALENDAR