BEGIN:VCALENDAR
VERSION:2.0
PRODID:-//South Baltimore Gateway Partnership - ECPv6.15.18//NONSGML v1.0//EN
CALSCALE:GREGORIAN
METHOD:PUBLISH
X-ORIGINAL-URL:https://sbgpartnership.org
X-WR-CALDESC:Events for South Baltimore Gateway Partnership
REFRESH-INTERVAL;VALUE=DURATION:PT1H
X-Robots-Tag:noindex
X-PUBLISHED-TTL:PT1H
BEGIN:VTIMEZONE
TZID:America/New_York
BEGIN:DAYLIGHT
TZOFFSETFROM:-0500
TZOFFSETTO:-0400
TZNAME:EDT
DTSTART:20220313T070000
END:DAYLIGHT
BEGIN:STANDARD
TZOFFSETFROM:-0400
TZOFFSETTO:-0500
TZNAME:EST
DTSTART:20221106T060000
END:STANDARD
BEGIN:DAYLIGHT
TZOFFSETFROM:-0500
TZOFFSETTO:-0400
TZNAME:EDT
DTSTART:20230312T070000
END:DAYLIGHT
BEGIN:STANDARD
TZOFFSETFROM:-0400
TZOFFSETTO:-0500
TZNAME:EST
DTSTART:20231105T060000
END:STANDARD
BEGIN:DAYLIGHT
TZOFFSETFROM:-0500
TZOFFSETTO:-0400
TZNAME:EDT
DTSTART:20240310T070000
END:DAYLIGHT
BEGIN:STANDARD
TZOFFSETFROM:-0400
TZOFFSETTO:-0500
TZNAME:EST
DTSTART:20241103T060000
END:STANDARD
END:VTIMEZONE
BEGIN:VTIMEZONE
TZID:UTC
BEGIN:STANDARD
TZOFFSETFROM:+0000
TZOFFSETTO:+0000
TZNAME:UTC
DTSTART:20220101T000000
END:STANDARD
END:VTIMEZONE
BEGIN:VEVENT
DTSTART;TZID=America/New_York:20230501T180000
DTEND;TZID=America/New_York:20230501T190000
DTSTAMP:20260425T150105
CREATED:20221207T220415Z
LAST-MODIFIED:20230501T213635Z
UID:21250-1682964000-1682967600@sbgpartnership.org
SUMMARY:SGBP Program Committee Meeting
DESCRIPTION:This meeting is open to the public\, however\, part or all of the meeting may be conducted in a closed session to discuss matters that the Open Meetings Act permits to be discussed in a closed session. \nThis meeting will take place via screen sharing conference call. For call-in instructions email aasbell@sbgpartnership.org. \nIf requesting accommodations for this meeting\, please reach out one week in advance to cemmanuelle@sbgpartnership.org. SBGP will make reasonable accommodations as possible. \nSee agenda here.
URL:https://sbgpartnership.org/event/sgbp-program-committee-meeting-28/
CATEGORIES:Events,Meeting
END:VEVENT
BEGIN:VEVENT
DTSTART;TZID=America/New_York:20230502T090000
DTEND;TZID=America/New_York:20230502T110000
DTSTAMP:20260425T150105
CREATED:20221207T220912Z
LAST-MODIFIED:20230501T213635Z
UID:21329-1683018000-1683025200@sbgpartnership.org
SUMMARY:SBGP Strategic Planning Committee
DESCRIPTION:The SBGP Strategic Planning Committee will meet from 9:00 to 11:00 am on the 1st Tuesday of each month in 2023. This meeting is open to the public\, however\, part or all of the meeting may be conducted in a closed session to discuss matters that the Open Meetings Act permits to be discussed in a closed session. \nThis meeting will take place via screen-sharing conference call. Email brogers@sbgpartnership.org at least 24 hours in advance for call-in instructions. \nIf requesting accommodations for this meeting\, please reach out one week in advance to cemmanuelle@sbgpartnership.org. SBGP will make reasonable accommodations as possible. \nSee agenda here.
URL:https://sbgpartnership.org/event/sbgp-strategic-planning-committee-32/
CATEGORIES:Events
END:VEVENT
BEGIN:VEVENT
DTSTART;TZID=UTC:20230511T090000
DTEND;TZID=UTC:20230511T100000
DTSTAMP:20260425T150105
CREATED:20230414T210743Z
LAST-MODIFIED:20230509T202453Z
UID:22975-1683795600-1683799200@sbgpartnership.org
SUMMARY:SBGP Finance Committee Meeting
DESCRIPTION:This meeting is open to the public\, however\, part or all of the meeting may be conducted in a closed session to discuss matters that the Open Meetings Act permits to be discussed in a closed session. \nThis meeting will be held by screen-sharing conference call. Email lmcdade@sbgpartnership.org at least 24 hours in advance to RSVP for the meeting and to request conference call instructions. \nIf requesting accommodations for this meeting\, please reach out one week in advance to cemmanuelle@sbgpartnership.org. SBGP will make reasonable accommodations as possible. \nSee agenda here.
URL:https://sbgpartnership.org/event/sbgp-finance-committee-meeting-81/
CATEGORIES:Meeting
END:VEVENT
BEGIN:VEVENT
DTSTART;TZID=UTC:20230511T140000
DTEND;TZID=UTC:20230511T150000
DTSTAMP:20260425T150105
CREATED:20230414T202942Z
LAST-MODIFIED:20230426T162817Z
UID:22912-1683813600-1683817200@sbgpartnership.org
SUMMARY:SBGP Executive Committee Meeting
DESCRIPTION:This meeting is open to the public\, however\, part or all of the meeting may be conducted in a closed session to discuss matters that the Open Meetings Act permits to be discussed in a closed session. \nThis meeting will be held virtually. Email epitkow@sbgpartnership.org at least 24 hours in advance to RSVP for the meeting and to request conference call instructions. \nIf requesting accommodations for this meeting\, please reach out one week in advance to cemmanuelle@sbgpartnership.org. SBGP will make reasonable accommodations as possible. \nSee agenda here.
URL:https://sbgpartnership.org/event/sbgp-executive-committee-meeting-7/
CATEGORIES:Meeting
END:VEVENT
BEGIN:VEVENT
DTSTART;TZID=America/New_York:20230511T160000
DTEND;TZID=America/New_York:20230511T170000
DTSTAMP:20260425T150105
CREATED:20230404T160359Z
LAST-MODIFIED:20230510T215239Z
UID:22773-1683820800-1683824400@sbgpartnership.org
SUMMARY:SBGP Communications Committee
DESCRIPTION:This meeting is open to the public\, however\, part or all of the meeting may be conducted in a closed session to discuss matters that the Open Meetings Act permits to be discussed in a closed session. \nThis meeting will be held by screen-sharing conference call. Email cemmanuelle@sbgpartnership.org at least 24 hours in advance to RSVP for the meeting and to request conference call instructions \nIf requesting accommodations for this meeting\, please reach out one week in advance to cemmanuelle@sbgpartnership.org. SBGP will make reasonable accommodations as possible. \nSee agenda here.
URL:https://sbgpartnership.org/event/sbgp-communications-committee-9/
CATEGORIES:Events
END:VEVENT
BEGIN:VEVENT
DTSTART;TZID=America/New_York:20230517T180000
DTEND;TZID=America/New_York:20230517T200000
DTSTAMP:20260425T150105
CREATED:20230209T203418Z
LAST-MODIFIED:20230517T222133Z
UID:22261-1684346400-1684353600@sbgpartnership.org
SUMMARY:SBGP Board of Directors Meeting
DESCRIPTION:  \nThe SBGP Board of Directors meets at least six times each calendar year. This meeting is open to the public\, however\, part or all of the meeting may be conducted in a closed session to discuss matters that the Open Meetings Act permits to be discussed in a closed session. \nThis meeting will be held in-person at Groundwork Kitchen with a virtual option.\nEmail epitkow@sbgpartnership.org at least 24 hours in advance to RSVP for the meeting and to request conference call instructions. \nIn-person meeting attendees are expected to be vaccinated. Masks are welcome but not required. There are both stairs and a ramp to access the front entrance and an elevator inside to access the second floor. The bathroom is ADA accessible. \nIf requesting accommodations for this meeting\, please reach out one week in advance to cemmanuelle@sbgpartnership.org. SBGP will make reasonable accommodations as possible. \nSee agenda here.
URL:https://sbgpartnership.org/event/sbgp-board-of-directors-meeting-79/
LOCATION:Groundwork Kitchen\, 925 Washington Blvd\, Baltimore\, MD 21230\, USA
CATEGORIES:Events
END:VEVENT
BEGIN:VEVENT
DTSTART;TZID=America/New_York:20230520T140000
DTEND;TZID=America/New_York:20230520T160000
DTSTAMP:20260425T150105
CREATED:20230504T053642Z
LAST-MODIFIED:20230520T055134Z
UID:23165-1684591200-1684598400@sbgpartnership.org
SUMMARY:Community Input Meeting #2 – Conway Street Park North Plaza Project (in-person\, outside)
DESCRIPTION:Community Input Meeting #2 – Conway Street Park North Plaza Project (in-person\, outside)\nJoin the South Baltimore Gateway Partnership and Ridgely’s Delight\, in partnership with EnviroCollab and CityScape Engineering for a second input session to discuss the master plan  and schematic design for the Northern Plaza of Conway Street Park! This afternoon gathering and design workshop will take place on Saturday\, May 20th in-person\, outside in Conway Street Park (601 W. Conway St.\, Baltimore\, MD 21230) with kids’ art activities! Rain date is Sunday\, May 21st from 2:00 – 4:00pm. BYO snacks and beverages. Read the FAQs about this project here. \nAt the event: \n\nThe draft Master Plan and North Plaza Concept Design Plan will be displayed on boards for community input via sticky notes.\nFor additional feedback the Design Team will share proposed selections for North Plaza materials relative to site furnishings\, hardscape\, and planting.\nThe input gleaned from that event will inform the final Master Plan\, and the Schematic Design documents for North Plaza\, which will move into future phases of documentation for construction.\n\nThe presentation from the first meeting (held April 17th\, 2023) is now available. \nClick here to view the presentation \nAbout the project: In the mid-1980s\, brick paving was added to the neighborhood in conjunction with the redesign of Martin Luther King Jr. Blvd. Everything south of Conway Street was torn down to create the highway right of way\, and some of that area became Conway Street Park where the State planted trees and put in brick sidewalks. Conway Street Park is approximately 70\,666 square feet and the adjoining brick plaza on the residential side is 6\,800 square feet. The brick\, “North Plaza\,” is currently in disrepair\, limiting its potential as an inclusive\, beautiful community gathering space. This project will design a restored North Plaza\, an improved\, ADA accessible\, usable space for the community that will also support tree health and minimize root impact on the future Plaza’s surface. \nFor questions about this project\, contact Liz Cornish\, SBGP Enhanced Services Director: lcornish@sbgpartnership.org \nIf requesting accommodations for this meeting\, please reach out one week in advance to cemmanuelle@sbgpartnership.org. SBGP will make reasonable accommodations as possible.
URL:https://sbgpartnership.org/event/community-input-meeting-2-conway-street-park-north-plaza-project-in-person-outside-2/
LOCATION:601 W Conway St\, Baltimore\, MD 21230\, USA
CATEGORIES:Events,Meeting
END:VEVENT
BEGIN:VEVENT
DTSTART;TZID=America/New_York:20230529T090000
DTEND;TZID=America/New_York:20230529T170000
DTSTAMP:20260425T150105
CREATED:20221207T220431Z
LAST-MODIFIED:20230529T082236Z
UID:21288-1685350800-1685379600@sbgpartnership.org
SUMMARY:Memorial Day (SBGP Closed)
DESCRIPTION:SBGP is closed for Memorial Day.
URL:https://sbgpartnership.org/event/memorial-day-sbgp-closed-5/
CATEGORIES:Events
END:VEVENT
END:VCALENDAR