BEGIN:VCALENDAR
VERSION:2.0
PRODID:-//South Baltimore Gateway Partnership - ECPv6.15.18//NONSGML v1.0//EN
CALSCALE:GREGORIAN
METHOD:PUBLISH
X-WR-CALNAME:South Baltimore Gateway Partnership
X-ORIGINAL-URL:https://sbgpartnership.org
X-WR-CALDESC:Events for South Baltimore Gateway Partnership
REFRESH-INTERVAL;VALUE=DURATION:PT1H
X-Robots-Tag:noindex
X-PUBLISHED-TTL:PT1H
BEGIN:VTIMEZONE
TZID:America/New_York
BEGIN:DAYLIGHT
TZOFFSETFROM:-0500
TZOFFSETTO:-0400
TZNAME:EDT
DTSTART:20220313T070000
END:DAYLIGHT
BEGIN:STANDARD
TZOFFSETFROM:-0400
TZOFFSETTO:-0500
TZNAME:EST
DTSTART:20221106T060000
END:STANDARD
BEGIN:DAYLIGHT
TZOFFSETFROM:-0500
TZOFFSETTO:-0400
TZNAME:EDT
DTSTART:20230312T070000
END:DAYLIGHT
BEGIN:STANDARD
TZOFFSETFROM:-0400
TZOFFSETTO:-0500
TZNAME:EST
DTSTART:20231105T060000
END:STANDARD
BEGIN:DAYLIGHT
TZOFFSETFROM:-0500
TZOFFSETTO:-0400
TZNAME:EDT
DTSTART:20240310T070000
END:DAYLIGHT
BEGIN:STANDARD
TZOFFSETFROM:-0400
TZOFFSETTO:-0500
TZNAME:EST
DTSTART:20241103T060000
END:STANDARD
END:VTIMEZONE
BEGIN:VEVENT
DTSTART;TZID=America/New_York:20230102T090000
DTEND;TZID=America/New_York:20230102T170000
DTSTAMP:20260425T194816
CREATED:20221207T220431Z
LAST-MODIFIED:20230102T000630Z
UID:21285-1672650000-1672678800@sbgpartnership.org
SUMMARY:New Year's Day Observed (SBGP Closed)
DESCRIPTION:SBGP is closed in observance of New Year's Day.
URL:https://sbgpartnership.org/event/new-years-day-observed-sbgp-closed-2/
CATEGORIES:Events
END:VEVENT
BEGIN:VEVENT
DTSTART;TZID=America/New_York:20230102T100000
DTEND;TZID=America/New_York:20230102T100000
DTSTAMP:20260425T194816
CREATED:20221121T155936Z
LAST-MODIFIED:20230102T010359Z
UID:21028-1672653600-1672653600@sbgpartnership.org
SUMMARY:SBGP Community Grant Winter 2023 Cycle 11 Application Opens
DESCRIPTION:Applications for our Winter 2023 Community Grant Cycle 11 will open on Monday\, January 2\, 2023 at 10:00am and close on Tuesday\, February 28\, 2023 at 5:00pm. \nLearn more and apply at https://sbgpartnership.org/community-grants/
URL:https://sbgpartnership.org/event/sbgp-community-grant-winter-2023-cycle-11-application-opens/
END:VEVENT
BEGIN:VEVENT
DTSTART;TZID=America/New_York:20230103T090000
DTEND;TZID=America/New_York:20230103T110000
DTSTAMP:20260425T194816
CREATED:20221207T220412Z
LAST-MODIFIED:20230103T002324Z
UID:21230-1672736400-1672743600@sbgpartnership.org
SUMMARY:SBGP Strategic Planning Committee
DESCRIPTION:  \nThe SBGP Strategic Planning Committee will meet from 9:00 to 11:00 am on the 1st Tuesday of each month in 2023. This meeting is open to the public\, however\, part or all of the meeting may be conducted in a closed session to discuss matters that the Open Meetings Act permits to be discussed in a closed session. \nThis meeting will take place via screen-sharing conference call. Email brogers@sbgpartnership.org at least 24 hours in advance for call-in instructions. \nIf requesting accommodations for this meeting\, please reach out one week in advance to cemmanuelle@sbgpartnership.org. SBGP will make reasonable accommodations as possible.\n\nSee the agenda here. \n 
URL:https://sbgpartnership.org/event/sbgp-strategic-planning-committee-19/
CATEGORIES:Events
END:VEVENT
BEGIN:VEVENT
DTSTART;TZID=America/New_York:20230109T180000
DTEND;TZID=America/New_York:20230109T190000
DTSTAMP:20260425T194816
CREATED:20221207T220412Z
LAST-MODIFIED:20230109T203256Z
UID:21232-1673287200-1673290800@sbgpartnership.org
SUMMARY:SGBP Program Committee Meeting
DESCRIPTION:This meeting is open to the public\, however\, part or all of the meeting may be conducted in a closed session to discuss matters that the Open Meetings Act permits to be discussed in a closed session. \nThis meeting will take place via screen sharing conference call. For call-in instructions email aasbell@sbgpartnership.org. \nIf requesting accommodations for this meeting\, please reach out one week in advance to cemmanuelle@sbgpartnership.org. SBGP will make reasonable accommodations as possible. \nSee agenda here.
URL:https://sbgpartnership.org/event/sgbp-program-committee-meeting-24/
CATEGORIES:Events
END:VEVENT
BEGIN:VEVENT
DTSTART;TZID=America/New_York:20230116T090000
DTEND;TZID=America/New_York:20230116T170000
DTSTAMP:20260425T194816
CREATED:20221207T220431Z
LAST-MODIFIED:20230116T011901Z
UID:21286-1673859600-1673888400@sbgpartnership.org
SUMMARY:Birthday of Dr. Martin Luther King\, Jr. (SBGP Closed)
DESCRIPTION:SBGP is closed for the birthday of Dr. Martin Luther King\, Jr.
URL:https://sbgpartnership.org/event/birthday-of-dr-martin-luther-king-jr-sbgp-closed-5/
CATEGORIES:Events
END:VEVENT
BEGIN:VEVENT
DTSTART;TZID=America/New_York:20230118T180000
DTEND;TZID=America/New_York:20230118T200000
DTSTAMP:20260425T194816
CREATED:20230106T194120Z
LAST-MODIFIED:20230118T210343Z
UID:21756-1674064800-1674072000@sbgpartnership.org
SUMMARY:SBGP Board of Directors Meeting
DESCRIPTION:  \nThe SBGP Board of Directors meets at least six times each calendar year. This meeting is open to the public\, however\, part or all of the meeting may be conducted in a closed session to discuss matters that the Open Meetings Act permits to be discussed in a closed session. \nThis meeting will be held in-person at Groundwork Kitchen with a virtual option.\nEmail epitkow@sbgpartnership.org at least 24 hours in advance to RSVP for the meeting and to request conference call instructions. \nIn-person meeting attendees are expected to be vaccinated. Masks are welcome but not required. \nIf requesting accommodations for this meeting\, please reach out one week in advance to cemmanuelle@sbgpartnership.org. SBGP will make reasonable accommodations as possible. \nSee agenda here.
URL:https://sbgpartnership.org/event/sbgp-board-of-directors-meeting-76/
LOCATION:925 Washington Blvd\, Baltimore\, MD 21230\, USA
CATEGORIES:Events
END:VEVENT
BEGIN:VEVENT
DTSTART;TZID=America/New_York:20230124T160000
DTEND;TZID=America/New_York:20230124T170000
DTSTAMP:20260425T194816
CREATED:20230120T150613Z
LAST-MODIFIED:20230124T153640Z
UID:21949-1674576000-1674579600@sbgpartnership.org
SUMMARY:SBGP Communications Committee
DESCRIPTION:This meeting is open to the public\, however\, part or all of the meeting may be conducted in a closed session to discuss matters that the Open Meetings Act permits to be discussed in a closed session. \nThis meeting will be held by screen-sharing conference call. Email cemmanuelle@sbgpartnership.org at least 24 hours in advance to RSVP for the meeting and to request conference call instructions \nIf requesting accommodations for this meeting\, please reach out one week in advance to cemmanuelle@sbgpartnership.org. SBGP will make reasonable accommodations as possible. \nSee agenda here.
URL:https://sbgpartnership.org/event/sbgp-communications-committee-6/
CATEGORIES:Events
END:VEVENT
BEGIN:VEVENT
DTSTART;TZID=America/New_York:20230126T120000
DTEND;TZID=America/New_York:20230126T133000
DTSTAMP:20260425T194816
CREATED:20221216T163450Z
LAST-MODIFIED:20230125T222045Z
UID:21518-1674734400-1674739800@sbgpartnership.org
SUMMARY:Community Grant Cycle 11 Info Session #2 (virtual)
DESCRIPTION:Community Grant Cycle 11 Info Session #2 (virtual) \nThursday\, January 26\, 2023: 12:00 – 1:30pm \nRegister here.Get ready to apply for our next round of Community Grants! The Winter 2023 Community Grant Cycle 11 application closes Tuesday\, February 28 at 5:00pm. \nJoin us virtually for an application overview and tips for prospective grantees so you can prepare a strong grant proposal.  \n \nIf requesting accommodations for this meeting\, please reach out one week in advance to cemmanuelle@sbgpartnership.org. SBGP will make reasonable accommodations as possible.
URL:https://sbgpartnership.org/event/community-grant-cycle-11-info-session-2-virtual/
END:VEVENT
END:VCALENDAR