BEGIN:VCALENDAR
VERSION:2.0
PRODID:-//South Baltimore Gateway Partnership - ECPv6.15.18//NONSGML v1.0//EN
CALSCALE:GREGORIAN
METHOD:PUBLISH
X-ORIGINAL-URL:https://sbgpartnership.org
X-WR-CALDESC:Events for South Baltimore Gateway Partnership
REFRESH-INTERVAL;VALUE=DURATION:PT1H
X-Robots-Tag:noindex
X-PUBLISHED-TTL:PT1H
BEGIN:VTIMEZONE
TZID:America/New_York
BEGIN:DAYLIGHT
TZOFFSETFROM:-0500
TZOFFSETTO:-0400
TZNAME:EDT
DTSTART:20210314T070000
END:DAYLIGHT
BEGIN:STANDARD
TZOFFSETFROM:-0400
TZOFFSETTO:-0500
TZNAME:EST
DTSTART:20211107T060000
END:STANDARD
BEGIN:DAYLIGHT
TZOFFSETFROM:-0500
TZOFFSETTO:-0400
TZNAME:EDT
DTSTART:20220313T070000
END:DAYLIGHT
BEGIN:STANDARD
TZOFFSETFROM:-0400
TZOFFSETTO:-0500
TZNAME:EST
DTSTART:20221106T060000
END:STANDARD
BEGIN:DAYLIGHT
TZOFFSETFROM:-0500
TZOFFSETTO:-0400
TZNAME:EDT
DTSTART:20230312T070000
END:DAYLIGHT
BEGIN:STANDARD
TZOFFSETFROM:-0400
TZOFFSETTO:-0500
TZNAME:EST
DTSTART:20231105T060000
END:STANDARD
END:VTIMEZONE
BEGIN:VEVENT
DTSTART;TZID=America/New_York:20221201T180000
DTEND;TZID=America/New_York:20221201T200000
DTSTAMP:20260425T210433
CREATED:20220517T232753Z
LAST-MODIFIED:20221201T223224Z
UID:17141-1669917600-1669924800@sbgpartnership.org
SUMMARY:SBGP Nonprofit Boot Camp: Tracking & Evaluation
DESCRIPTION:Evaluation can be viewed as the “secret ingredient” to engaging residents\, volunteers\, and donors. During this workshop participants will: \n\nExplore program evaluation models that helps your organization communicate its success\, challenges\, lesson learned and partnerships.\nAssess existing approaches to outcome evaluation and effectiveness of current tools used within your organization.\nIdentify ways to highlight your organizations’ work and improve data collection that is simplified within the nonprofits existing practices\n\nEach participating organization will be invited to schedule a follow-up technical consulting meeting to explore and support your organization’s evaluation strengths and areas of improvement. \nIf requesting accommodations for this meeting\, please reach out one week in advance to cemmanuelle@sbgpartnership.org. SBGP will make reasonable accommodations as possible. \nRegister here.
URL:https://sbgpartnership.org/event/sbgp-nonprofit-bootcamp-tracking-evaluation/
END:VEVENT
BEGIN:VEVENT
DTSTART;TZID=America/New_York:20221205T180000
DTEND;TZID=America/New_York:20221205T193000
DTSTAMP:20260425T210433
CREATED:20221129T213514Z
LAST-MODIFIED:20221205T214856Z
UID:21135-1670263200-1670268600@sbgpartnership.org
SUMMARY:Reimagine Middle Branch Public Info Session
DESCRIPTION:Join us for a Reimagine Middle Branch Public Information Session! \nThe project team has been working hard to develop and enhance the Reimagine Middle Branch plan with the community feedback that we received. You may view the draft of The Reimagine Middle Branch Plan on the Reimagine Middle Branch website: https://www.reimaginemb.com/plan \nOn either Monday\, December 5th \, or Tuesday\, December 6th from 6:00 PM- 7:30 PM\, join the Reimagine Middle Branch team as we host a virtual public information session. At this meeting project team members will present a draft Reimagine Middle Branch Plan and updated design concepts gathered from more than a year’s worth of community input! \nThis event is free! Please RSVP today and join us in exploring the future of South Baltimore!https://www.eventbrite.com/e/reimagine-middle-branch-virtual-public-information-sessions-125-126-tickets-468036358347?aff=sociamedia \nIf you have questions about the virtual meeting or the Reimagine Middle Branch project\, please contact info@reimaginemb.com. \nAbout the Reimagine Middle Branch Plan: \nReimagine Middle Branch is a community-driven initiative to reconnect South Baltimore to its 11+ miles of shoreline along the Patapsco River. The Plan involves designing a network of world-class parks\, trails\, and programs\, while fostering connections and economic opportunity in adjacent neighborhoods. \n________________________ \nDo you need ADA support services (i.e.\, auxiliary aids\, services\, or accommodations) for this meeting? Please contact (Elsa Arias\, 240-583-7922) at least 72 hours in advance of the meeting.\nNotice on Limited English Proficiency Compliance: Anyone planning to attend the meeting and is limited in their ability to speak or understand English and wishes to receive translation services is invited to contact (Elsa Arias\, ElsaA@assedollc.com\, 240-583-7922) at least 72 hours in advance of the meeting. \n\n¿Necesita servicios de asistencia auditiva\, adaptaciones auxiliares o servicios relacionados con la Ley sobre Estadounidenses con Discapacidades (ADA) para esta reunión? Contacte a Elsa Arias\, ElsaA@assedollc.com\, 240-583-792\, al menos 72 horas antes de la reunión.\nAviso sobre el cumplimiento de los requisitos de dominio limitado del inglés: Cualquier persona que tenga previsto asistir a la reunión y tenga una limitación en su capacidad para hablar o entender el inglés y desee recibir servicios de traducción/interpretación\, favor de ponerse en contacto con Elsa Arias\, ElsaA@assedollc.com\, 240-583-7922\, al menos 72 horas antes de la reunión.
URL:https://sbgpartnership.org/event/reimagine-middle-branch-public-info-session/
CATEGORIES:Events
END:VEVENT
BEGIN:VEVENT
DTSTART;TZID=America/New_York:20221206T180000
DTEND;TZID=America/New_York:20221206T193000
DTSTAMP:20260425T210433
CREATED:20221129T213515Z
LAST-MODIFIED:20221206T214716Z
UID:21136-1670349600-1670355000@sbgpartnership.org
SUMMARY:Reimagine Middle Branch Public Info Session
DESCRIPTION:Join us for a Reimagine Middle Branch Public Information Session! \nThe project team has been working hard to develop and enhance the Reimagine Middle Branch plan with the community feedback that we received. You may view the draft of The Reimagine Middle Branch Plan on the Reimagine Middle Branch website: https://www.reimaginemb.com/plan \nOn either Monday\, December 5th \, or Tuesday\, December 6th from 6:00 PM- 7:30 PM\, join the Reimagine Middle Branch team as we host a virtual public information session. At this meeting project team members will present a draft Reimagine Middle Branch Plan and updated design concepts gathered from more than a year's worth of community input! \nThis event is free! Please RSVP today and join us in exploring the future of South Baltimore!https://www.eventbrite.com/e/reimagine-middle-branch-virtual-public-information-sessions-125-126-tickets-468036358347?aff=sociamedia \nIf you have questions about the virtual meeting or the Reimagine Middle Branch project\, please contact info@reimaginemb.com. \nAbout the Reimagine Middle Branch Plan: \nReimagine Middle Branch is a community-driven initiative to reconnect South Baltimore to its 11+ miles of shoreline along the Patapsco River. The Plan involves designing a network of world-class parks\, trails\, and programs\, while fostering connections and economic opportunity in adjacent neighborhoods. \n________________________ \nDo you need ADA support services (i.e.\, auxiliary aids\, services\, or accommodations) for this meeting? Please contact (Elsa Arias\, 240-583-7922) at least 72 hours in advance of the meeting.Notice on Limited English Proficiency Compliance: Anyone planning to attend the meeting and is limited in their ability to speak or understand English and wishes to receive translation services is invited to contact (Elsa Arias\, ElsaA@assedollc.com\, 240-583-7922) at least 72 hours in advance of the meeting. \n¿Necesita servicios de asistencia auditiva\, adaptaciones auxiliares o servicios relacionados con la Ley sobre Estadounidenses con Discapacidades (ADA) para esta reunión? Contacte a Elsa Arias\, ElsaA@assedollc.com\, 240-583-792\, al menos 72 horas antes de la reunión.Aviso sobre el cumplimiento de los requisitos de dominio limitado del inglés: Cualquier persona que tenga previsto asistir a la reunión y tenga una limitación en su capacidad para hablar o entender el inglés y desee recibir servicios de traducción/interpretación\, favor de ponerse en contacto con Elsa Arias\, ElsaA@assedollc.com\, 240-583-7922\, al menos 72 horas antes de la reunión.
URL:https://sbgpartnership.org/event/reimagine-middle-branch-public-info-session-2/
CATEGORIES:Events
END:VEVENT
BEGIN:VEVENT
DTSTART;TZID=America/New_York:20221208T180000
DTEND;TZID=America/New_York:20221208T200000
DTSTAMP:20260425T210433
CREATED:20221117T224451Z
LAST-MODIFIED:20221208T223431Z
UID:20940-1670522400-1670529600@sbgpartnership.org
SUMMARY:Keys to Capacity Workshop: BoardBUILD with Business Volunteers of Maryland
DESCRIPTION:Keys to Capacity Workshop: BoardBUILD with Business Volunteers of Maryland\nDecember 8\, 2022 6:00 – 8:00pm  (virtual only) \nRegister here. \nIn BoardBUILD\, Business Volunteers directs a critical learning experience for nonprofit leaders on board governance. \nThis free\, virtual offering will provide attendees with: \n\nthe knowledge of individual roles and responsibilities of members of Board of Directors;\na comprehensive experience that will focus heavily on the board’s role in financial oversight\, fiduciary responsibility\, and conflict of interest; and\nan understanding of the importance of leveraging the business acumen and expertise of board members to expand the capacity and capabilities of the nonprofit organization they serve.\n\nJoin us to learn the questions to ask to ensure your board and nonprofit are operating effectively\, as well as the warning signs that may indicate there is trouble and it’s time to reconnect and re-engage board members. The training uses will use a variety of case studies and exercises to provide a relevant and engaging and tool-building experience for attendees. This workshop will be facilitated\, brought to facilitated by Business Volunteers Maryland\, a nonprofit organization leading the charge on community by engagement by making strategic connections between people\, businesses\, and nonprofits. \nIf requesting accommodations for workshops\, please reach out one week in advance to cemmanuelle@sbgpartnership.org. SBGP will make reasonable accommodations as possible.
URL:https://sbgpartnership.org/event/keys-to-capacity-workshop-boardbuild-with-business-volunteers-of-maryland/
CATEGORIES:Workshops
END:VEVENT
BEGIN:VEVENT
DTSTART;TZID=America/New_York:20221214T180000
DTEND;TZID=America/New_York:20221214T200000
DTSTAMP:20260425T210433
CREATED:20211102T183343Z
LAST-MODIFIED:20221214T233318Z
UID:13200-1671040800-1671048000@sbgpartnership.org
SUMMARY:SBGP Board of Directors Meeting
DESCRIPTION:The SBGP Board of Directors meets at least six times each calendar year. This meeting is open to the public\, however\, part or all of the meeting may be conducted in a closed session to discuss matters that the Open Meetings Act permits to be discussed in a closed session. \nThis meeting will be held in-person at Groundwork Kitchen with a virtual option. Email epitkow@sbgpartnership.org at least 24 hours in advance to RSVP for the meeting and to request conference call instructions. \nIn-person meeting attendees are expected to be vaccinated. Masks are welcome but not required. \nIf requesting accommodations for this meeting\, please reach out one week in advance to cemmanuelle@sbgpartnership.org. SBGP will make reasonable accommodations as possible.\n\nSee agenda here.
URL:https://sbgpartnership.org/event/sbgp-board-of-directors-meeting-53/
LOCATION:Groundwork Kitchen\, 925 Washington Blvd\, Baltimore\, MD\, 21230
CATEGORIES:Events
END:VEVENT
BEGIN:VEVENT
DTSTART;TZID=America/New_York:20221215T180000
DTEND;TZID=America/New_York:20221215T200000
DTSTAMP:20260425T210433
CREATED:20221118T211846Z
LAST-MODIFIED:20221215T230302Z
UID:20959-1671127200-1671134400@sbgpartnership.org
SUMMARY:Community Grant Cycle 11 Info Session (virtual)
DESCRIPTION:Community Grant Cycle 11 Info Session\nThursday\, December 15\, 2022: 6:00- 8:00pm (virtual) \nGet ready to apply for our next round of Community Grants! The Winter 2023 Community Grant Cycle 11 application opens Monday\, January 2 at 10:00am and closes Tuesday\, February 28 at 5:00pm. \nJoin us virtually for an application overview and tips for prospective grantees so you can prepare a strong grant proposal. Register here. \nIf requesting accommodations for this meeting\, please reach out one week in advance to cemmanuelle@sbgpartnership.org. SBGP will make reasonable accommodations as possible.
URL:https://sbgpartnership.org/event/community-grant-cycle-11-info-session-virtual/
END:VEVENT
BEGIN:VEVENT
DTSTART;TZID=America/New_York:20221226T090000
DTEND;TZID=America/New_York:20221226T170000
DTSTAMP:20260425T210433
CREATED:20211102T183353Z
LAST-MODIFIED:20221224T231734Z
UID:13253-1672045200-1672074000@sbgpartnership.org
SUMMARY:Christmas Day Observed (SBGP Closed)
DESCRIPTION:SBGP is closed in observance of Christmas Day.
URL:https://sbgpartnership.org/event/christmas-day-observed-sbgp-closed-2/
CATEGORIES:Events
END:VEVENT
END:VCALENDAR