BEGIN:VCALENDAR
VERSION:2.0
PRODID:-//South Baltimore Gateway Partnership - ECPv6.15.18//NONSGML v1.0//EN
CALSCALE:GREGORIAN
METHOD:PUBLISH
X-WR-CALNAME:South Baltimore Gateway Partnership
X-ORIGINAL-URL:https://sbgpartnership.org
X-WR-CALDESC:Events for South Baltimore Gateway Partnership
REFRESH-INTERVAL;VALUE=DURATION:PT1H
X-Robots-Tag:noindex
X-PUBLISHED-TTL:PT1H
BEGIN:VTIMEZONE
TZID:America/New_York
BEGIN:DAYLIGHT
TZOFFSETFROM:-0500
TZOFFSETTO:-0400
TZNAME:EDT
DTSTART:20210314T070000
END:DAYLIGHT
BEGIN:STANDARD
TZOFFSETFROM:-0400
TZOFFSETTO:-0500
TZNAME:EST
DTSTART:20211107T060000
END:STANDARD
BEGIN:DAYLIGHT
TZOFFSETFROM:-0500
TZOFFSETTO:-0400
TZNAME:EDT
DTSTART:20220313T070000
END:DAYLIGHT
BEGIN:STANDARD
TZOFFSETFROM:-0400
TZOFFSETTO:-0500
TZNAME:EST
DTSTART:20221106T060000
END:STANDARD
BEGIN:DAYLIGHT
TZOFFSETFROM:-0500
TZOFFSETTO:-0400
TZNAME:EDT
DTSTART:20230312T070000
END:DAYLIGHT
BEGIN:STANDARD
TZOFFSETFROM:-0400
TZOFFSETTO:-0500
TZNAME:EST
DTSTART:20231105T060000
END:STANDARD
END:VTIMEZONE
BEGIN:VEVENT
DTSTART;TZID=America/New_York:20221101T090000
DTEND;TZID=America/New_York:20221101T110000
DTSTAMP:20260425T222537
CREATED:20220630T155434Z
LAST-MODIFIED:20221031T230321Z
UID:18271-1667293200-1667300400@sbgpartnership.org
SUMMARY:SBGP Strategic Planning Committee
DESCRIPTION:The SBGP Strategic Planning Committee will meet from 9:00 to 11:00 am on the 1st Tuesday of each month in 2022. This meeting is open to the public\, however\, part or all of the meeting may be conducted in a closed session to discuss matters that the Open Meetings Act permits to be discussed in a closed session. \nThis meeting will take place via screen-sharing conference call. Email brogers@sbgpartnership.org at least 24 hours in advance for call-in instructions. \nIf requesting accommodations for this meeting\, please reach out one week in advance to cemmanuelle@sbgpartnership.org. SBGP will make reasonable accommodations as possible. \nSee the agenda here.
URL:https://sbgpartnership.org/event/sbgp-strategic-planning-committee-17/
CATEGORIES:Events
END:VEVENT
BEGIN:VEVENT
DTSTART;TZID=America/New_York:20221103T180000
DTEND;TZID=America/New_York:20221103T200000
DTSTAMP:20260425T222537
CREATED:20220517T232753Z
LAST-MODIFIED:20221103T082312Z
UID:17142-1667498400-1667505600@sbgpartnership.org
SUMMARY:SBGP Nonprofit Boot Camp: Social Marketing & Communications
DESCRIPTION:Social media is a great way to stay in contact with friends and family and it also provides a platform for nonprofit organizations with limited budgets to reach a larger audience in a cost-efficient and fast manner. During this session we will: \n\nExplore where to begin when using social media platforms to communicate nonprofit activities.\nDiscover communications plans and tasks to increase organization’s visibility to residents\, volunteers\, board members\, and donors.\nCreate branding and social media messages that help engage supporters\, increase organization awareness\, and promote fundraising efforts.\nEach participating organization will be invited to schedule a follow-up technical consulting meeting to explore and support your organization’s communications strengths and areas of improvement.\n\nIf requesting accommodations for this meeting\, please reach out one week in advance to cemmanuelle@sbgpartnership.org. SBGP will make reasonable accommodations as possible.\n\nRegister here.
URL:https://sbgpartnership.org/event/sbgp-nonprofit-bootcamp-social-marketing-communications/
END:VEVENT
BEGIN:VEVENT
DTSTART;TZID=America/New_York:20221108T090000
DTEND;TZID=America/New_York:20221108T170000
DTSTAMP:20260425T222537
CREATED:20221012T193011Z
LAST-MODIFIED:20221107T220419Z
UID:20359-1667898000-1667926800@sbgpartnership.org
SUMMARY:Election Day (SBGP Closed)
DESCRIPTION:SBGP is closed for Election Day.
URL:https://sbgpartnership.org/event/election-day-sbgp-closed/
CATEGORIES:Events
END:VEVENT
BEGIN:VEVENT
DTSTART;TZID=America/New_York:20221109T121500
DTEND;TZID=America/New_York:20221109T131500
DTSTAMP:20260425T222537
CREATED:20221021T194024Z
LAST-MODIFIED:20221108T211716Z
UID:20526-1667996100-1667999700@sbgpartnership.org
SUMMARY:Middle Branch Fitness & Wellness Center Ribbon-Cutting Ceremony
DESCRIPTION:Join Baltimore City Recreation and Parks for the grand opening of the Middle Branch Fitness and Wellness Center! The center is designed to provide a regional hub for indoor and outdoor recreation\, fitness and wellness with its ties to existing trail networks and extensions to new places. 🏋️‍♀️ The ribbon-cutting ceremony will take place on 11/9 at 12:15PM and the community celebration will be on 11/12 at 11:00AM. \nMiddle Branch Fitness and Wellness Center will establish a gateway into Cherry Hill while encouraging exchange and collaboration with all South Baltimore residents.
URL:https://sbgpartnership.org/event/middle-branch-fitness-wellness-center-ribbon-cutting-ceremony/
LOCATION:201 Reedbird Ave\, Baltimore\, MD 21225\, USA
CATEGORIES:Events
END:VEVENT
BEGIN:VEVENT
DTSTART;TZID=America/New_York:20221111T090000
DTEND;TZID=America/New_York:20221111T170000
DTSTAMP:20260425T222537
CREATED:20211102T183353Z
LAST-MODIFIED:20221110T220257Z
UID:13250-1668157200-1668186000@sbgpartnership.org
SUMMARY:Veterans Day (SBGP Closed)
DESCRIPTION:SBGP is closed for Veterans Day.
URL:https://sbgpartnership.org/event/veterans-day-sbgp-closed-3/
CATEGORIES:Events
END:VEVENT
BEGIN:VEVENT
DTSTART;TZID=America/New_York:20221112T110000
DTEND;TZID=America/New_York:20221112T130000
DTSTAMP:20260425T222537
CREATED:20221021T194025Z
LAST-MODIFIED:20221111T211930Z
UID:20527-1668250800-1668258000@sbgpartnership.org
SUMMARY:Middle Branch Fitness & Wellness Center Community Celebration
DESCRIPTION:Join Baltimore City Recreation and Parks for the grand opening of the Middle Branch Fitness and Wellness Center! The center is designed to provide a regional hub for indoor and outdoor recreation\, fitness and wellness with its ties to existing trail networks and extensions to new places. 🏋️‍♀️ The ribbon-cutting ceremony will take place on 11/9 at 12:15PM and the community celebration will be on 11/12 at 11:00AM. \nMiddle Branch Fitness and Wellness Center will establish a gateway into Cherry Hill while encouraging exchange and collaboration with all South Baltimore residents.
URL:https://sbgpartnership.org/event/middle-branch-fitness-wellness-center-community-celebration/
LOCATION:201 Reedbird Ave\, Baltimore\, MD 21225\, USA
CATEGORIES:Events
END:VEVENT
BEGIN:VEVENT
DTSTART;TZID=America/New_York:20221114T110000
DTEND;TZID=America/New_York:20221114T120000
DTSTAMP:20260425T222537
CREATED:20211102T183343Z
LAST-MODIFIED:20221114T000513Z
UID:13195-1668423600-1668427200@sbgpartnership.org
SUMMARY:SBGP Finance Committee Meeting
DESCRIPTION:This meeting is open to the public\, however\, part or all of the meeting may be conducted in a closed session to discuss matters that the Open Meetings Act permits to be discussed in a closed session. \nThis meeting will be held by screen-sharing conference call. Email lmcdade@sbgpartnership.org at least 24 hours in advance to RSVP for the meeting and to request conference call instructions. \nIf requesting accommodations for this meeting\, please reach out one week in advance to cemmanuelle@sbgpartnership.org. SBGP will make reasonable accommodations as possible. \nSee agenda here.
URL:https://sbgpartnership.org/event/sbgp-finance-committee-meeting-53/
CATEGORIES:Events
END:VEVENT
BEGIN:VEVENT
DTSTART;TZID=America/New_York:20221114T180000
DTEND;TZID=America/New_York:20221114T200000
DTSTAMP:20260425T222537
CREATED:20220609T182624Z
LAST-MODIFIED:20221115T001846Z
UID:17773-1668448800-1668456000@sbgpartnership.org
SUMMARY:SGBP Program Committee Meeting
DESCRIPTION:This meeting is open to the public\, however\, part or all of the meeting may be conducted in a closed session to discuss matters that the Open Meetings Act permits to be discussed in a closed session. \nThis meeting will take place via screen sharing conference call. For call-in instructions email aasbell@sbgpartnership.org. \nIf requesting accommodations for this meeting\, please reach out one week in advance to cemmanuelle@sbgpartnership.org. SBGP will make reasonable accommodations as possible. \nSee the agenda here.
URL:https://sbgpartnership.org/event/sgbp-program-committee-meeting-15/
CATEGORIES:Events
END:VEVENT
BEGIN:VEVENT
DTSTART;TZID=America/New_York:20221116T180000
DTEND;TZID=America/New_York:20221116T200000
DTSTAMP:20260425T222537
CREATED:20211102T183343Z
LAST-MODIFIED:20221117T001734Z
UID:13196-1668621600-1668628800@sbgpartnership.org
SUMMARY:SBGP Board of Directors Meeting
DESCRIPTION:The SBGP Board of Directors meets at least six times each calendar year. This meeting is open to the public\, however\, part or all of the meeting may be conducted in a closed session to discuss matters that the Open Meetings Act permits to be discussed in a closed session. \nThis meeting will be held in-person at Groundwork Kitchen with a virtual option. Email epitkow@sbgpartnership.org at least 24 hours in advance to RSVP for the meeting and to request conference call instructions. \nIn-person meeting attendees are expected to be vaccinated. Masks are welcome but not required. \nIf requesting accommodations for this meeting\, please reach out one week in advance to cemmanuelle@sbgpartnership.org. SBGP will make reasonable accommodations as possible. \nSee agenda here.
URL:https://sbgpartnership.org/event/sbgp-board-of-directors-meeting-52/
LOCATION:Groundwork Kitchen\, 925 Washington Blvd\, Baltimore\, MD\, 21230
CATEGORIES:Events
END:VEVENT
BEGIN:VEVENT
DTSTART;TZID=America/New_York:20221124T090000
DTEND;TZID=America/New_York:20221124T170000
DTSTAMP:20260425T222537
CREATED:20211102T183353Z
LAST-MODIFIED:20221123T225148Z
UID:13251-1669280400-1669309200@sbgpartnership.org
SUMMARY:Thanksgiving Day (SBGP Closed)
DESCRIPTION:SBGP is closed for Thanksgiving Day.
URL:https://sbgpartnership.org/event/thanksgiving-day-sbgp-closed-5/
CATEGORIES:Events
END:VEVENT
BEGIN:VEVENT
DTSTART;TZID=America/New_York:20221125T090000
DTEND;TZID=America/New_York:20221125T170000
DTSTAMP:20260425T222537
CREATED:20211102T183353Z
LAST-MODIFIED:20221124T225206Z
UID:13252-1669366800-1669395600@sbgpartnership.org
SUMMARY:American Indian Heritage Day (SBGP Closed)
DESCRIPTION:SBGP is closed for American Indian Heritage Day.
URL:https://sbgpartnership.org/event/american-indian-heritage-day/
CATEGORIES:Events
END:VEVENT
END:VCALENDAR