BEGIN:VCALENDAR
VERSION:2.0
PRODID:-//South Baltimore Gateway Partnership - ECPv6.15.18//NONSGML v1.0//EN
CALSCALE:GREGORIAN
METHOD:PUBLISH
X-WR-CALNAME:South Baltimore Gateway Partnership
X-ORIGINAL-URL:https://sbgpartnership.org
X-WR-CALDESC:Events for South Baltimore Gateway Partnership
REFRESH-INTERVAL;VALUE=DURATION:PT1H
X-Robots-Tag:noindex
X-PUBLISHED-TTL:PT1H
BEGIN:VTIMEZONE
TZID:America/New_York
BEGIN:DAYLIGHT
TZOFFSETFROM:-0500
TZOFFSETTO:-0400
TZNAME:EDT
DTSTART:20210314T070000
END:DAYLIGHT
BEGIN:STANDARD
TZOFFSETFROM:-0400
TZOFFSETTO:-0500
TZNAME:EST
DTSTART:20211107T060000
END:STANDARD
BEGIN:DAYLIGHT
TZOFFSETFROM:-0500
TZOFFSETTO:-0400
TZNAME:EDT
DTSTART:20220313T070000
END:DAYLIGHT
BEGIN:STANDARD
TZOFFSETFROM:-0400
TZOFFSETTO:-0500
TZNAME:EST
DTSTART:20221106T060000
END:STANDARD
BEGIN:DAYLIGHT
TZOFFSETFROM:-0500
TZOFFSETTO:-0400
TZNAME:EDT
DTSTART:20230312T070000
END:DAYLIGHT
BEGIN:STANDARD
TZOFFSETFROM:-0400
TZOFFSETTO:-0500
TZNAME:EST
DTSTART:20231105T060000
END:STANDARD
END:VTIMEZONE
BEGIN:VEVENT
DTSTART;TZID=America/New_York:20220901T180000
DTEND;TZID=America/New_York:20220901T200000
DTSTAMP:20260426T012044
CREATED:20220517T232752Z
LAST-MODIFIED:20220901T031920Z
UID:17136-1662055200-1662062400@sbgpartnership.org
SUMMARY:SBGP Nonprofit Boot Camp: Intro
DESCRIPTION:This six session boot camp is designed for nonprofit program coordinators/managers and leaders who are looking to explore nonprofit business models\, develop management skills\, and gain a strong toolkit of resources to amplify and sustain effective organizations and beneficial community change. During this session we will cover: \n \n\nOverview of the nonprofit sector and local trends.\n\nOrganization self-assessments that collect data and identify whether the nonprofit can demonstrate that it is making progress advancing its mission.\n\nLooking Ahead: How board governance and nonprofit leadership can support short and long-term efforts in outreach and communications\, bookkeeping and finances\, fundraising\, tracking& evaluation\, social marketing and communications.\n\nIf requesting accommodations for this meeting\, please reach out one week in advance to cemmanuelle@sbgpartnership.org. SBGP will make reasonable accommodations as possible. \nRegister here.
URL:https://sbgpartnership.org/event/sbgp-nonprofit-bootcamp-intro/
END:VEVENT
BEGIN:VEVENT
DTSTART;TZID=America/New_York:20220905T090000
DTEND;TZID=America/New_York:20220905T170000
DTSTAMP:20260426T012044
CREATED:20211102T183353Z
LAST-MODIFIED:20220905T033503Z
UID:13248-1662368400-1662397200@sbgpartnership.org
SUMMARY:Labor Day (SBGP Closed)
DESCRIPTION:SBGP is closed for Labor Day.
URL:https://sbgpartnership.org/event/labor-day-sbgp-closed-4/
CATEGORIES:Events
END:VEVENT
BEGIN:VEVENT
DTSTART;TZID=America/New_York:20220906T090000
DTEND;TZID=America/New_York:20220906T110000
DTSTAMP:20260426T012044
CREATED:20220630T155433Z
LAST-MODIFIED:20220906T142503Z
UID:18269-1662454800-1662462000@sbgpartnership.org
SUMMARY:SBGP Strategic Planning Committee
DESCRIPTION:The SBGP Strategic Planning Committee will meet from 9:00 to 11:00 am on the 1st Tuesday of each month in 2022. This meeting is open to the public\, however\, part or all of the meeting may be conducted in a closed session to discuss matters that the Open Meetings Act permits to be discussed in a closed session. \nThis meeting will take place via screen-sharing conference call. Email brogers@sbgpartnership.org at least 24 hours in advance for call-in instructions. \nIf requesting accommodations for this meeting\, please reach out one week in advance to cemmanuelle@sbgpartnership.org. SBGP will make reasonable accommodations as possible. \nSee agenda here.
URL:https://sbgpartnership.org/event/sbgp-strategic-planning-committee-15/
CATEGORIES:Events
END:VEVENT
BEGIN:VEVENT
DTSTART;TZID=America/New_York:20220912T130000
DTEND;TZID=America/New_York:20220912T143000
DTSTAMP:20260426T012044
CREATED:20211102T183342Z
LAST-MODIFIED:20220911T191853Z
UID:13186-1662987600-1662993000@sbgpartnership.org
SUMMARY:SBGP Finance Committee Meeting
DESCRIPTION:This meeting is open to the public\, however\, part or all of the meeting may be conducted in a closed session to discuss matters that the Open Meetings Act permits to be discussed in a closed session. \nThis meeting will be held by screen-sharing conference call. Email lmcdade@sbgpartnership.org at least 24 hours in advance to RSVP for the meeting and to request conference call instructions. \nIf requesting accommodations for this meeting\, please reach out one week in advance to cemmanuelle@sbgpartnership.org. SBGP will make reasonable accommodations as possible. \nSee agenda here.
URL:https://sbgpartnership.org/event/sbgp-finance-committee-meeting-51/
CATEGORIES:Events
END:VEVENT
BEGIN:VEVENT
DTSTART;TZID=America/New_York:20220915T180000
DTEND;TZID=America/New_York:20220915T200000
DTSTAMP:20260426T012044
CREATED:20220517T232752Z
LAST-MODIFIED:20220915T041720Z
UID:17137-1663264800-1663272000@sbgpartnership.org
SUMMARY:SBGP Nonprofit Boot Camp: Outreach & Communications
DESCRIPTION:  \nThe Outreach and Communications Workshop will assist start-up or newer nonprofits in assessing current plans to communicate with the public about organizational services and identifying tools that further advertise nonprofit’s work. \nDuring this session we will: \n\nExplore existing outreach and communications strategies in the nonprofit sector.\nCreate S.M.A.R.T objectives (specific\, measurable\, attainable\, relevant\, and timely) that develops your organizations’ online voice and presence.\nLearn how to use social media as advocacy tools\, building an audience and measure effectiveness.\nReceive various communications resources that engages your community\, encourages partnership and advance organizations’ goals and missions in the short and long-term.\n\nEach participating organization will be invited to schedule a follow-up technical consulting meeting to explore and support your organization’s outreach and communications strengths and areas of improvement. \nIf requesting accommodations for this meeting\, please reach out one week in advance to cemmanuelle@sbgpartnership.org. SBGP will make reasonable accommodations as possible. \nRegister here. \n 
URL:https://sbgpartnership.org/event/sbgp-nonprofit-bootcamp-outreach-communications/
END:VEVENT
BEGIN:VEVENT
DTSTART;TZID=America/New_York:20220917T090000
DTEND;TZID=America/New_York:20220917T170000
DTSTAMP:20260426T012044
CREATED:20211102T183342Z
LAST-MODIFIED:20220917T203227Z
UID:13187-1663405200-1663434000@sbgpartnership.org
SUMMARY:SGBP Program Committee Meeting
DESCRIPTION:This meeting is open to the public\, however\, part or all of the meeting may be conducted in a closed session to discuss matters that the Open Meetings Act permits to be discussed in a closed session.  This in-person meeting will be reviewing Community Grant applications for the Summer 2022 cycle and will be held at City Garage\, 101 W. Dickman Street\, Suite 1000\, Baltimore\, MD 21230. \nIn-person meeting attendees are expected to be vaccinated. Masks are welcome but not required. \nIf requesting accommodations for this meeting\, please reach out one week in advance\nto cemmanuelle@sbgpartnership.org. SBGP will make reasonable accommodations as possible. \nFor joining instructions email aasbell@sbgpartnership.org. \nSee agenda here.
URL:https://sbgpartnership.org/event/sgbp-program-committee-meeting-7/
LOCATION:City Garage\, 101 W Dickman St\, Baltimore\, MD 21230\, USA\, 101 W Dickman St\, Baltimore\, MD\, 21230\, United States
CATEGORIES:Events,Meeting
END:VEVENT
BEGIN:VEVENT
DTSTART;TZID=America/New_York:20220921T180000
DTEND;TZID=America/New_York:20220921T200000
DTSTAMP:20260426T012044
CREATED:20211102T183342Z
LAST-MODIFIED:20220921T203230Z
UID:13188-1663783200-1663790400@sbgpartnership.org
SUMMARY:SBGP Board of Directors Meeting
DESCRIPTION:The SBGP Board of Directors meets at least six times each calendar year. This meeting is open to the public\, however\, part or all of the meeting may be conducted in a closed session to discuss matters that the Open Meetings Act permits to be discussed in a closed session. \nThis meeting will be held in-person at Groundwork Kitchen with a virtual option. Email epitkow@sbgpartnership.org at least 24 hours in advance to RSVP for the meeting and to request conference call instructions. \nIn-person meeting attendees are expected to be vaccinated. Masks are welcome but not required. \nIf requesting accommodations for this meeting\, please reach out one week in advance to cemmanuelle@sbgpartnership.org. SBGP will make reasonable accommodations as possible. \nSee agenda here.
URL:https://sbgpartnership.org/event/sbgp-board-of-directors-meeting-50/
LOCATION:Groundwork Kitchen\, 925 Washington Blvd\, Baltimore\, MD\, 21230
CATEGORIES:Events
END:VEVENT
BEGIN:VEVENT
DTSTART;TZID=America/New_York:20220929T180000
DTEND;TZID=America/New_York:20220929T200000
DTSTAMP:20260426T012044
CREATED:20220517T232752Z
LAST-MODIFIED:20220929T050647Z
UID:17138-1664474400-1664481600@sbgpartnership.org
SUMMARY:SBGP Nonprofit Boot Camp: Bookkeeping & Finances
DESCRIPTION:Many individuals serving nonprofit organizations do not identify as accounting professionals but do a great deal in managing the finances of charitable services that are transformative to their communities. \nDuring this workshop\, participants will: \n\nExplore best practices and procedures for nonprofit accounting\, planning\, recording\, and reporting of nonprofit finances.\nAssess how the organization track grants\, donations\, and expenses.\nIncrease understanding of the use of nonprofit accounting statements and reports in managing funds.\nIdentify short/long-term tasks that support organization plans to receive\, manage\, track and account for funds.\n\nEach participating organization will be invited to schedule a follow-up technical consulting meeting to explore and support your organization’s bookkeeping and finances strengths and areas of improvement. \nThis session will be facilitated by Emilie Aracil Drasher\, a Partner with Baltimore Fiscal Partners. Emilie is an attorney with over 10 years experience leading and working with nonprofit organizations in Baltimore City and throughout Maryland. She graduated from the University of Maryland Francis King Carey School of Law in 2008 and was admitted to the Maryland Bar later that year. Emilie specializes in nonprofit formation and compliance\, taxes\, bookkeeping\, budgeting\, and grants management. Emilie brings her experience leading nonprofit organizations to her consulting with the nationally recognized Standards for Excellence® program. She has served on the Board of Directors for several non-profit organizations and enjoys volunteering as a pro bono attorney and is training her dog\, Cabot\, to become a therapy dog for Baltimore’s children’s hospitals. \nIf requesting accommodations for this meeting\, please reach out one week in advance to cemmanuelle@sbgpartnership.org. SBGP will make reasonable accommodations as possible.\n\nRegister here. \n 
URL:https://sbgpartnership.org/event/sbgp-nonprofit-bootcamp-bookkeeping-finances/
END:VEVENT
END:VCALENDAR