BEGIN:VCALENDAR
VERSION:2.0
PRODID:-//South Baltimore Gateway Partnership - ECPv6.15.18//NONSGML v1.0//EN
CALSCALE:GREGORIAN
METHOD:PUBLISH
X-ORIGINAL-URL:https://sbgpartnership.org
X-WR-CALDESC:Events for South Baltimore Gateway Partnership
REFRESH-INTERVAL;VALUE=DURATION:PT1H
X-Robots-Tag:noindex
X-PUBLISHED-TTL:PT1H
BEGIN:VTIMEZONE
TZID:America/New_York
BEGIN:DAYLIGHT
TZOFFSETFROM:-0500
TZOFFSETTO:-0400
TZNAME:EDT
DTSTART:20260308T070000
END:DAYLIGHT
BEGIN:STANDARD
TZOFFSETFROM:-0400
TZOFFSETTO:-0500
TZNAME:EST
DTSTART:20261101T060000
END:STANDARD
BEGIN:DAYLIGHT
TZOFFSETFROM:-0500
TZOFFSETTO:-0400
TZNAME:EDT
DTSTART:20270314T070000
END:DAYLIGHT
BEGIN:STANDARD
TZOFFSETFROM:-0400
TZOFFSETTO:-0500
TZNAME:EST
DTSTART:20271107T060000
END:STANDARD
BEGIN:DAYLIGHT
TZOFFSETFROM:-0500
TZOFFSETTO:-0400
TZNAME:EDT
DTSTART:20280312T070000
END:DAYLIGHT
BEGIN:STANDARD
TZOFFSETFROM:-0400
TZOFFSETTO:-0500
TZNAME:EST
DTSTART:20281105T060000
END:STANDARD
BEGIN:DAYLIGHT
TZOFFSETFROM:-0500
TZOFFSETTO:-0400
TZNAME:EDT
DTSTART:20290311T070000
END:DAYLIGHT
BEGIN:STANDARD
TZOFFSETFROM:-0400
TZOFFSETTO:-0500
TZNAME:EST
DTSTART:20291104T060000
END:STANDARD
END:VTIMEZONE
BEGIN:VEVENT
DTSTART;TZID=America/New_York:20270907T180000
DTEND;TZID=America/New_York:20270907T200000
DTSTAMP:20260423T220749
CREATED:20251221T094954Z
LAST-MODIFIED:20260423T171508Z
UID:63395-1820340000-1820347200@sbgpartnership.org
SUMMARY:SBGP Program Committee Meeting
DESCRIPTION:This meeting is open to the public\, however\, part or all of the meeting may be conducted in a closed session to discuss matters that the Open Meetings Act permits to be discussed in a closed session. \nThis meeting will take place via screen sharing conference call. For call-in instructions email lcornish@sbgpartnership.org. \nIf requesting accommodations for this meeting\, please reach out one week in advanceto cemmanuelle@sbgpartnership.org. SBGP will make reasonable accommodations as possible.
URL:https://sbgpartnership.org/event/sgbp-program-committee-meeting-162/
CATEGORIES:Events
END:VEVENT
BEGIN:VEVENT
DTSTART;TZID=America/New_York:20271005T180000
DTEND;TZID=America/New_York:20271005T200000
DTSTAMP:20260423T220749
CREATED:20251221T094954Z
LAST-MODIFIED:20260423T171508Z
UID:63396-1822759200-1822766400@sbgpartnership.org
SUMMARY:SBGP Program Committee Meeting
DESCRIPTION:This meeting is open to the public\, however\, part or all of the meeting may be conducted in a closed session to discuss matters that the Open Meetings Act permits to be discussed in a closed session. \nThis meeting will take place via screen sharing conference call. For call-in instructions email lcornish@sbgpartnership.org. \nIf requesting accommodations for this meeting\, please reach out one week in advanceto cemmanuelle@sbgpartnership.org. SBGP will make reasonable accommodations as possible.
URL:https://sbgpartnership.org/event/sgbp-program-committee-meeting-163/
CATEGORIES:Events
END:VEVENT
BEGIN:VEVENT
DTSTART;TZID=America/New_York:20271102T180000
DTEND;TZID=America/New_York:20271102T200000
DTSTAMP:20260423T220749
CREATED:20251221T094954Z
LAST-MODIFIED:20260423T171509Z
UID:63397-1825178400-1825185600@sbgpartnership.org
SUMMARY:SBGP Program Committee Meeting
DESCRIPTION:This meeting is open to the public\, however\, part or all of the meeting may be conducted in a closed session to discuss matters that the Open Meetings Act permits to be discussed in a closed session. \nThis meeting will take place via screen sharing conference call. For call-in instructions email lcornish@sbgpartnership.org. \nIf requesting accommodations for this meeting\, please reach out one week in advanceto cemmanuelle@sbgpartnership.org. SBGP will make reasonable accommodations as possible.
URL:https://sbgpartnership.org/event/sgbp-program-committee-meeting-164/
CATEGORIES:Events
END:VEVENT
BEGIN:VEVENT
DTSTART;TZID=America/New_York:20271207T180000
DTEND;TZID=America/New_York:20271207T200000
DTSTAMP:20260423T220749
CREATED:20251221T094954Z
LAST-MODIFIED:20260423T171509Z
UID:63398-1828202400-1828209600@sbgpartnership.org
SUMMARY:SBGP Program Committee Meeting
DESCRIPTION:This meeting is open to the public\, however\, part or all of the meeting may be conducted in a closed session to discuss matters that the Open Meetings Act permits to be discussed in a closed session. \nThis meeting will take place via screen sharing conference call. For call-in instructions email lcornish@sbgpartnership.org. \nIf requesting accommodations for this meeting\, please reach out one week in advanceto cemmanuelle@sbgpartnership.org. SBGP will make reasonable accommodations as possible.
URL:https://sbgpartnership.org/event/sgbp-program-committee-meeting-165/
CATEGORIES:Events
END:VEVENT
BEGIN:VEVENT
DTSTART;TZID=America/New_York:20280104T180000
DTEND;TZID=America/New_York:20280104T200000
DTSTAMP:20260423T220749
CREATED:20260104T004456Z
LAST-MODIFIED:20260423T171509Z
UID:64265-1830621600-1830628800@sbgpartnership.org
SUMMARY:SBGP Program Committee Meeting
DESCRIPTION:This meeting is open to the public\, however\, part or all of the meeting may be conducted in a closed session to discuss matters that the Open Meetings Act permits to be discussed in a closed session. \nThis meeting will take place via screen sharing conference call. For call-in instructions email lcornish@sbgpartnership.org. \nIf requesting accommodations for this meeting\, please reach out one week in advanceto cemmanuelle@sbgpartnership.org. SBGP will make reasonable accommodations as possible.
URL:https://sbgpartnership.org/event/sgbp-program-committee-meeting-166/
CATEGORIES:Events
END:VEVENT
BEGIN:VEVENT
DTSTART;TZID=America/New_York:20280201T180000
DTEND;TZID=America/New_York:20280201T200000
DTSTAMP:20260423T220749
CREATED:20260201T233005Z
LAST-MODIFIED:20260423T171510Z
UID:65807-1833040800-1833048000@sbgpartnership.org
SUMMARY:SBGP Program Committee Meeting
DESCRIPTION:This meeting is open to the public\, however\, part or all of the meeting may be conducted in a closed session to discuss matters that the Open Meetings Act permits to be discussed in a closed session. \nThis meeting will take place via screen sharing conference call. For call-in instructions email lcornish@sbgpartnership.org. \nIf requesting accommodations for this meeting\, please reach out one week in advanceto cemmanuelle@sbgpartnership.org. SBGP will make reasonable accommodations as possible.
URL:https://sbgpartnership.org/event/sbgp-program-committee-meeting-49/
CATEGORIES:Events
END:VEVENT
BEGIN:VEVENT
DTSTART;TZID=America/New_York:20280307T180000
DTEND;TZID=America/New_York:20280307T200000
DTSTAMP:20260423T220749
CREATED:20260307T155937Z
LAST-MODIFIED:20260423T171510Z
UID:67318-1836064800-1836072000@sbgpartnership.org
SUMMARY:SBGP Program Committee Meeting
DESCRIPTION:This meeting is open to the public\, however\, part or all of the meeting may be conducted in a closed session to discuss matters that the Open Meetings Act permits to be discussed in a closed session. \nThis meeting will take place via screen sharing conference call. For call-in instructions email lcornish@sbgpartnership.org. \nIf requesting accommodations for this meeting\, please reach out one week in advanceto cemmanuelle@sbgpartnership.org. SBGP will make reasonable accommodations as possible.
URL:https://sbgpartnership.org/event/sbgp-program-committee-meeting-50/
CATEGORIES:Events
END:VEVENT
BEGIN:VEVENT
DTSTART;TZID=America/New_York:20280404T180000
DTEND;TZID=America/New_York:20280404T200000
DTSTAMP:20260423T220749
CREATED:20260404T010015Z
LAST-MODIFIED:20260423T171511Z
UID:68662-1838484000-1838491200@sbgpartnership.org
SUMMARY:SBGP Program Committee Meeting
DESCRIPTION:This meeting is open to the public\, however\, part or all of the meeting may be conducted in a closed session to discuss matters that the Open Meetings Act permits to be discussed in a closed session. \nThis meeting will take place via screen sharing conference call. For call-in instructions email lcornish@sbgpartnership.org. \nIf requesting accommodations for this meeting\, please reach out one week in advanceto cemmanuelle@sbgpartnership.org. SBGP will make reasonable accommodations as possible.
URL:https://sbgpartnership.org/event/sbgp-program-committee-meeting-51/
CATEGORIES:Events
END:VEVENT
END:VCALENDAR