BEGIN:VCALENDAR
VERSION:2.0
PRODID:-//South Baltimore Gateway Partnership - ECPv6.15.18//NONSGML v1.0//EN
CALSCALE:GREGORIAN
METHOD:PUBLISH
X-ORIGINAL-URL:https://sbgpartnership.org
X-WR-CALDESC:Events for South Baltimore Gateway Partnership
REFRESH-INTERVAL;VALUE=DURATION:PT1H
X-Robots-Tag:noindex
X-PUBLISHED-TTL:PT1H
BEGIN:VTIMEZONE
TZID:America/New_York
BEGIN:DAYLIGHT
TZOFFSETFROM:-0500
TZOFFSETTO:-0400
TZNAME:EDT
DTSTART:20190310T070000
END:DAYLIGHT
BEGIN:STANDARD
TZOFFSETFROM:-0400
TZOFFSETTO:-0500
TZNAME:EST
DTSTART:20191103T060000
END:STANDARD
BEGIN:DAYLIGHT
TZOFFSETFROM:-0500
TZOFFSETTO:-0400
TZNAME:EDT
DTSTART:20200308T070000
END:DAYLIGHT
BEGIN:STANDARD
TZOFFSETFROM:-0400
TZOFFSETTO:-0500
TZNAME:EST
DTSTART:20201101T060000
END:STANDARD
BEGIN:DAYLIGHT
TZOFFSETFROM:-0500
TZOFFSETTO:-0400
TZNAME:EDT
DTSTART:20210314T070000
END:DAYLIGHT
BEGIN:STANDARD
TZOFFSETFROM:-0400
TZOFFSETTO:-0500
TZNAME:EST
DTSTART:20211107T060000
END:STANDARD
END:VTIMEZONE
BEGIN:VEVENT
DTSTART;TZID=America/New_York:20201118T180000
DTEND;TZID=America/New_York:20201118T200000
DTSTAMP:20260426T011609
CREATED:20200820T013359Z
LAST-MODIFIED:20201119T001801Z
UID:8047-1605722400-1605729600@sbgpartnership.org
SUMMARY:SBGP Board of Directors Meeting
DESCRIPTION:The SBGP Board of Directors meets at least six times each calendar year. This meeting is open to the public\, however\, part or all of the meeting may be conducted in a closed session to discuss matters that the Open Meetings Act permits to be discussed in a closed session. \nThis meeting will be held by screensharing conference call. Email epitkow@sbgpartnership.org at least 24 hours in advance to RSVP for the meeting and to request conference call instructions. \nSee the agenda for this meeting here.
URL:https://sbgpartnership.org/event/sbgp-board-of-directors-meeting-26/
LOCATION:Location TBD
CATEGORIES:Events
END:VEVENT
BEGIN:VEVENT
DTSTART;TZID=America/New_York:20201112T180000
DTEND;TZID=America/New_York:20201112T200000
DTSTAMP:20260426T011609
CREATED:20201013T191732Z
LAST-MODIFIED:20201112T230516Z
UID:8464-1605204000-1605211200@sbgpartnership.org
SUMMARY:Keys to Capacity: Board Role in Fundraising
DESCRIPTION:Keys to Capacity Online is a series of free workshops aimed at supporting and building capacity for community-focused organizations in our District and beyond. \nBoard Role in Fundraising:One of the most critical roles of a board member is the sustainability of the organization. Fundraising is a critical component of sustainability. Even though it is a key role\, many board members are not comfortable with fundraising\, and staff are not appropriately training and supporting their boards. This interactive session will help you develop strategies to effectively recruit and manage your board members to be more comfortable with their fundraising responsibilities. Presented by Tom Bush. \nLearn more and register at https://sbgpartnership.org/workshops/
URL:https://sbgpartnership.org/event/keys-to-capacity-board-role-in-fundraising/
LOCATION:Zoom conference call
END:VEVENT
BEGIN:VEVENT
DTSTART;TZID=America/New_York:20201111T090000
DTEND;TZID=America/New_York:20201111T170000
DTSTAMP:20260426T011609
CREATED:20200813T210226Z
LAST-MODIFIED:20201110T233557Z
UID:8008-1605085200-1605114000@sbgpartnership.org
SUMMARY:Veterans Day (SBGP Closed)
DESCRIPTION:
URL:https://sbgpartnership.org/event/veterans-day-sbgp-closed/
END:VEVENT
BEGIN:VEVENT
DTSTART;TZID=America/New_York:20201110T180000
DTEND;TZID=America/New_York:20201110T200000
DTSTAMP:20260426T011609
CREATED:20201013T191732Z
LAST-MODIFIED:20201110T230307Z
UID:8463-1605031200-1605038400@sbgpartnership.org
SUMMARY:Keys to Capacity: Making Your Books Make Sense
DESCRIPTION:Keys to Capacity Online is a series of free workshops aimed at supporting and building capacity for community-focused organizations in our District and beyond. \nMaking Your Books Make Sense:Learn the basics of bookkeeping to help you better track your money\, understand your financial reports\, and keep an eye on your bottom line. We’ll put this knowledge into action with an introduction to one of the most popular tools for bookkeeping\, Quickbooks Online. Presented by Emilie Aracil Drasher. \nLearn more and register at https://sbgpartnership.org/workshops/
URL:https://sbgpartnership.org/event/keys-to-capacity-making-your-books-make-sense/
LOCATION:Zoom conference call
END:VEVENT
BEGIN:VEVENT
DTSTART;TZID=America/New_York:20201110T180000
DTEND;TZID=America/New_York:20201110T200000
DTSTAMP:20260426T011609
CREATED:20200805T005057Z
LAST-MODIFIED:20201110T230316Z
UID:7965-1605031200-1605038400@sbgpartnership.org
SUMMARY:SBGP Strategic Planning Committee Meeting
DESCRIPTION:The SBGP Strategic Planning Committee will meet from 6:00 to 8:00 pm on the 1st Tuesday of each month in 2020. This meeting is open to the public\, however\, part or all of the meeting may be conducted in a closed session to discuss matters that the Open Meetings Act permits to be discussed in a closed session.\nThis meeting will be held via screensharing conference call. Email brogers@sbgpartnership.org at least 24 hours in advance to RSVP for the meeting and to request conference call instructions. \nSee the agenda for this meeting here.
URL:https://sbgpartnership.org/event/sbgp-strategic-planning-committee-meeting-33/
LOCATION:City Garage\, 101 W Dickman St\, Baltimore\, MD\, United States
CATEGORIES:Events
END:VEVENT
BEGIN:VEVENT
DTSTART;TZID=America/New_York:20201109T130000
DTEND;TZID=America/New_York:20201109T140000
DTSTAMP:20260426T011609
CREATED:20200811T012329Z
LAST-MODIFIED:20201108T223756Z
UID:7993-1604926800-1604930400@sbgpartnership.org
SUMMARY:SBGP Finance Committee Meeting
DESCRIPTION:This meeting is open to the public\, however\, part or all of the meeting may be conducted in a closed session to discuss matters that the Open Meetings Act permits to be discussed in a closed session. \nThis meeting will be held by screensharing conference call. Email lmcdade@sbgpartnership.org at least 24 hours in advance to RSVP for the meeting and to request conference call instructions. \nSee the agenda for this meeting here.
URL:https://sbgpartnership.org/event/sbgp-finance-committee-meeting-26/
LOCATION:City Garage\, 101 W Dickman St\, Baltimore\, MD\, United States
CATEGORIES:Events
END:VEVENT
BEGIN:VEVENT
DTSTART;TZID=America/New_York:20201105T180000
DTEND;TZID=America/New_York:20201105T200000
DTSTAMP:20260426T011609
CREATED:20201013T191732Z
LAST-MODIFIED:20201105T224845Z
UID:8462-1604599200-1604606400@sbgpartnership.org
SUMMARY:Keys to Capacity: Virtual Fundraising and Sustainability
DESCRIPTION:Keys to Capacity Online is a series of free workshops aimed at supporting and building capacity for community-focused organizations in our District and beyond. \nVirtual Fundraising and Sustainability:The current pandemic has forced all Nonprofits to pivot and figure out how to achieve their fundraising goals in a virtual setting to ensure sustainability for their organization. Re-imaging cultivation\, events\, individual solicitations\, and donor stewardship are challenging even the most experienced fundraisers. This interactive session will explore ways for your organization to transform your fundraising efforts\, given the current restrictions\, and achieve your goals. Presented by Tom Bush. \nLearn more and register at https://sbgpartnership.org/workshops/
URL:https://sbgpartnership.org/event/keys-to-capacity-virtual-fundraising-and-sustainability/
LOCATION:Zoom conference call
END:VEVENT
BEGIN:VEVENT
DTSTART;TZID=America/New_York:20201029T180000
DTEND;TZID=America/New_York:20201029T200000
DTSTAMP:20260426T011609
CREATED:20201013T191732Z
LAST-MODIFIED:20201029T195622Z
UID:8461-1603994400-1604001600@sbgpartnership.org
SUMMARY:Keys to Capacity: Fundraising Unlocked
DESCRIPTION:Keys to Capacity Online is a series of free workshops aimed at supporting and building capacity for community-focused organizations in our District and beyond. \nFundraising Unlocked:Find fundraising tools that are best for your organization and discuss measurable efforts for organizational sustainability. Presented by Shiree Skinner. \nLearn more and register at https://sbgpartnership.org/workshops/
URL:https://sbgpartnership.org/event/keys-to-capacity-fundraising-unlocked/
LOCATION:Zoom conference call
END:VEVENT
BEGIN:VEVENT
DTSTART;TZID=America/New_York:20201022T180000
DTEND;TZID=America/New_York:20201022T200000
DTSTAMP:20260426T011609
CREATED:20201013T191732Z
LAST-MODIFIED:20201022T192013Z
UID:8460-1603389600-1603396800@sbgpartnership.org
SUMMARY:Keys to Capacity: Searching the Foundation Directory
DESCRIPTION:Keys to Capacity Online is a series of free workshops aimed at supporting and building capacity for community-focused organizations in our District and beyond. \nSearching the Foundation Directory:You know funders are out there. Foundation Directory Online\, the most extensive\, up-to-date database of philanthropic giving\, can show you where they are—and help you win more funding from them. Presented by Anna Tatro. \nLearn more and register at https://sbgpartnership.org/workshops/
URL:https://sbgpartnership.org/event/keys-to-capacity-searching-the-foundation-directory/
LOCATION:Zoom conference call
END:VEVENT
BEGIN:VEVENT
DTSTART;TZID=America/New_York:20201021T180000
DTEND;TZID=America/New_York:20201021T200000
DTSTAMP:20260426T011609
CREATED:20200922T032110Z
LAST-MODIFIED:20201021T061738Z
UID:8263-1603303200-1603310400@sbgpartnership.org
SUMMARY:SBGP Board of Directors Meeting
DESCRIPTION:The SBGP Board of Directors meets at least six times each calendar year. This meeting is open to the public\, however\, part or all of the meeting may be conducted in a closed session to discuss matters that the Open Meetings Act permits to be discussed in a closed session. \nThis meeting will be held by screensharing conference call. Email epitkow@sbgpartnership.org at least 24 hours in advance to RSVP for the meeting and to request conference call instructions. \nSee the agenda for this meeting here.
URL:https://sbgpartnership.org/event/sbgp-board-of-directors-meeting-28/
LOCATION:Zoom conference call
CATEGORIES:Events
END:VEVENT
BEGIN:VEVENT
DTSTART;TZID=America/New_York:20201015T180000
DTEND;TZID=America/New_York:20201015T200000
DTSTAMP:20260426T011609
CREATED:20201013T191732Z
LAST-MODIFIED:20201015T192026Z
UID:8459-1602784800-1602792000@sbgpartnership.org
SUMMARY:Keys to Capacity: Logic Models and Program Design for Nonprofits
DESCRIPTION:Keys to Capacity Online is a series of free workshops aimed at supporting and building capacity for community-focused organizations in our District and beyond.  \nLogic Models: Program Design for Nonprofits will teach you how to create and use a logic model\, a visual representation of your initiative’s activities\, outputs\, and expected outcomes. Presented by Anna Tatro.   \nLearn more and register at https://sbgpartnership.org/workshops/ 
URL:https://sbgpartnership.org/event/keys-to-capacity-logic-models-and-program-design-for-nonprofits/
LOCATION:Zoom conference call
END:VEVENT
BEGIN:VEVENT
DTSTART;TZID=America/New_York:20201015T130000
DTEND;TZID=America/New_York:20201015T143000
DTSTAMP:20260426T011609
CREATED:20200717T233637Z
LAST-MODIFIED:20201015T060230Z
UID:7862-1602766800-1602772200@sbgpartnership.org
SUMMARY:SBGP Finance Committee Meeting
DESCRIPTION:This meeting is open to the public\, however\, part or all of the meeting may be conducted in a closed session to discuss matters that the Open Meetings Act permits to be discussed in a closed session. \nThis meeting will be held by screensharing conference call. Email lmcdade@sbgpartnership.org at least 24 hours in advance to RSVP for the meeting and to request conference call instructions. \nSee the agenda for this meeting here.
URL:https://sbgpartnership.org/event/sbgp-finance-committee-meeting-25/
LOCATION:Zoom conference call
CATEGORIES:Events
END:VEVENT
BEGIN:VEVENT
DTSTART;TZID=America/New_York:20201012T090000
DTEND;TZID=America/New_York:20201012T170000
DTSTAMP:20260426T011609
CREATED:20200714T181903Z
LAST-MODIFIED:20201012T182149Z
UID:7838-1602493200-1602522000@sbgpartnership.org
SUMMARY:Indigenous Peoples’ Day (SBGP Closed)
DESCRIPTION:
URL:https://sbgpartnership.org/event/columbus-day-sbgp-closed-2/
END:VEVENT
BEGIN:VEVENT
DTSTART;TZID=America/New_York:20201009T110000
DTEND;TZID=America/New_York:20201009T120000
DTSTAMP:20260426T011609
CREATED:20200926T034742Z
LAST-MODIFIED:20201009T052214Z
UID:8301-1602241200-1602244800@sbgpartnership.org
SUMMARY:SBGP Communications Committee Meeting
DESCRIPTION:This meeting is open to the public\, however\, part or all of the meeting may be conducted in a closed session to discuss matters that the Open Meetings Act permits to be discussed in a closed session.\nThis meeting will be held by screensharing conference call. Email mramirez@sbgpartnership.org at least 24 hours in advance to RSVP for the meeting and to request conference call instructions. \nSee the agenda for this meeting here.
URL:https://sbgpartnership.org/event/sbgp-communications-committee-meeting-3/
LOCATION:Zoom conference call
CATEGORIES:Events
END:VEVENT
BEGIN:VEVENT
DTSTART;TZID=America/New_York:20201006T180000
DTEND;TZID=America/New_York:20201006T200000
DTSTAMP:20260426T011609
CREATED:20200708T220259Z
LAST-MODIFIED:20201006T045504Z
UID:7797-1602007200-1602014400@sbgpartnership.org
SUMMARY:SBGP Strategic Planning Committee Meeting
DESCRIPTION:The SBGP Strategic Planning Committee will meet from 6:00 to 8:00 pm on the 1st Tuesday of each month in 2020. This meeting is open to the public\, however\, part or all of the meeting may be conducted in a closed session to discuss matters that the Open Meetings Act permits to be discussed in a closed session.\nThis meeting will take place vis screen sharing conference call. Email brogers@sbgpartnership.org for call-in instructions. \nSee the agenda for this meeting here.
URL:https://sbgpartnership.org/event/sbgp-strategic-planning-committee-meeting-32/
LOCATION:Zoom conference call
CATEGORIES:Events
END:VEVENT
BEGIN:VEVENT
DTSTART;TZID=America/New_York:20201005T183000
DTEND;TZID=America/New_York:20201005T203000
DTSTAMP:20260426T011609
CREATED:20200707T214958Z
LAST-MODIFIED:20201005T161320Z
UID:7786-1601922600-1601929800@sbgpartnership.org
SUMMARY:SBGP Program Committee Meeting
DESCRIPTION:This meeting is open to the public\, however\, part or all of the meeting may be conducted in a closed session to discuss matters that the Open Meetings Act permits to be discussed in a closed session. \nThis meeting will take place via screen sharing conference call. For call-in instructions email aasbell@sbgpartnership.org. \nSee the agenda for this meeting here.
URL:https://sbgpartnership.org/event/sbgp-program-committee-meeting-23/
LOCATION:Zoom conference call
CATEGORIES:Events
END:VEVENT
BEGIN:VEVENT
DTSTART;TZID=America/New_York:20201005T170000
DTEND;TZID=America/New_York:20201005T180000
DTSTAMP:20260426T011609
CREATED:20200911T030407Z
LAST-MODIFIED:20201005T044316Z
UID:8188-1601917200-1601920800@sbgpartnership.org
SUMMARY:SBGP Governance and Nominating Committee Meeting
DESCRIPTION:This meeting is open to the public\, however\, part or all of the meeting may be conducted in a closed session to discuss matters that the Open Meetings Act permits to be discussed in a closed session. \nThis meeting will be held by screensharing conference call. Email epitkow@sbgpartnership.org at least 24 hours in advance to RSVP for the meeting and to request conference call instructions. \nSee the agenda for this meeting here.
URL:https://sbgpartnership.org/event/sbgp-governance-and-nominating-committee-meeting-16/
LOCATION:Zoom conference call
CATEGORIES:Events
END:VEVENT
BEGIN:VEVENT
DTSTART;TZID=America/New_York:20201003T100000
DTEND;TZID=America/New_York:20201003T120000
DTSTAMP:20260426T011609
CREATED:20200911T030407Z
LAST-MODIFIED:20201003T043226Z
UID:8187-1601719200-1601726400@sbgpartnership.org
SUMMARY:SBGP Governance and Nominating Committee Meeting
DESCRIPTION:This meeting is open to the public\, however\, part or all of the meeting may be conducted in a closed session to discuss matters that the Open Meetings Act permits to be discussed in a closed session. \nThis meeting will be held by screensharing conference call. Email epitkow@sbgpartnership.org at least 24 hours in advance to RSVP for the meeting and to request conference call instructions. \nSee the agenda for this meeting here.
URL:https://sbgpartnership.org/event/sbgp-governance-and-nominating-committee-meeting-15/
LOCATION:Zoom conference call
CATEGORIES:Events
END:VEVENT
BEGIN:VEVENT
DTSTART;TZID=America/New_York:20201001T180000
DTEND;TZID=America/New_York:20201001T200000
DTSTAMP:20260426T011609
CREATED:20200911T030406Z
LAST-MODIFIED:20201001T042346Z
UID:8186-1601575200-1601582400@sbgpartnership.org
SUMMARY:SBGP Governance and Nominating Committee Meeting
DESCRIPTION:This meeting is open to the public\, however\, part or all of the meeting may be conducted in a closed session to discuss matters that the Open Meetings Act permits to be discussed in a closed session. \nThis meeting will be held by screensharing conference call. Email epitkow@sbgpartnership.org at least 24 hours in advance to RSVP for the meeting and to request conference call instructions. \nSee the agenda for this meeting here. 
URL:https://sbgpartnership.org/event/sbgp-governance-and-nominating-committee-meeting-14/
LOCATION:Zoom conference call
CATEGORIES:Events
END:VEVENT
BEGIN:VEVENT
DTSTART;TZID=America/New_York:20200916T180000
DTEND;TZID=America/New_York:20200916T200000
DTSTAMP:20260426T011609
CREATED:20200618T193657Z
LAST-MODIFIED:20200916T031940Z
UID:7679-1600279200-1600286400@sbgpartnership.org
SUMMARY:SBGP Board of Directors Meeting
DESCRIPTION:The SBGP Board of Directors meets at least six times each calendar year. This meeting is open to the public\, however\, part or all of the meeting may be conducted in a closed session to discuss matters that the Open Meetings Act permits to be discussed in a closed session.\nThis meeting will be held by screensharing conference call. Email epitkow@sbgpartnership.org at least 24 hours in advance to RSVP for the meeting and to request conference call instructions. \nSee the agenda for this meeting here.
URL:https://sbgpartnership.org/event/sbgp-board-of-directors-meeting-24/
LOCATION:Zoom conference call
CATEGORIES:Events
END:VEVENT
BEGIN:VEVENT
DTSTART;TZID=America/New_York:20200914T183000
DTEND;TZID=America/New_York:20200914T203000
DTSTAMP:20260426T011609
CREATED:20200616T193711Z
LAST-MODIFIED:20200914T150903Z
UID:7668-1600108200-1600115400@sbgpartnership.org
SUMMARY:SBGP Program Committee Meeting
DESCRIPTION:This meeting is open to the public\, however\, part or all of the meeting may be conducted in a closed session to discuss matters that the Open Meetings Act permits to be discussed in a closed session. \nThis meeting will be held by screensharing conference call. Email aasbell@sbgpartnership.org at least 24 hours in advance to RSVP for the meeting and to request conference call instructions. \nSee the agenda for this meeting here. 
URL:https://sbgpartnership.org/event/sbgp-program-committee-meeting-22/
LOCATION:Zoom conference call
CATEGORIES:Events
END:VEVENT
BEGIN:VEVENT
DTSTART;TZID=America/New_York:20200914T130000
DTEND;TZID=America/New_York:20200914T140000
DTSTAMP:20260426T011609
CREATED:20200616T193711Z
LAST-MODIFIED:20200914T032111Z
UID:7667-1600088400-1600092000@sbgpartnership.org
SUMMARY:SBGP Finance Committee Meeting
DESCRIPTION:This meeting is open to the public\, however\, part or all of the meeting may be conducted in a closed session to discuss matters that the Open Meetings Act permits to be discussed in a closed session.\nThis meeting will be held by screensharing conference call. Email lmcdade@sbgpartnership.org at least 24 hours in advance to RSVP for the meeting and to request conference call instructions. \nSee the agenda for this meeting here.
URL:https://sbgpartnership.org/event/sbgp-finance-committee-meeting-24/
LOCATION:Zoom conference call
CATEGORIES:Events
END:VEVENT
BEGIN:VEVENT
DTSTART;TZID=America/New_York:20200907T090000
DTEND;TZID=America/New_York:20200907T170000
DTSTAMP:20260426T011609
CREATED:20200609T202046Z
LAST-MODIFIED:20200906T223740Z
UID:7630-1599469200-1599498000@sbgpartnership.org
SUMMARY:Labor Day (SBGP Closed)
DESCRIPTION:
URL:https://sbgpartnership.org/event/labor-day-sbgp-closed-2/
END:VEVENT
BEGIN:VEVENT
DTSTART;TZID=America/New_York:20200901T180000
DTEND;TZID=America/New_York:20200901T200000
DTSTAMP:20260426T011609
CREATED:20200603T181730Z
LAST-MODIFIED:20200901T023323Z
UID:7586-1598983200-1598990400@sbgpartnership.org
SUMMARY:SBGP Strategic Planning Committee Meeting
DESCRIPTION:–This meeting has been canceled– \nThe SBGP Strategic Planning Committee will meet from 6:00 to 8:00 pm on the 1st Tuesday of each month in 2020. This meeting is open to the public\, however\, part or all of the meeting may be conducted in a closed session to discuss matters that the Open Meetings Act permits to be discussed in a closed session. \nPlease RSVP to Brad Rogers (brogers@sbgpartnership.org) and Walt Ettinger (ettingew@gmail.com) if you plan to attend.
URL:https://sbgpartnership.org/event/sbgp-strategic-planning-committee-meeting-31/
LOCATION:Zoom conference call
CATEGORIES:Events
END:VEVENT
BEGIN:VEVENT
DTSTART;TZID=America/New_York:20200819T180000
DTEND;TZID=America/New_York:20200819T200000
DTSTAMP:20260426T011609
CREATED:20200521T155328Z
LAST-MODIFIED:20200819T013408Z
UID:7511-1597860000-1597867200@sbgpartnership.org
SUMMARY:SBGP Board of Directors Meeting
DESCRIPTION:The SBGP Board of Directors meets at least six times each calendar year. This meeting is open to the public\, however\, part or all of the meeting may be conducted in a closed session to discuss matters that the Open Meetings Act permits to be discussed in a closed session. \nThis meeting will be held by screensharing conference call. Email epitkow@sbgpartnership.org at least 24 hours in advance to RSVP for the meeting and to request conference call instructions. \nSee the agenda for this meeting here.
URL:https://sbgpartnership.org/event/sbgp-board-of-directors-meeting-23/
LOCATION:Zoom conference call
CATEGORIES:Events
END:VEVENT
BEGIN:VEVENT
DTSTART;TZID=America/New_York:20200814T170000
DTEND;TZID=America/New_York:20200814T170000
DTSTAMP:20260426T011609
CREATED:20200708T171121Z
LAST-MODIFIED:20200814T204914Z
UID:7791-1597424400-1597424400@sbgpartnership.org
SUMMARY:SBGP Board Applications Due
DESCRIPTION:The South Baltimore Gateway Partnership is looking for community members to serve on our Board of Directors. Applications must be submitted through our online portal by August 14th at 5 PM.  \nLearn more and apply at https://sbgpartnership.org/board-applications/ 
URL:https://sbgpartnership.org/event/sbgp-board-applications-due/
LOCATION:Online
END:VEVENT
BEGIN:VEVENT
DTSTART;TZID=America/New_York:20200810T180000
DTEND;TZID=America/New_York:20200810T200000
DTSTAMP:20260426T011609
CREATED:20200801T003653Z
LAST-MODIFIED:20200810T142104Z
UID:7945-1597082400-1597089600@sbgpartnership.org
SUMMARY:SBGP Program Committee Meeting
DESCRIPTION:This meeting is open to the public\, however\, part or all of the meeting may be conducted in a closed session to discuss matters that the Open Meetings Act permits to be discussed in a closed session. \nThis meeting will be held by screensharing conference call. Email aasbell@sbgpartnership.org at least 24 hours in advance to RSVP for the meeting and to request conference call instructions. \nSee the agenda for this meeting here.
URL:https://sbgpartnership.org/event/sbgp-program-committee-meeting-24/
LOCATION:Zoom conference call
CATEGORIES:Events
END:VEVENT
BEGIN:VEVENT
DTSTART;TZID=America/New_York:20200810T130000
DTEND;TZID=America/New_York:20200810T140000
DTSTAMP:20260426T011609
CREATED:20200512T185121Z
LAST-MODIFIED:20200810T011759Z
UID:7461-1597064400-1597068000@sbgpartnership.org
SUMMARY:SBGP Finance Committee Meeting
DESCRIPTION:This meeting is open to the public\, however\, part or all of the meeting may be conducted in a closed session to discuss matters that the Open Meetings Act permits to be discussed in a closed session. \nThis meeting will be held by screensharing conference call. Email lmcdade@sbgpartnership.org at least 24 hours in advance to RSVP for the meeting and to request conference call instructions. \nSee the agenda for this meeting here.
URL:https://sbgpartnership.org/event/sbgp-finance-committee-meeting-23/
LOCATION:Zoom conference call
CATEGORIES:Events
END:VEVENT
BEGIN:VEVENT
DTSTART;TZID=America/New_York:20200804T180000
DTEND;TZID=America/New_York:20200804T200000
DTSTAMP:20260426T011609
CREATED:20200506T174723Z
LAST-MODIFIED:20200804T004832Z
UID:7432-1596564000-1596571200@sbgpartnership.org
SUMMARY:SBGP Strategic Planning Committee Meeting
DESCRIPTION:The SBGP Strategic Planning Committee will meet from 6:00 to 8:00 pm on the 1st Tuesday of each month in 2020. This meeting is open to the public\, however\, part or all of the meeting may be conducted in a closed session to discuss matters that the Open Meetings Act permits to be discussed in a closed session.\nThe meetings will be held in the City Garage Classroom\, 101 W. Dickman Street\, Baltimore\, MD 21230.\nPlease RSVP to Brad Rogers (brogers@sbgpartnership.org) and Walt Ettinger (ettingew@gmail.com) if you plan to attend. \nSee the agenda for this meeting here.
URL:https://sbgpartnership.org/event/sbgp-strategic-planning-committee-meeting-30/
LOCATION:Zoom conference call
CATEGORIES:Events
END:VEVENT
BEGIN:VEVENT
DTSTART;TZID=America/New_York:20200715T180000
DTEND;TZID=America/New_York:20200715T200000
DTSTAMP:20260426T011609
CREATED:20200416T150931Z
LAST-MODIFIED:20200715T232646Z
UID:7342-1594836000-1594843200@sbgpartnership.org
SUMMARY:SBGP Board of Directors Meeting
DESCRIPTION:The SBGP Board of Directors meets at least six times each calendar year. This meeting is open to the public\, however\, part or all of the meeting may be conducted in a closed session to discuss matters that the Open Meetings Act permits to be discussed in a closed session. \nThis meeting will be held by screensharing conference call. Email epitkow@sbgpartnership.org at least 24 hours in advance to RSVP for the meeting and to request conference call instructions. \nSee the agenda for this meeting here.
URL:https://sbgpartnership.org/event/sbgp-board-of-directors-meeting-22/
LOCATION:Zoom conference call
CATEGORIES:Events
END:VEVENT
END:VCALENDAR