BEGIN:VCALENDAR
VERSION:2.0
PRODID:-//South Baltimore Gateway Partnership - ECPv6.15.18//NONSGML v1.0//EN
CALSCALE:GREGORIAN
METHOD:PUBLISH
X-WR-CALNAME:South Baltimore Gateway Partnership
X-ORIGINAL-URL:https://sbgpartnership.org
X-WR-CALDESC:Events for South Baltimore Gateway Partnership
REFRESH-INTERVAL;VALUE=DURATION:PT1H
X-Robots-Tag:noindex
X-PUBLISHED-TTL:PT1H
BEGIN:VTIMEZONE
TZID:America/New_York
BEGIN:DAYLIGHT
TZOFFSETFROM:-0500
TZOFFSETTO:-0400
TZNAME:EDT
DTSTART:20190310T070000
END:DAYLIGHT
BEGIN:STANDARD
TZOFFSETFROM:-0400
TZOFFSETTO:-0500
TZNAME:EST
DTSTART:20191103T060000
END:STANDARD
BEGIN:DAYLIGHT
TZOFFSETFROM:-0500
TZOFFSETTO:-0400
TZNAME:EDT
DTSTART:20200308T070000
END:DAYLIGHT
BEGIN:STANDARD
TZOFFSETFROM:-0400
TZOFFSETTO:-0500
TZNAME:EST
DTSTART:20201101T060000
END:STANDARD
BEGIN:DAYLIGHT
TZOFFSETFROM:-0500
TZOFFSETTO:-0400
TZNAME:EDT
DTSTART:20210314T070000
END:DAYLIGHT
BEGIN:STANDARD
TZOFFSETFROM:-0400
TZOFFSETTO:-0500
TZNAME:EST
DTSTART:20211107T060000
END:STANDARD
BEGIN:DAYLIGHT
TZOFFSETFROM:-0500
TZOFFSETTO:-0400
TZNAME:EDT
DTSTART:20220313T070000
END:DAYLIGHT
BEGIN:STANDARD
TZOFFSETFROM:-0400
TZOFFSETTO:-0500
TZNAME:EST
DTSTART:20221106T060000
END:STANDARD
END:VTIMEZONE
BEGIN:VTIMEZONE
TZID:UTC
BEGIN:STANDARD
TZOFFSETFROM:+0000
TZOFFSETTO:+0000
TZNAME:UTC
DTSTART:20200101T000000
END:STANDARD
END:VTIMEZONE
BEGIN:VEVENT
DTSTART;TZID=America/New_York:20210217T180000
DTEND;TZID=America/New_York:20210217T200000
DTSTAMP:20260425T222143
CREATED:20201119T001804Z
LAST-MODIFIED:20210212T142522Z
UID:8721-1613584800-1613592000@sbgpartnership.org
SUMMARY:SBGP Board  of Directors Meeting
DESCRIPTION:The SBGP Board of Directors meets at least six times each calendar year. This meeting is open to the public\, however\, part or all of the meeting may be conducted in a closed session to discuss matters that the Open Meetings Act permits to be discussed in a closed session. \nThis meeting will be held by screen sharing conference call. Email epitkow@sbgpartnership.org at least 24 hours in advance to RSVP for the meeting and to request conference call instructions. \nSee the agenda for this meeting here. 
URL:https://sbgpartnership.org/event/sbgp-board-of-directors-meeting-31/
LOCATION:Zoom conference call
CATEGORIES:Events
END:VEVENT
BEGIN:VEVENT
DTSTART;TZID=America/New_York:20210215T090000
DTEND;TZID=America/New_York:20210215T170000
DTSTAMP:20260425T222143
CREATED:20201117T171848Z
LAST-MODIFIED:20210112T092333Z
UID:8710-1613379600-1613408400@sbgpartnership.org
SUMMARY:Presidents' Day (SBGP Closed)
DESCRIPTION:
URL:https://sbgpartnership.org/event/presidents-day-sbgp-closed-3/
END:VEVENT
BEGIN:VEVENT
DTSTART;TZID=America/New_York:20210209T103000
DTEND;TZID=America/New_York:20210209T113000
DTSTAMP:20260425T222143
CREATED:20201110T230318Z
LAST-MODIFIED:20210208T164603Z
UID:8668-1612866600-1612870200@sbgpartnership.org
SUMMARY:SBGP Finance Committee Meeting
DESCRIPTION:This meeting is open to the public\, however\, part or all of the meeting may be conducted in a closed session to discuss matters that the Open Meetings Act permits to be discussed in a closed session. \nThis meeting will be held by screensharing conference call. Email lmcdade@sbgpartnership.org at least 24 hours in advance to RSVP for the meeting and to request conference call instructions. \nSee the agenda for this meeting here. 
URL:https://sbgpartnership.org/event/sbgp-finance-committee-meeting-30/
LOCATION:Zoom conference call
CATEGORIES:Events
END:VEVENT
BEGIN:VEVENT
DTSTART;TZID=America/New_York:20210202T180000
DTEND;TZID=America/New_York:20210202T200000
DTSTAMP:20260425T222143
CREATED:20201104T220507Z
LAST-MODIFIED:20210202T145223Z
UID:8621-1612288800-1612296000@sbgpartnership.org
SUMMARY:SBGP Strategic Planning Committee Meeting
DESCRIPTION:The SBGP Strategic Planning Committee will meet from 6:00 to 8:00 pm on the 1st Tuesday of each month in 2020. This meeting is open to the public\, however\, part or all of the meeting may be conducted in a closed session to discuss matters that the Open Meetings Act permits to be discussed in a closed session.\nThis meeting will take place vis screen sharing conference call. Email brogers@sbgpartnership.org at least 24 hours in advance for call-in instructions. \nSee the agenda for this meeting here.
URL:https://sbgpartnership.org/event/sbgp-strategic-planning-committee-meeting-37/
LOCATION:Zoom conference call
CATEGORIES:Events
END:VEVENT
BEGIN:VEVENT
DTSTART;TZID=UTC:20210201T100000
DTEND;TZID=UTC:20210201T100000
DTSTAMP:20260425T222143
CREATED:20210127T144734Z
LAST-MODIFIED:20210127T144734Z
UID:9231-1612173600-1612173600@sbgpartnership.org
SUMMARY:SBGP Community Grant Application Opens
DESCRIPTION:Applications for our Winter 2021 Community Grant cycle will open on Monday\, February 1st at 10:00AM. \nLearn more and apply at https://sbgpartnership.org/community-grants/
URL:https://sbgpartnership.org/event/sbgp-community-grant-application-opens/
LOCATION:Applications must be submitted online
END:VEVENT
BEGIN:VEVENT
DTSTART;TZID=America/New_York:20210120T180000
DTEND;TZID=America/New_York:20210120T200000
DTSTAMP:20260425T222143
CREATED:20201027T062311Z
LAST-MODIFIED:20210114T214038Z
UID:8553-1611165600-1611172800@sbgpartnership.org
SUMMARY:SBGP Board  of Directors Meeting
DESCRIPTION:The SBGP Board of Directors meets at least six times each calendar year. This meeting is open to the public\, however\, part or all of the meeting may be conducted in a closed session to discuss matters that the Open Meetings Act permits to be discussed in a closed session. \nThis meeting will be held by screen sharing conference call. Email epitkow@sbgpartnership.org at least 24 hours in advance to RSVP for the meeting and to request conference call instructions. \nSee the agenda for this meeting here.
URL:https://sbgpartnership.org/event/sbgp-board-of-directors-meeting-30/
LOCATION:Zoom conference call
CATEGORIES:Events
END:VEVENT
BEGIN:VEVENT
DTSTART;TZID=America/New_York:20210118T090000
DTEND;TZID=America/New_York:20210118T170000
DTSTAMP:20260425T222143
CREATED:20201030T194628Z
LAST-MODIFIED:20210112T092333Z
UID:8579-1610960400-1610989200@sbgpartnership.org
SUMMARY:Birthday of Dr. Martin Luther King\, Jr. (SBGP Closed)
DESCRIPTION:
URL:https://sbgpartnership.org/event/birthday-of-dr-martin-luther-king-jr-sbgp-closed-3/
END:VEVENT
BEGIN:VEVENT
DTSTART;TZID=America/New_York:20210111T130000
DTEND;TZID=America/New_York:20210111T140000
DTSTAMP:20260425T222143
CREATED:20210109T062659Z
LAST-MODIFIED:20210111T070910Z
UID:9106-1610370000-1610373600@sbgpartnership.org
SUMMARY:SBGP Finance Committee Meeting
DESCRIPTION:This meeting is open to the public\, however\, part or all of the meeting may be conducted in a closed session to discuss matters that the Open Meetings Act permits to be discussed in a closed session. \nThis meeting will be held by screensharing conference call. Email lmcdade@sbgpartnership.org at least 24 hours in advance to RSVP for the meeting and to request conference call instructions. \nSee the agenda for this meeting here. 
URL:https://sbgpartnership.org/event/sbgp-finance-committee-meeting-32/
LOCATION:Zoom conference call
CATEGORIES:Events
END:VEVENT
BEGIN:VEVENT
DTSTART;TZID=America/New_York:20210111T130000
DTEND;TZID=America/New_York:20210111T140000
DTSTAMP:20260425T222143
CREATED:20201027T062311Z
LAST-MODIFIED:20210108T140051Z
UID:8551-1610370000-1610373600@sbgpartnership.org
SUMMARY:SBGP Finance Committee Meeting
DESCRIPTION:This meeting is open to the public\, however\, part or all of the meeting may be conducted in a closed session to discuss matters that the Open Meetings Act permits to be discussed in a closed session. \nThis meeting will be held by screensharing conference call. Email lmcdade@sbgpartnership.org at least 24 hours in advance to RSVP for the meeting and to request conference call instructions. \nSee the agenda for this meeting here.
URL:https://sbgpartnership.org/event/sbgp-finance-committee-meeting-29/
LOCATION:Zoom conference call
CATEGORIES:Events
END:VEVENT
BEGIN:VEVENT
DTSTART;TZID=America/New_York:20210105T180000
DTEND;TZID=America/New_York:20210105T200000
DTSTAMP:20260425T222143
CREATED:20201027T062311Z
LAST-MODIFIED:20210105T142847Z
UID:8549-1609869600-1609876800@sbgpartnership.org
SUMMARY:SBGP Strategic Planning Committee Meeting
DESCRIPTION:The SBGP Strategic Planning Committee will meet from 6:00 to 8:00 pm on the 1st Tuesday of each month in 2020. This meeting is open to the public\, however\, part or all of the meeting may be conducted in a closed session to discuss matters that the Open Meetings Act permits to be discussed in a closed session.\nThis meeting will take place vis screen sharing conference call. Email brogers@sbgpartnership.org at least 24 hours in advance for call-in instructions. \nSee the agenda for this meeting here. 
URL:https://sbgpartnership.org/event/sbgp-strategic-planning-committee-meeting-36/
LOCATION:Zoom conference call
CATEGORIES:Events
END:VEVENT
BEGIN:VEVENT
DTSTART;TZID=America/New_York:20210104T180000
DTEND;TZID=America/New_York:20210104T200000
DTSTAMP:20260425T222143
CREATED:20201027T062310Z
LAST-MODIFIED:20210104T165756Z
UID:8547-1609783200-1609790400@sbgpartnership.org
SUMMARY:SBGP Program Committee Meeting
DESCRIPTION:This meeting is open to the public\, however\, part or all of the meeting may be conducted in a closed session to discuss matters that the Open Meetings Act permits to be discussed in a closed session. \nThis meeting will take place via screen sharing conference call. For call-in instructions email aasbell@sbgpartnership.org. \nSee the agenda for this meeting here.
URL:https://sbgpartnership.org/event/sbgp-program-committee-meeting-28/
LOCATION:Zoom conference call
CATEGORIES:Events
END:VEVENT
BEGIN:VEVENT
DTSTART;TZID=America/New_York:20210101T090000
DTEND;TZID=America/New_York:20210101T170000
DTSTAMP:20260425T222143
CREATED:20201030T194628Z
LAST-MODIFIED:20210101T203626Z
UID:8578-1609491600-1609520400@sbgpartnership.org
SUMMARY:New Year's Day (SBGP Closed)
DESCRIPTION:
URL:https://sbgpartnership.org/event/new-years-day-sbgp-closed-2/
END:VEVENT
BEGIN:VEVENT
DTSTART;TZID=America/New_York:20201225T090000
DTEND;TZID=America/New_York:20201225T170000
DTSTAMP:20260425T222143
CREATED:20200926T173528Z
LAST-MODIFIED:20201225T200543Z
UID:8305-1608886800-1608915600@sbgpartnership.org
SUMMARY:Christmas Day (SBGP Closed)
DESCRIPTION:
URL:https://sbgpartnership.org/event/christmas-day-sbgp-closed-2/
END:VEVENT
BEGIN:VEVENT
DTSTART;TZID=America/New_York:20201217T180000
DTEND;TZID=America/New_York:20201217T200000
DTSTAMP:20260425T222143
CREATED:20201204T183344Z
LAST-MODIFIED:20201217T191911Z
UID:8818-1608228000-1608235200@sbgpartnership.org
SUMMARY:Keys to Capacity: Developing Enduring Strategic Relationships
DESCRIPTION:Keys to Capacity Online is a series of free workshops aimed at supporting and building capacity for community-focused organizations in our District and beyond. \nDeveloping Enduring Strategic Relationships:It takes months to find a strategic partner and only seconds to lose them. Moving from transactional relationships to transformational relationships requires intentional cultivation. Participants will assess how relationships are currently tracked and collaborate with peers to develop stronger systems for enduring relationships. Through self-reflection\, real-world examples\, and guided exercises\, participants will walk away with ideas\, next steps\, and peer relationships to enhance the strategic partnership experience. \nThis training is part 4 of a 4-part series on Building Strategic Partnerships that may be attended in sequence or as a stand-alone workshop. Presented by Brian Gerado. \nLearn more and register at https://sbgpartnership.submittable.com/submit
URL:https://sbgpartnership.org/event/keys-to-capacity-developing-enduring-strategic-relationships/
LOCATION:Zoom conference call
END:VEVENT
BEGIN:VEVENT
DTSTART;TZID=America/New_York:20201216T180000
DTEND;TZID=America/New_York:20201216T190000
DTSTAMP:20260425T222143
CREATED:20200917T031809Z
LAST-MODIFIED:20201216T025109Z
UID:8227-1608141600-1608145200@sbgpartnership.org
SUMMARY:SBGP Board of Directors Meeting
DESCRIPTION:The SBGP Board of Directors meets at least six times each calendar year. This meeting is open to the public\, however\, part or all of the meeting may be conducted in a closed session to discuss matters that the Open Meetings Act permits to be discussed in a closed session. \nThis meeting will be held by screensharing conference call. Email epitkow@sbgpartnership.org at least 24 hours in advance to RSVP for the meeting and to request conference call instructions. \nSee the agenda for this meeting here.
URL:https://sbgpartnership.org/event/sbgp-board-of-directors-meeting-27/
LOCATION:Zoom conference call
CATEGORIES:Events
END:VEVENT
BEGIN:VEVENT
DTSTART;TZID=America/New_York:20201210T180000
DTEND;TZID=America/New_York:20201210T200000
DTSTAMP:20260425T222143
CREATED:20201204T183343Z
LAST-MODIFIED:20201210T185448Z
UID:8817-1607623200-1607630400@sbgpartnership.org
SUMMARY:Keys to Capacity: Maximize Donor Relations and Strategic Fundraising
DESCRIPTION:Keys to Capacity Online is a series of free workshops aimed at supporting and building capacity for community-focused organizations in our District and beyond. \nMaximize Donor Relations and Strategic FundraisingExplore how to leverage data for strategic fundraising and expand relationships with current or potential donors. Presented by Shiree Skinner. \nLearn more and register at https://sbgpartnership.submittable.com/submit
URL:https://sbgpartnership.org/event/keys-to-capacity-maximize-donor-relations-and-strategic-fundraising/
LOCATION:Zoom conference call
END:VEVENT
BEGIN:VEVENT
DTSTART;TZID=America/New_York:20201208T180000
DTEND;TZID=America/New_York:20201208T200000
DTSTAMP:20260425T222143
CREATED:20201204T183343Z
LAST-MODIFIED:20201208T184753Z
UID:8816-1607450400-1607457600@sbgpartnership.org
SUMMARY:Keys to Capacity: Aligning Strategic Partnerships Toward Mutual Benefits
DESCRIPTION:Keys to Capacity Online is a series of free workshops aimed at supporting and building capacity for community-focused organizations in our District and beyond. \nAligning Strategic Partnerships Toward Mutual Benefits:A strategic partnership should not only benefit one group but be mutually valued. This workshop is for leaders who have a target list of potential partners and have evaluated a course of action to have their first conversation with each prospect. Participants will design a discovery process to better understand the needs of a partner through role-playing and plan proposals that demonstrate the value of a strategic partnership. Early warning signs for an ill-fitting partnership will help participants navigate concerns before parties agree to partner. \nThis training is part 3 of a 4-part series on Building Strategic Partnerships that may be attended in sequence or as a stand-alone workshop. Presented by Brian Gerardo. \nLearn more and register at https://sbgpartnership.submittable.com/submit
URL:https://sbgpartnership.org/event/keys-to-capacity-aligning-strategic-partnerships-toward-mutual-benefits/
LOCATION:Zoom conference call
END:VEVENT
BEGIN:VEVENT
DTSTART;TZID=America/New_York:20201207T180000
DTEND;TZID=America/New_York:20201207T200000
DTSTAMP:20260425T222143
CREATED:20200915T031724Z
LAST-MODIFIED:20201207T150617Z
UID:8213-1607364000-1607371200@sbgpartnership.org
SUMMARY:SBGP Program Committee Meeting
DESCRIPTION:This meeting is open to the public\, however\, part or all of the meeting may be conducted in a closed session to discuss matters that the Open Meetings Act permits to be discussed in a closed session. \nThis meeting will be held by screensharing conference call. Email aasbell@sbgpartnership.org at least 24 hours in advance to RSVP for the meeting and to request conference call instructions. \nSee the agenda for this meeting here.
URL:https://sbgpartnership.org/event/sbgp-program-committee-meeting-26/
LOCATION:City Garage\, 101 W Dickman St\, Baltimore\, MD\, United States
CATEGORIES:Events
END:VEVENT
BEGIN:VEVENT
DTSTART;TZID=America/New_York:20201203T180000
DTEND;TZID=America/New_York:20201203T200000
DTSTAMP:20260425T222143
CREATED:20201013T191733Z
LAST-MODIFIED:20201203T183636Z
UID:8466-1607018400-1607025600@sbgpartnership.org
SUMMARY:Keys to Capacity: Preparing for a Strategic Partnership
DESCRIPTION:Keys to Capacity Online is a series of free workshops aimed at supporting and building capacity for community-focused organizations in our District and beyond. \nPreparing for a Strategic Partnership:This workshop is for leaders who have identified a need for a partnership and are ready to reach out to potential partners. A common misstep a leader may take when contacting prospective partners is to use a cookie-cutter template email or cold call. Participants will participate in exercises to develop partnership profiles\, map pathways for an introduction\, and customize the partnership engagement. Leaders who demonstrate preparation\, care\, and specific asks increase their shift from a partnership to a strategic partnership.This training is part 2 of a 4-part series on Building Strategic Partnerships that may be attended in sequence or as a stand-alone workshop. Presented by Brian Gerardo. \nLearn more and register at https://sbgpartnership.org/workshops/
URL:https://sbgpartnership.org/event/keys-to-capacity-preparing-for-a-strategic-partnership/
LOCATION:Zoom conference call
END:VEVENT
BEGIN:VEVENT
DTSTART;TZID=America/New_York:20201203T160000
DTEND;TZID=America/New_York:20201203T170000
DTSTAMP:20260425T222143
CREATED:20201120T004011Z
LAST-MODIFIED:20201203T020320Z
UID:8729-1607011200-1607014800@sbgpartnership.org
SUMMARY:SBGP Executive Committee Meeting
DESCRIPTION:This meeting is open to the public\, however\, part or all of the meeting may be conducted in a closed session to discuss matters that the Open Meetings Act permits to be discussed in a closed session.  This meeting will be held by screensharing conference call. Email epitkow@sbgpartnership.org in advance to RSVP for the meeting and to request conference call instructions.   \nSee the agenda for this meeting here.
URL:https://sbgpartnership.org/event/sbgp-executive-committee-meeting-4/
LOCATION:Zoom conference call
CATEGORIES:Events
END:VEVENT
BEGIN:VEVENT
DTSTART;TZID=America/New_York:20201201T180000
DTEND;TZID=America/New_York:20201201T200000
DTSTAMP:20260425T222143
CREATED:20200902T023342Z
LAST-MODIFIED:20201201T014127Z
UID:8107-1606845600-1606852800@sbgpartnership.org
SUMMARY:SBGP Strategic Planning Committee Meeting
DESCRIPTION:–This meeting has been canceled– \nThe SBGP Strategic Planning Committee will meet from 6:00 to 8:00 pm on the 1st Tuesday of each month in 2020. This meeting is open to the public\, however\, part or all of the meeting may be conducted in a closed session to discuss matters that the Open Meetings Act permits to be discussed in a closed session. \nThis meeting will take place vis screen sharing conference call. Email brogers@sbgpartnership.org for call-in instructions.
URL:https://sbgpartnership.org/event/sbgp-strategic-planning-committee-meeting-34/
LOCATION:City Garage\, 101 W Dickman St\, Baltimore\, MD\, United States
CATEGORIES:Events
END:VEVENT
BEGIN:VEVENT
DTSTART;TZID=America/New_York:20201127T090000
DTEND;TZID=America/New_York:20201127T170000
DTSTAMP:20260425T222143
CREATED:20200829T220253Z
LAST-MODIFIED:20201127T181915Z
UID:8092-1606467600-1606496400@sbgpartnership.org
SUMMARY:American Indian Heritage Day (SBGP Closed)
DESCRIPTION:
URL:https://sbgpartnership.org/event/american-indian-heritage-day-sbgp-closed-2/
END:VEVENT
BEGIN:VEVENT
DTSTART;TZID=America/New_York:20201126T090000
DTEND;TZID=America/New_York:20201126T170000
DTSTAMP:20260425T222143
CREATED:20200828T215909Z
LAST-MODIFIED:20201126T181922Z
UID:8086-1606381200-1606410000@sbgpartnership.org
SUMMARY:Thanksgiving Day (SBGP Closed)
DESCRIPTION:
URL:https://sbgpartnership.org/event/thanksgiving-day-sbgp-closed-3/
END:VEVENT
BEGIN:VEVENT
DTSTART;TZID=America/New_York:20201119T180000
DTEND;TZID=America/New_York:20201119T200000
DTSTAMP:20260425T222143
CREATED:20201013T191732Z
LAST-MODIFIED:20201119T171403Z
UID:8465-1605808800-1605816000@sbgpartnership.org
SUMMARY:Keys to Capacity: Building Strategic Partnerships
DESCRIPTION:Keys to Capacity Online is a series of free workshops aimed at supporting and building capacity for community-focused organizations in our District and beyond. \nBuilding Strategic Partnerships:Learn ways to build meaningful partnerships that expand your organization’s reach and learn tools to manage volunteers for projects. \nThis training is part 1 of a 4-part series on Building Strategic Partnerships that may be attended in sequence or as a stand-alone workshop. Presented by Brian Gerardo. \nLearn more and register at https://sbgpartnership.org/workshops/
URL:https://sbgpartnership.org/event/keys-to-capacity-building-strategic-partnerships/
LOCATION:Zoom conference call
END:VEVENT
BEGIN:VEVENT
DTSTART;TZID=America/New_York:20201118T180000
DTEND;TZID=America/New_York:20201118T200000
DTSTAMP:20260425T222143
CREATED:20200820T013359Z
LAST-MODIFIED:20201119T001801Z
UID:8047-1605722400-1605729600@sbgpartnership.org
SUMMARY:SBGP Board of Directors Meeting
DESCRIPTION:The SBGP Board of Directors meets at least six times each calendar year. This meeting is open to the public\, however\, part or all of the meeting may be conducted in a closed session to discuss matters that the Open Meetings Act permits to be discussed in a closed session. \nThis meeting will be held by screensharing conference call. Email epitkow@sbgpartnership.org at least 24 hours in advance to RSVP for the meeting and to request conference call instructions. \nSee the agenda for this meeting here.
URL:https://sbgpartnership.org/event/sbgp-board-of-directors-meeting-26/
LOCATION:Location TBD
CATEGORIES:Events
END:VEVENT
BEGIN:VEVENT
DTSTART;TZID=America/New_York:20201112T180000
DTEND;TZID=America/New_York:20201112T200000
DTSTAMP:20260425T222143
CREATED:20201013T191732Z
LAST-MODIFIED:20201112T230516Z
UID:8464-1605204000-1605211200@sbgpartnership.org
SUMMARY:Keys to Capacity: Board Role in Fundraising
DESCRIPTION:Keys to Capacity Online is a series of free workshops aimed at supporting and building capacity for community-focused organizations in our District and beyond. \nBoard Role in Fundraising:One of the most critical roles of a board member is the sustainability of the organization. Fundraising is a critical component of sustainability. Even though it is a key role\, many board members are not comfortable with fundraising\, and staff are not appropriately training and supporting their boards. This interactive session will help you develop strategies to effectively recruit and manage your board members to be more comfortable with their fundraising responsibilities. Presented by Tom Bush. \nLearn more and register at https://sbgpartnership.org/workshops/
URL:https://sbgpartnership.org/event/keys-to-capacity-board-role-in-fundraising/
LOCATION:Zoom conference call
END:VEVENT
BEGIN:VEVENT
DTSTART;TZID=America/New_York:20201111T090000
DTEND;TZID=America/New_York:20201111T170000
DTSTAMP:20260425T222143
CREATED:20200813T210226Z
LAST-MODIFIED:20201110T233557Z
UID:8008-1605085200-1605114000@sbgpartnership.org
SUMMARY:Veterans Day (SBGP Closed)
DESCRIPTION:
URL:https://sbgpartnership.org/event/veterans-day-sbgp-closed/
END:VEVENT
BEGIN:VEVENT
DTSTART;TZID=America/New_York:20201110T180000
DTEND;TZID=America/New_York:20201110T200000
DTSTAMP:20260425T222143
CREATED:20201013T191732Z
LAST-MODIFIED:20201110T230307Z
UID:8463-1605031200-1605038400@sbgpartnership.org
SUMMARY:Keys to Capacity: Making Your Books Make Sense
DESCRIPTION:Keys to Capacity Online is a series of free workshops aimed at supporting and building capacity for community-focused organizations in our District and beyond. \nMaking Your Books Make Sense:Learn the basics of bookkeeping to help you better track your money\, understand your financial reports\, and keep an eye on your bottom line. We’ll put this knowledge into action with an introduction to one of the most popular tools for bookkeeping\, Quickbooks Online. Presented by Emilie Aracil Drasher. \nLearn more and register at https://sbgpartnership.org/workshops/
URL:https://sbgpartnership.org/event/keys-to-capacity-making-your-books-make-sense/
LOCATION:Zoom conference call
END:VEVENT
BEGIN:VEVENT
DTSTART;TZID=America/New_York:20201110T180000
DTEND;TZID=America/New_York:20201110T200000
DTSTAMP:20260425T222143
CREATED:20200805T005057Z
LAST-MODIFIED:20201110T230316Z
UID:7965-1605031200-1605038400@sbgpartnership.org
SUMMARY:SBGP Strategic Planning Committee Meeting
DESCRIPTION:The SBGP Strategic Planning Committee will meet from 6:00 to 8:00 pm on the 1st Tuesday of each month in 2020. This meeting is open to the public\, however\, part or all of the meeting may be conducted in a closed session to discuss matters that the Open Meetings Act permits to be discussed in a closed session.\nThis meeting will be held via screensharing conference call. Email brogers@sbgpartnership.org at least 24 hours in advance to RSVP for the meeting and to request conference call instructions. \nSee the agenda for this meeting here.
URL:https://sbgpartnership.org/event/sbgp-strategic-planning-committee-meeting-33/
LOCATION:City Garage\, 101 W Dickman St\, Baltimore\, MD\, United States
CATEGORIES:Events
END:VEVENT
BEGIN:VEVENT
DTSTART;TZID=America/New_York:20201109T130000
DTEND;TZID=America/New_York:20201109T140000
DTSTAMP:20260425T222143
CREATED:20200811T012329Z
LAST-MODIFIED:20201108T223756Z
UID:7993-1604926800-1604930400@sbgpartnership.org
SUMMARY:SBGP Finance Committee Meeting
DESCRIPTION:This meeting is open to the public\, however\, part or all of the meeting may be conducted in a closed session to discuss matters that the Open Meetings Act permits to be discussed in a closed session. \nThis meeting will be held by screensharing conference call. Email lmcdade@sbgpartnership.org at least 24 hours in advance to RSVP for the meeting and to request conference call instructions. \nSee the agenda for this meeting here.
URL:https://sbgpartnership.org/event/sbgp-finance-committee-meeting-26/
LOCATION:City Garage\, 101 W Dickman St\, Baltimore\, MD\, United States
CATEGORIES:Events
END:VEVENT
END:VCALENDAR