BEGIN:VCALENDAR
VERSION:2.0
PRODID:-//South Baltimore Gateway Partnership - ECPv6.15.18//NONSGML v1.0//EN
CALSCALE:GREGORIAN
METHOD:PUBLISH
X-ORIGINAL-URL:https://sbgpartnership.org
X-WR-CALDESC:Events for South Baltimore Gateway Partnership
REFRESH-INTERVAL;VALUE=DURATION:PT1H
X-Robots-Tag:noindex
X-PUBLISHED-TTL:PT1H
BEGIN:VTIMEZONE
TZID:America/New_York
BEGIN:DAYLIGHT
TZOFFSETFROM:-0500
TZOFFSETTO:-0400
TZNAME:EDT
DTSTART:20200308T070000
END:DAYLIGHT
BEGIN:STANDARD
TZOFFSETFROM:-0400
TZOFFSETTO:-0500
TZNAME:EST
DTSTART:20201101T060000
END:STANDARD
BEGIN:DAYLIGHT
TZOFFSETFROM:-0500
TZOFFSETTO:-0400
TZNAME:EDT
DTSTART:20210314T070000
END:DAYLIGHT
BEGIN:STANDARD
TZOFFSETFROM:-0400
TZOFFSETTO:-0500
TZNAME:EST
DTSTART:20211107T060000
END:STANDARD
BEGIN:DAYLIGHT
TZOFFSETFROM:-0500
TZOFFSETTO:-0400
TZNAME:EDT
DTSTART:20220313T070000
END:DAYLIGHT
BEGIN:STANDARD
TZOFFSETFROM:-0400
TZOFFSETTO:-0500
TZNAME:EST
DTSTART:20221106T060000
END:STANDARD
END:VTIMEZONE
BEGIN:VTIMEZONE
TZID:UTC
BEGIN:STANDARD
TZOFFSETFROM:+0000
TZOFFSETTO:+0000
TZNAME:UTC
DTSTART:20200101T000000
END:STANDARD
END:VTIMEZONE
BEGIN:VEVENT
DTSTART;TZID=America/New_York:20210629T173000
DTEND;TZID=America/New_York:20210629T190000
DTSTAMP:20260425T194457
CREATED:20210503T201723Z
LAST-MODIFIED:20210629T012059Z
UID:10162-1624987800-1624993200@sbgpartnership.org
SUMMARY:SBGP Community Grant Information Session
DESCRIPTION:Join the South Baltimore Gateway Partnership for a Community Grant Information Session!\nThis session will give you an overview of our Community Grant program and cover the application process for our upcoming Community Grant cycle. Learn how you can get funding to make your projects happen!\nRegister to join at:\nhttps://us02web.zoom.us/meeting/register/tZIsceqtrj8iE9wvd3q-KJ9l7Y3fja6KjdKV
URL:https://sbgpartnership.org/event/sbgp-community-grant-information-session/
LOCATION:Zoom conference call
CATEGORIES:Events
END:VEVENT
BEGIN:VEVENT
DTSTART;TZID=America/New_York:20210618T090000
DTEND;TZID=America/New_York:20210618T170000
DTSTAMP:20260425T194457
CREATED:20210320T233754Z
LAST-MODIFIED:20210618T091014Z
UID:9603-1624006800-1624035600@sbgpartnership.org
SUMMARY:Juneteenth Observed (SBGP Closed)
DESCRIPTION:
URL:https://sbgpartnership.org/event/juneteenth-observed-sbgp-closed/
CATEGORIES:Events
END:VEVENT
BEGIN:VEVENT
DTSTART;TZID=America/New_York:20210616T180000
DTEND;TZID=America/New_York:20210616T200000
DTSTAMP:20260425T194457
CREATED:20210318T152033Z
LAST-MODIFIED:20210616T011101Z
UID:9549-1623866400-1623873600@sbgpartnership.org
SUMMARY:SBGP Board  of Directors Meeting
DESCRIPTION:The SBGP Board of Directors meets at least six times each calendar year. This meeting is open to the public\, however\, part or all of the meeting may be conducted in a closed session to discuss matters that the Open Meetings Act permits to be discussed in a closed session. \nThis meeting will be held by screen sharing conference call. Email epitkow@sbgpartnership.org at least 24 hours in advance to RSVP for the meeting and to request conference call instructions. \nSee the agenda for this meeting here.
URL:https://sbgpartnership.org/event/sbgp-board-of-directors-meeting-35/
LOCATION:Zoom conference call
CATEGORIES:Events
END:VEVENT
BEGIN:VEVENT
DTSTART;TZID=America/New_York:20210607T180000
DTEND;TZID=America/New_York:20210607T200000
DTSTAMP:20260425T194457
CREATED:20210309T145418Z
LAST-MODIFIED:20210607T133805Z
UID:9456-1623088800-1623096000@sbgpartnership.org
SUMMARY:SBGP Program Committee Meeting
DESCRIPTION:This meeting is open to the public\, however\, part or all of the meeting may be conducted in a closed session to discuss matters that the Open Meetings Act permits to be discussed in a closed session. \nThis meeting will take place via screen sharing conference call. For call-in instructions email aasbell@sbgpartnership.org. \nSee the agenda for this meeting here.
URL:https://sbgpartnership.org/event/sbgp-program-committee-meeting-33/
LOCATION:Zoom conference call
CATEGORIES:Events
END:VEVENT
BEGIN:VEVENT
DTSTART;TZID=America/New_York:20210601T180000
DTEND;TZID=America/New_York:20210601T200000
DTSTAMP:20260425T194457
CREATED:20210303T143246Z
LAST-MODIFIED:20210601T231836Z
UID:9422-1622570400-1622577600@sbgpartnership.org
SUMMARY:SBGP Strategic Planning Committee Meeting
DESCRIPTION:The SBGP Strategic Planning Committee will meet from 6:00 to 8:00 pm on the 1st Tuesday of each month in 2020. This meeting is open to the public\, however\, part or all of the meeting may be conducted in a closed session to discuss matters that the Open Meetings Act permits to be discussed in a closed session.\nThis meeting will take place vis screen sharing conference call. Email brogers@sbgpartnership.org at least 24 hours in advance for call-in instructions. \nSee the agenda for this meeting here.
URL:https://sbgpartnership.org/event/sbgp-strategic-planning-committee-meeting-41/
LOCATION:Zoom conference call
CATEGORIES:Events
END:VEVENT
BEGIN:VEVENT
DTSTART;TZID=America/New_York:20210531T090000
DTEND;TZID=America/New_York:20210531T170000
DTSTAMP:20260425T194457
CREATED:20210302T143616Z
LAST-MODIFIED:20210531T070722Z
UID:9412-1622451600-1622480400@sbgpartnership.org
SUMMARY:Memorial Day (SBGP Closed)
DESCRIPTION:
URL:https://sbgpartnership.org/event/memorial-day-sbgp-closed-3/
CATEGORIES:Events
END:VEVENT
BEGIN:VEVENT
DTSTART;TZID=America/New_York:20210519T180000
DTEND;TZID=America/New_York:20210519T200000
DTSTAMP:20260425T194457
CREATED:20210302T143003Z
LAST-MODIFIED:20210519T222121Z
UID:9405-1621447200-1621454400@sbgpartnership.org
SUMMARY:SBGP Board  of Directors Meeting
DESCRIPTION:The SBGP Board of Directors meets at least six times each calendar year. This meeting is open to the public\, however\, part or all of the meeting may be conducted in a closed session to discuss matters that the Open Meetings Act permits to be discussed in a closed session. \nThis meeting will be held by screen sharing conference call. Email epitkow@sbgpartnership.org at least 24 hours in advance to RSVP for the meeting and to request conference call instructions. \nSee the agenda for this meeting here.
URL:https://sbgpartnership.org/event/sbgp-board-of-directors-meeting-34/
LOCATION:Zoom conference call
CATEGORIES:Events
END:VEVENT
BEGIN:VEVENT
DTSTART;TZID=America/New_York:20210513T180000
DTEND;TZID=America/New_York:20210513T190000
DTSTAMP:20260425T194457
CREATED:20210505T203333Z
LAST-MODIFIED:20210513T220527Z
UID:10196-1620928800-1620932400@sbgpartnership.org
SUMMARY:SBGP Program Committee Meeting
DESCRIPTION:This meeting is open to the public\, however\, part or all of the meeting may be conducted in a closed session to discuss matters that the Open Meetings Act permits to be discussed in a closed session. \nThis meeting will take place via screen sharing conference call. For call-in instructions email lcornish@sbgpartnership.org. \nSee the agenda for this meeting here.
URL:https://sbgpartnership.org/event/sbgp-program-committee-meeting-35/
LOCATION:Zoom conference call
CATEGORIES:Events
END:VEVENT
BEGIN:VEVENT
DTSTART;TZID=America/New_York:20210511T163000
DTEND;TZID=America/New_York:20210511T173000
DTSTAMP:20260425T194457
CREATED:20210506T203254Z
LAST-MODIFIED:20210510T214304Z
UID:10216-1620750600-1620754200@sbgpartnership.org
SUMMARY:SBGP Executive Committee Meeting
DESCRIPTION:This meeting is open to the public\, however\, part or all of the meeting may be conducted in a closed session to discuss matters that the Open Meetings Act permits to be discussed in a closed session. \nThis meeting will be held by screen sharing conference call. Email epitkow@sbgpartnership.org at least 24 hours in advance to RSVP for the meeting and to request conference call instructions. \nSee the agenda for this meeting here.
URL:https://sbgpartnership.org/event/sbgp-executive-committee-meeting-5/
LOCATION:Zoom conference call
CATEGORIES:Events
END:VEVENT
BEGIN:VEVENT
DTSTART;TZID=America/New_York:20210510T130000
DTEND;TZID=America/New_York:20210510T140000
DTSTAMP:20260425T194457
CREATED:20210302T143003Z
LAST-MODIFIED:20210509T211033Z
UID:9404-1620651600-1620655200@sbgpartnership.org
SUMMARY:SBGP Finance Committee Meeting
DESCRIPTION:This meeting is open to the public\, however\, part or all of the meeting may be conducted in a closed session to discuss matters that the Open Meetings Act permits to be discussed in a closed session. \nThis meeting will be held by screensharing conference call. Email lmcdade@sbgpartnership.org at least 24 hours in advance to RSVP for the meeting and to request conference call instructions. \nSee the agenda for this meeting here. 
URL:https://sbgpartnership.org/event/sbgp-finance-committee-meeting-34/
LOCATION:Zoom conference call
CATEGORIES:Events
END:VEVENT
BEGIN:VEVENT
DTSTART;TZID=America/New_York:20210504T180000
DTEND;TZID=America/New_York:20210504T200000
DTSTAMP:20260425T194457
CREATED:20210302T143002Z
LAST-MODIFIED:20210504T203307Z
UID:9403-1620151200-1620158400@sbgpartnership.org
SUMMARY:SBGP Strategic Planning Committee Meeting
DESCRIPTION:The SBGP Strategic Planning Committee will meet from 6:00 to 8:00 pm on the 1st Tuesday of each month in 2020. This meeting is open to the public\, however\, part or all of the meeting may be conducted in a closed session to discuss matters that the Open Meetings Act permits to be discussed in a closed session.\nThis meeting will take place vis screen sharing conference call. Email brogers@sbgpartnership.org at least 24 hours in advance for call-in instructions. \nSee the agenda for this meeting here.
URL:https://sbgpartnership.org/event/sbgp-strategic-planning-committee-meeting-40/
LOCATION:Zoom conference call
CATEGORIES:Events
END:VEVENT
BEGIN:VEVENT
DTSTART;TZID=America/New_York:20210422T130000
DTEND;TZID=America/New_York:20210422T140000
DTSTAMP:20260425T194457
CREATED:20210416T193456Z
LAST-MODIFIED:20210421T193231Z
UID:9943-1619096400-1619100000@sbgpartnership.org
SUMMARY:SBGP Communications Committee Meeting
DESCRIPTION:This meeting is open to the public\, however\, part or all of the meeting may be conducted in a closed session to discuss matters that the Open Meetings Act permits to be discussed in a closed session. \nFor instructions to join\, email mramirez@sbgpartnership.org. \nSee the agenda for this meeting here.
URL:https://sbgpartnership.org/event/sbgp-communications-committee-meeting-4/
LOCATION:Zoom conference call
CATEGORIES:Events
END:VEVENT
BEGIN:VEVENT
DTSTART;TZID=America/New_York:20210421T180000
DTEND;TZID=America/New_York:20210421T200000
DTSTAMP:20260425T194457
CREATED:20210302T143002Z
LAST-MODIFIED:20210421T193230Z
UID:9401-1619028000-1619035200@sbgpartnership.org
SUMMARY:SBGP Board  of Directors Meeting
DESCRIPTION:The SBGP Board of Directors meets at least six times each calendar year. This meeting is open to the public\, however\, part or all of the meeting may be conducted in a closed session to discuss matters that the Open Meetings Act permits to be discussed in a closed session. \nThis meeting will be held by screen sharing conference call. Email epitkow@sbgpartnership.org at least 24 hours in advance to RSVP for the meeting and to request conference call instructions. \nSee the agenda for this meeting here.
URL:https://sbgpartnership.org/event/sbgp-board-of-directors-meeting-33/
LOCATION:Zoom conference call
CATEGORIES:Events
END:VEVENT
BEGIN:VEVENT
DTSTART;TZID=America/New_York:20210420T160000
DTEND;TZID=America/New_York:20210420T170000
DTSTAMP:20260425T194457
CREATED:20210412T190836Z
LAST-MODIFIED:20210420T193438Z
UID:9875-1618934400-1618938000@sbgpartnership.org
SUMMARY:SBGP Finance Committee Meeting
DESCRIPTION:This meeting is open to the public\, however\, part or all of the meeting may be conducted in a closed session to discuss matters that the Open Meetings Act permits to be discussed in a closed session. \nThis meeting will be held by screensharing conference call. Email lmcdade@sbgpartnership.org at least 24 hours in advance to RSVP for the meeting and to request conference call instructions. \nSee the agenda for this meeting here.
URL:https://sbgpartnership.org/event/sbgp-finance-committee-meeting-36/
LOCATION:Zoom conference call
CATEGORIES:Events
END:VEVENT
BEGIN:VEVENT
DTSTART;TZID=America/New_York:20210418T090000
DTEND;TZID=America/New_York:20210418T150000
DTSTAMP:20260425T194457
CREATED:20210105T051024Z
LAST-MODIFIED:20210417T193306Z
UID:9067-1618736400-1618758000@sbgpartnership.org
SUMMARY:SBGP Program Committee Meeting
DESCRIPTION:This meeting is open to the public\, however\, part or all of the meeting may be conducted in a closed session to discuss matters that the Open Meetings Act permits to be discussed in a closed session. \nFor instructions to join\, email aasbell@sbgpartnership.org. \nSee the agenda for this meeting here.
URL:https://sbgpartnership.org/event/sbgp-program-committee-meeting-31/
LOCATION:Zoom conference call
CATEGORIES:Events
END:VEVENT
BEGIN:VEVENT
DTSTART;TZID=America/New_York:20210414T180000
DTEND;TZID=America/New_York:20210414T200000
DTSTAMP:20260425T194457
CREATED:20210302T143001Z
LAST-MODIFIED:20210414T193338Z
UID:9399-1618423200-1618430400@sbgpartnership.org
SUMMARY:SBGP Spring Public Meeting
DESCRIPTION:Members of the general public are invited to the annual Spring Public Meeting and to provide feedback on the proposed budget for Fiscal Year 2022 as well as the general performance of SBGP.The Spring Public Meeting is scheduled for Wednesday\, April 14\, 2021\, and will be held via screen sharing conference call. Register now at https://bit.ly/3cBjS87 \nIn case of inclement weather the meeting will be moved to Friday\, April 16th.
URL:https://sbgpartnership.org/event/sbgp-spring-public-meeting-4/
LOCATION:Zoom conference call
CATEGORIES:Events
END:VEVENT
BEGIN:VEVENT
DTSTART;TZID=America/New_York:20210412T160000
DTEND;TZID=America/New_York:20210412T170000
DTSTAMP:20260425T194457
CREATED:20210112T072023Z
LAST-MODIFIED:20250714T160502Z
UID:9125-1618243200-1618246800@sbgpartnership.org
SUMMARY:SBGP Finance Committee Meeting (Cancelled)
DESCRIPTION:This meeting has been cancelled. The calendar will be updated once the meeting has been rescheduled.
URL:https://sbgpartnership.org/event/sbgp-finance-committee-meeting-33/
LOCATION:Zoom conference call
CATEGORIES:Events
END:VEVENT
BEGIN:VEVENT
DTSTART;TZID=America/New_York:20210406T180000
DTEND;TZID=America/New_York:20210406T200000
DTSTAMP:20260425T194457
CREATED:20210106T052905Z
LAST-MODIFIED:20210406T182141Z
UID:9075-1617732000-1617739200@sbgpartnership.org
SUMMARY:SBGP Strategic Planning Committee Meeting
DESCRIPTION:The SBGP Strategic Planning Committee will meet from 6:00 to 8:00 pm on the 1st Tuesday of each month in 2020. This meeting is open to the public\, however\, part or all of the meeting may be conducted in a closed session to discuss matters that the Open Meetings Act permits to be discussed in a closed session.\nThis meeting will take place vis screen sharing conference call. Email brogers@sbgpartnership.org at least 24 hours in advance for call-in instructions. \nSee the agenda for this meeting here.
URL:https://sbgpartnership.org/event/sbgp-strategic-planning-committee-meeting-39/
LOCATION:Zoom conference call
CATEGORIES:Events
END:VEVENT
BEGIN:VEVENT
DTSTART;TZID=America/New_York:20210331T170000
DTEND;TZID=America/New_York:20210331T170000
DTSTAMP:20260425T194457
CREATED:20210302T143337Z
LAST-MODIFIED:20210331T173330Z
UID:9409-1617210000-1617210000@sbgpartnership.org
SUMMARY:SBGP Community Grant Applications Due
DESCRIPTION:Applications for our Winter 2021 Community Grant cycle must be submitted online through our web portal by Wednesday\, March 31st at 5:00PM.\nLearn more and apply at https://sbgpartnership.org/community-grants/
URL:https://sbgpartnership.org/event/sbgp-community-grant-applications-due-2/
CATEGORIES:Events
END:VEVENT
BEGIN:VEVENT
DTSTART;TZID=America/New_York:20210318T173000
DTEND;TZID=America/New_York:20210318T200000
DTSTAMP:20260425T194457
CREATED:20210302T143336Z
LAST-MODIFIED:20210318T160341Z
UID:9408-1616088600-1616097600@sbgpartnership.org
SUMMARY:SBGP Community Grants Open House
DESCRIPTION:Applying for an SBGP Community Grant? Join us on March 18th for an Open House where we will cover:\n– Advice for writing a persuasive project narrative and budget\n– Technical assistance for using our online application platform\n– Community Grant decision-making process\n– Answers to YOUR questions\nRSVP for a link to join: outreach@sbgpartnership.org
URL:https://sbgpartnership.org/event/sbgp-community-grants-open-house-2/
LOCATION:Zoom conference call
CATEGORIES:Events
END:VEVENT
BEGIN:VEVENT
DTSTART;TZID=America/New_York:20210317T180000
DTEND;TZID=America/New_York:20210317T200000
DTSTAMP:20260425T194457
CREATED:20201217T025340Z
LAST-MODIFIED:20210317T151737Z
UID:8916-1616004000-1616011200@sbgpartnership.org
SUMMARY:SBGP Board  of Directors Meeting
DESCRIPTION:The SBGP Board of Directors meets at least six times each calendar year. This meeting is open to the public\, however\, part or all of the meeting may be conducted in a closed session to discuss matters that the Open Meetings Act permits to be discussed in a closed session. \nThis meeting will be held by screen sharing conference call. Email epitkow@sbgpartnership.org at least 24 hours in advance to RSVP for the meeting and to request conference call instructions. \nSee the agenda for this meeting here.
URL:https://sbgpartnership.org/event/sbgp-board-of-directors-meeting-32/
LOCATION:Zoom conference call
CATEGORIES:Events
END:VEVENT
BEGIN:VEVENT
DTSTART;TZID=America/New_York:20210308T130000
DTEND;TZID=America/New_York:20210308T140000
DTSTAMP:20260425T194457
CREATED:20201208T022052Z
LAST-MODIFIED:20210308T144805Z
UID:8856-1615208400-1615212000@sbgpartnership.org
SUMMARY:SBGP Finance Committee Meeting
DESCRIPTION:This meeting is open to the public\, however\, part or all of the meeting may be conducted in a closed session to discuss matters that the Open Meetings Act permits to be discussed in a closed session. \nThis meeting will be held by screensharing conference call. Email lmcdade@sbgpartnership.org at least 24 hours in advance to RSVP for the meeting and to request conference call instructions. \nSee the agenda for this meeting here.
URL:https://sbgpartnership.org/event/sbgp-finance-committee-meeting-31/
LOCATION:Zoom conference call
CATEGORIES:Events
END:VEVENT
BEGIN:VEVENT
DTSTART;TZID=America/New_York:20210302T180000
DTEND;TZID=America/New_York:20210302T200000
DTSTAMP:20260425T194457
CREATED:20201202T014801Z
LAST-MODIFIED:20210302T142959Z
UID:8791-1614708000-1614715200@sbgpartnership.org
SUMMARY:SBGP Strategic Planning Committee Meeting
DESCRIPTION:The SBGP Strategic Planning Committee will meet from 6:00 to 8:00 pm on the 1st Tuesday of each month in 2020. This meeting is open to the public\, however\, part or all of the meeting may be conducted in a closed session to discuss matters that the Open Meetings Act permits to be discussed in a closed session.\nThis meeting will take place vis screen sharing conference call. Email brogers@sbgpartnership.org at least 24 hours in advance for call-in instructions. \nSee the agenda for this meeting here.
URL:https://sbgpartnership.org/event/sbgp-strategic-planning-committee-meeting-38/
LOCATION:Zoom conference call
CATEGORIES:Events
END:VEVENT
BEGIN:VEVENT
DTSTART;TZID=UTC:20210226T173000
DTEND;TZID=UTC:20210226T200000
DTSTAMP:20260425T194457
CREATED:20210224T152643Z
LAST-MODIFIED:20210224T152643Z
UID:9367-1614360600-1614369600@sbgpartnership.org
SUMMARY:SBGP Community Grants Open House
DESCRIPTION:Join us for a FREE Community Grant Open House. This event is intended to provide SBGP grant applicants with the tools\, technical assistance and instructions they need to submit the most clear and persuasive grant application possible. We will also cover the Community Grant decision-making process and grantee obligations. \nAttendance is optional but encouraged.\nRSVP to receive link to join: outreach@sbgpartnership.org
URL:https://sbgpartnership.org/event/sbgp-community-grants-open-house/
LOCATION:Zoom conference call
CATEGORIES:Events
END:VEVENT
BEGIN:VEVENT
DTSTART;TZID=America/New_York:20210217T180000
DTEND;TZID=America/New_York:20210217T200000
DTSTAMP:20260425T194458
CREATED:20201119T001804Z
LAST-MODIFIED:20210212T142522Z
UID:8721-1613584800-1613592000@sbgpartnership.org
SUMMARY:SBGP Board  of Directors Meeting
DESCRIPTION:The SBGP Board of Directors meets at least six times each calendar year. This meeting is open to the public\, however\, part or all of the meeting may be conducted in a closed session to discuss matters that the Open Meetings Act permits to be discussed in a closed session. \nThis meeting will be held by screen sharing conference call. Email epitkow@sbgpartnership.org at least 24 hours in advance to RSVP for the meeting and to request conference call instructions. \nSee the agenda for this meeting here. 
URL:https://sbgpartnership.org/event/sbgp-board-of-directors-meeting-31/
LOCATION:Zoom conference call
CATEGORIES:Events
END:VEVENT
BEGIN:VEVENT
DTSTART;TZID=America/New_York:20210215T090000
DTEND;TZID=America/New_York:20210215T170000
DTSTAMP:20260425T194458
CREATED:20201117T171848Z
LAST-MODIFIED:20210112T092333Z
UID:8710-1613379600-1613408400@sbgpartnership.org
SUMMARY:Presidents' Day (SBGP Closed)
DESCRIPTION:
URL:https://sbgpartnership.org/event/presidents-day-sbgp-closed-3/
END:VEVENT
BEGIN:VEVENT
DTSTART;TZID=America/New_York:20210209T103000
DTEND;TZID=America/New_York:20210209T113000
DTSTAMP:20260425T194458
CREATED:20201110T230318Z
LAST-MODIFIED:20210208T164603Z
UID:8668-1612866600-1612870200@sbgpartnership.org
SUMMARY:SBGP Finance Committee Meeting
DESCRIPTION:This meeting is open to the public\, however\, part or all of the meeting may be conducted in a closed session to discuss matters that the Open Meetings Act permits to be discussed in a closed session. \nThis meeting will be held by screensharing conference call. Email lmcdade@sbgpartnership.org at least 24 hours in advance to RSVP for the meeting and to request conference call instructions. \nSee the agenda for this meeting here. 
URL:https://sbgpartnership.org/event/sbgp-finance-committee-meeting-30/
LOCATION:Zoom conference call
CATEGORIES:Events
END:VEVENT
BEGIN:VEVENT
DTSTART;TZID=America/New_York:20210202T180000
DTEND;TZID=America/New_York:20210202T200000
DTSTAMP:20260425T194458
CREATED:20201104T220507Z
LAST-MODIFIED:20210202T145223Z
UID:8621-1612288800-1612296000@sbgpartnership.org
SUMMARY:SBGP Strategic Planning Committee Meeting
DESCRIPTION:The SBGP Strategic Planning Committee will meet from 6:00 to 8:00 pm on the 1st Tuesday of each month in 2020. This meeting is open to the public\, however\, part or all of the meeting may be conducted in a closed session to discuss matters that the Open Meetings Act permits to be discussed in a closed session.\nThis meeting will take place vis screen sharing conference call. Email brogers@sbgpartnership.org at least 24 hours in advance for call-in instructions. \nSee the agenda for this meeting here.
URL:https://sbgpartnership.org/event/sbgp-strategic-planning-committee-meeting-37/
LOCATION:Zoom conference call
CATEGORIES:Events
END:VEVENT
BEGIN:VEVENT
DTSTART;TZID=UTC:20210201T100000
DTEND;TZID=UTC:20210201T100000
DTSTAMP:20260425T194458
CREATED:20210127T144734Z
LAST-MODIFIED:20210127T144734Z
UID:9231-1612173600-1612173600@sbgpartnership.org
SUMMARY:SBGP Community Grant Application Opens
DESCRIPTION:Applications for our Winter 2021 Community Grant cycle will open on Monday\, February 1st at 10:00AM. \nLearn more and apply at https://sbgpartnership.org/community-grants/
URL:https://sbgpartnership.org/event/sbgp-community-grant-application-opens/
LOCATION:Applications must be submitted online
END:VEVENT
BEGIN:VEVENT
DTSTART;TZID=America/New_York:20210120T180000
DTEND;TZID=America/New_York:20210120T200000
DTSTAMP:20260425T194458
CREATED:20201027T062311Z
LAST-MODIFIED:20210114T214038Z
UID:8553-1611165600-1611172800@sbgpartnership.org
SUMMARY:SBGP Board  of Directors Meeting
DESCRIPTION:The SBGP Board of Directors meets at least six times each calendar year. This meeting is open to the public\, however\, part or all of the meeting may be conducted in a closed session to discuss matters that the Open Meetings Act permits to be discussed in a closed session. \nThis meeting will be held by screen sharing conference call. Email epitkow@sbgpartnership.org at least 24 hours in advance to RSVP for the meeting and to request conference call instructions. \nSee the agenda for this meeting here.
URL:https://sbgpartnership.org/event/sbgp-board-of-directors-meeting-30/
LOCATION:Zoom conference call
CATEGORIES:Events
END:VEVENT
END:VCALENDAR