BEGIN:VCALENDAR
VERSION:2.0
PRODID:-//South Baltimore Gateway Partnership - ECPv6.15.18//NONSGML v1.0//EN
CALSCALE:GREGORIAN
METHOD:PUBLISH
X-ORIGINAL-URL:https://sbgpartnership.org
X-WR-CALDESC:Events for South Baltimore Gateway Partnership
REFRESH-INTERVAL;VALUE=DURATION:PT1H
X-Robots-Tag:noindex
X-PUBLISHED-TTL:PT1H
BEGIN:VTIMEZONE
TZID:America/New_York
BEGIN:DAYLIGHT
TZOFFSETFROM:-0500
TZOFFSETTO:-0400
TZNAME:EDT
DTSTART:20240310T070000
END:DAYLIGHT
BEGIN:STANDARD
TZOFFSETFROM:-0400
TZOFFSETTO:-0500
TZNAME:EST
DTSTART:20241103T060000
END:STANDARD
BEGIN:DAYLIGHT
TZOFFSETFROM:-0500
TZOFFSETTO:-0400
TZNAME:EDT
DTSTART:20250309T070000
END:DAYLIGHT
BEGIN:STANDARD
TZOFFSETFROM:-0400
TZOFFSETTO:-0500
TZNAME:EST
DTSTART:20251102T060000
END:STANDARD
BEGIN:DAYLIGHT
TZOFFSETFROM:-0500
TZOFFSETTO:-0400
TZNAME:EDT
DTSTART:20260308T070000
END:DAYLIGHT
BEGIN:STANDARD
TZOFFSETFROM:-0400
TZOFFSETTO:-0500
TZNAME:EST
DTSTART:20261101T060000
END:STANDARD
BEGIN:DAYLIGHT
TZOFFSETFROM:-0500
TZOFFSETTO:-0400
TZNAME:EDT
DTSTART:20270314T070000
END:DAYLIGHT
BEGIN:STANDARD
TZOFFSETFROM:-0400
TZOFFSETTO:-0500
TZNAME:EST
DTSTART:20271107T060000
END:STANDARD
END:VTIMEZONE
BEGIN:VEVENT
DTSTART;TZID=America/New_York:20260119T090000
DTEND;TZID=America/New_York:20260119T170000
DTSTAMP:20260423T190602
CREATED:20251007T222421Z
LAST-MODIFIED:20260119T105945Z
UID:51787-1768813200-1768842000@sbgpartnership.org
SUMMARY:Birthday of Dr. Martin Luther King\, Jr. (SBGP Closed)
DESCRIPTION:SBGP is closed for the birthday of Dr. Martin Luther King\, Jr.
URL:https://sbgpartnership.org/event/birthday-of-dr-martin-luther-king-jr-sbgp-closed-8/
CATEGORIES:Events
END:VEVENT
BEGIN:VEVENT
DTSTART;TZID=America/New_York:20260115T180000
DTEND;TZID=America/New_York:20260115T200000
DTSTAMP:20260423T190602
CREATED:20251205T221416Z
LAST-MODIFIED:20260115T102919Z
UID:56243-1768500000-1768507200@sbgpartnership.org
SUMMARY:SBGP Community Grants Winter 2026 Information Session
DESCRIPTION:SBGP Community Grants Winter 2026 Information Session \nThursday\, January 15\, 2026\, 6:00pm – 8:00pm (Virtual) \nJoin us virtually for an application overview and tips for prospective grantees so you can prepare a strong grant proposal. \nRegister here. \nIf requesting accommodations for this meeting\, please reach out one week in advance to cemmanuelle@sbgpartnership.org. SBGP will make reasonable accommodations as possible. 
URL:https://sbgpartnership.org/event/sbgp-community-grants-winter-2026-information-session-cycle-17/
END:VEVENT
BEGIN:VEVENT
DTSTART;TZID=America/New_York:20260114T090000
DTEND;TZID=America/New_York:20260114T100000
DTSTAMP:20260423T190602
CREATED:20251009T222951Z
LAST-MODIFIED:20260114T005914Z
UID:51948-1768381200-1768384800@sbgpartnership.org
SUMMARY:SBGP Finance Committee Meeting
DESCRIPTION:This meeting is open to the public\, however\, part or all of the meeting may be conducted in a closed session to discuss matters that the Open Meetings Act permits to be discussed in a closed session. \nThis meeting will be held by screen-sharing conference call. Email kfgordon@sbgpartnership.org at least 24 hours in advance to RSVP for the meeting and to request conference call instructions. \nIf requesting accommodations for this meeting\, please reach out one week in advance to cemmanuelle@sbgpartnership.org. SBGP will make reasonable accommodations as possible. \nAccess the agenda here.
URL:https://sbgpartnership.org/event/sbgp-finance-committee-meeting-143/
CATEGORIES:Events
END:VEVENT
BEGIN:VEVENT
DTSTART;TZID=America/New_York:20260106T090000
DTEND;TZID=America/New_York:20260106T110000
DTSTAMP:20260423T190602
CREATED:20251010T195743Z
LAST-MODIFIED:20260106T004414Z
UID:52053-1767690000-1767697200@sbgpartnership.org
SUMMARY:SBGP Strategic Planning Committee
DESCRIPTION:The SBGP Strategic Planning Committee will meet from 9:00 to 11:00 am on the 1st Tuesday of each month. This meeting is open to the public\, however\, part or all of the meeting may be conducted in a closed session to discuss matters that the Open Meetings Act permits to be discussed in a closed session. \nThis meeting will take place via screen-sharing conference call. Email brogers@sbgpartnership.org at least 24 hours in advance for call-in instructions. \nIf requesting accommodations for this meeting\, please reach out one week in advance to cemmanuelle@sbgpartnership.org. SBGP will make reasonable accommodations as possible. \nAccess the agenda here.
URL:https://sbgpartnership.org/event/sbgp-strategic-planning-committee-68/
CATEGORIES:Events
END:VEVENT
BEGIN:VEVENT
DTSTART;TZID=America/New_York:20260101T090000
DTEND;TZID=America/New_York:20260101T170000
DTSTAMP:20260423T190602
CREATED:20251007T222419Z
LAST-MODIFIED:20260101T104617Z
UID:51786-1767258000-1767286800@sbgpartnership.org
SUMMARY:New Year's Day (SBGP Closed)
DESCRIPTION:SBGP is closed for New Year's Day.
URL:https://sbgpartnership.org/event/new-years-day-sbgp-closed-5/
CATEGORIES:Events
END:VEVENT
BEGIN:VEVENT
DTSTART;TZID=America/New_York:20251231T090000
DTEND;TZID=America/New_York:20251231T170000
DTSTAMP:20260423T190602
CREATED:20241122T194543Z
LAST-MODIFIED:20251231T104435Z
UID:33242-1767171600-1767200400@sbgpartnership.org
SUMMARY:Holiday (SBGP Closed)
DESCRIPTION:SBGP is closed for a holiday.
URL:https://sbgpartnership.org/event/holiday-sbgp-closed-10/
CATEGORIES:Events
END:VEVENT
BEGIN:VEVENT
DTSTART;TZID=America/New_York:20251230T090000
DTEND;TZID=America/New_York:20251230T170000
DTSTAMP:20260423T190602
CREATED:20241122T194542Z
LAST-MODIFIED:20251230T104436Z
UID:33241-1767085200-1767114000@sbgpartnership.org
SUMMARY:Holiday (SBGP Closed)
DESCRIPTION:SBGP is closed for a holiday.
URL:https://sbgpartnership.org/event/holiday-sbgp-closed-9/
CATEGORIES:Events
END:VEVENT
BEGIN:VEVENT
DTSTART;TZID=America/New_York:20251229T090000
DTEND;TZID=America/New_York:20251229T170000
DTSTAMP:20260423T190602
CREATED:20241122T194542Z
LAST-MODIFIED:20251229T104457Z
UID:33240-1766998800-1767027600@sbgpartnership.org
SUMMARY:Holiday (SBGP Closed)
DESCRIPTION:SBGP is closed for a holiday.
URL:https://sbgpartnership.org/event/holiday-sbgp-closed-8/
CATEGORIES:Events
END:VEVENT
BEGIN:VEVENT
DTSTART;TZID=America/New_York:20251226T090000
DTEND;TZID=America/New_York:20251226T170000
DTSTAMP:20260423T190602
CREATED:20241122T194541Z
LAST-MODIFIED:20251226T102920Z
UID:33239-1766739600-1766768400@sbgpartnership.org
SUMMARY:Holiday (SBGP Closed)
DESCRIPTION:SBGP is closed for a holiday.
URL:https://sbgpartnership.org/event/holiday-sbgp-closed-7/
CATEGORIES:Events
END:VEVENT
BEGIN:VEVENT
DTSTART;TZID=America/New_York:20251225T090000
DTEND;TZID=America/New_York:20251225T170000
DTSTAMP:20260423T190602
CREATED:20241122T194540Z
LAST-MODIFIED:20251225T101608Z
UID:33238-1766653200-1766682000@sbgpartnership.org
SUMMARY:Christmas Day (SBGP Closed)
DESCRIPTION:SBGP is closed for Christmas Day.
URL:https://sbgpartnership.org/event/christmas-day-sbgp-closed-5/
CATEGORIES:Events
END:VEVENT
BEGIN:VEVENT
DTSTART;TZID=America/New_York:20251210T180000
DTEND;TZID=America/New_York:20251210T200000
DTSTAMP:20260423T190602
CREATED:20241122T194526Z
LAST-MODIFIED:20251210T230308Z
UID:33225-1765389600-1765396800@sbgpartnership.org
SUMMARY:SBGP Board of Directors Meeting
DESCRIPTION:  \nThe SBGP Board of Directors meets at least six times each calendar year. This meeting is open to the public\, however\, part or all of the meeting may be conducted in a closed session to discuss matters that the Open Meetings Act permits to be discussed in a closed session. \nThis meeting will be held in-person at City Garage with a virtual option: 101 W. Dickman Street\, Suite 1000\, Baltimore\, MD\, 21230\nEmail epitkow@sbgpartnership.org at least 24 hours in advance to RSVP for the meeting and to request conference call instructions. \nIn-person meeting attendees are expected to be vaccinated. Masks are welcome but not required. Parking on-site\, ADA accessible bathrooms\, first-floor meeting space. \nIf requesting accommodations for this meeting\, please reach out one week in advance to cemmanuelle@sbgpartnership.org. SBGP will make reasonable accommodations as possible. \nAccess the agenda here.
URL:https://sbgpartnership.org/event/sbgp-board-of-directors-meeting-120/
LOCATION:City Garage\, 101 W Dickman St\, Baltimore\, MD\, United States
CATEGORIES:Events
END:VEVENT
BEGIN:VEVENT
DTSTART;TZID=America/New_York:20251209T090000
DTEND;TZID=America/New_York:20251209T110000
DTSTAMP:20260423T190602
CREATED:20241122T194525Z
LAST-MODIFIED:20251208T235917Z
UID:33224-1765270800-1765278000@sbgpartnership.org
SUMMARY:SBGP Strategic Planning Committee
DESCRIPTION:The SBGP Strategic Planning Committee will meet from 9:00 to 11:00 am on the 1st Tuesday of each month. This meeting is open to the public\, however\, part or all of the meeting may be conducted in a closed session to discuss matters that the Open Meetings Act permits to be discussed in a closed session. \nThis meeting will take place via screen-sharing conference call. Email brogers@sbgpartnership.org at least 24 hours in advance for call-in instructions. \nAccess the agenda here. \nIf requesting accommodations for this meeting\, please reach out one week in advance to cemmanuelle@sbgpartnership.org. SBGP will make reasonable accommodations as possible. \n 
URL:https://sbgpartnership.org/event/sbgp-strategic-planning-committee-67/
CATEGORIES:Events
END:VEVENT
BEGIN:VEVENT
DTSTART;TZID=America/New_York:20251128T090000
DTEND;TZID=America/New_York:20251128T170000
DTSTAMP:20260423T190602
CREATED:20241122T194540Z
LAST-MODIFIED:20251127T225943Z
UID:33237-1764320400-1764349200@sbgpartnership.org
SUMMARY:American Indian Heritage Day (SBGP Closed)
DESCRIPTION:SBGP is closed for American Indian Heritage Day.
URL:https://sbgpartnership.org/event/american-indian-heritage-day-sbgp-closed-6/
CATEGORIES:Events
END:VEVENT
BEGIN:VEVENT
DTSTART;TZID=America/New_York:20251127T090000
DTEND;TZID=America/New_York:20251127T170000
DTSTAMP:20260423T190602
CREATED:20241122T194539Z
LAST-MODIFIED:20251126T225924Z
UID:33236-1764234000-1764262800@sbgpartnership.org
SUMMARY:Thanksgiving Day (SBGP Closed)
DESCRIPTION:SBGP is closed for Thanksgiving Day.
URL:https://sbgpartnership.org/event/thanksgiving-day-sbgp-closed-8/
CATEGORIES:Events
END:VEVENT
BEGIN:VEVENT
DTSTART;TZID=America/New_York:20251119T180000
DTEND;TZID=America/New_York:20251119T200000
DTSTAMP:20260423T190602
CREATED:20241122T194523Z
LAST-MODIFIED:20251119T231507Z
UID:33222-1763575200-1763582400@sbgpartnership.org
SUMMARY:SBGP Board of Directors Meeting
DESCRIPTION:The SBGP Board of Directors meets at least six times each calendar year. This meeting is open to the public\, however\, part or all of the meeting may be conducted in a closed session to discuss matters that the Open Meetings Act permits to be discussed in a closed session. \nThis meeting will be held in-person at City Garage with a virtual option: 101 W. Dickman Street\, Suite 1000\, Baltimore\, MD\, 21230Email epitkow@sbgpartnership.org at least 24 hours in advance to RSVP for the meeting and to request conference call instructions. \nIn-person meeting attendees are expected to be vaccinated. Masks are welcome but not required. Parking on-site\, ADA accessible bathrooms\, first-floor meeting space. \nIf requesting accommodations for this meeting\, please reach out one week in advance to cemmanuelle@sbgpartnership.org. SBGP will make reasonable accommodations as possible.
URL:https://sbgpartnership.org/event/sbgp-board-of-directors-meeting-119/
LOCATION:City Garage\, 101 W Dickman St\, Baltimore\, MD\, United States
CATEGORIES:Events
ORGANIZER;CN="jquabj82l98f6uuqevln19nj84@group.calendar.google.com":MAILTO:jquabj82l98f6uuqevln19nj84@group.calendar.google.com
END:VEVENT
BEGIN:VEVENT
DTSTART;TZID=America/New_York:20251112T090000
DTEND;TZID=America/New_York:20251112T100000
DTSTAMP:20260423T190602
CREATED:20250203T221724Z
LAST-MODIFIED:20251112T142239Z
UID:35230-1762938000-1762941600@sbgpartnership.org
SUMMARY:SBGP Finance Committee Meeting
DESCRIPTION:  \nThis meeting is open to the public\, however\, part or all of the meeting may be conducted in a closed session to discuss matters that the Open Meetings Act permits to be discussed in a closed session. \nThis meeting will be held by screen-sharing conference call. Email kfgordon@sbgpartnership.org at least 24 hours in advance to RSVP for the meeting and to request conference call instructions. \nIf requesting accommodations for this meeting\, please reach out one week in advance to cemmanuelle@sbgpartnership.org. SBGP will make reasonable accommodations as possible. \nAccess the agenda here. \n 
URL:https://sbgpartnership.org/event/sbgp-finance-committee-meeting-140/
CATEGORIES:Events
END:VEVENT
BEGIN:VEVENT
DTSTART;TZID=America/New_York:20251111T090000
DTEND;TZID=America/New_York:20251111T170000
DTSTAMP:20260423T190602
CREATED:20241122T194539Z
LAST-MODIFIED:20251110T222919Z
UID:33235-1762851600-1762880400@sbgpartnership.org
SUMMARY:Veterans Day (SBGP Closed)
DESCRIPTION:SBGP is closed for Veterans Day.
URL:https://sbgpartnership.org/event/veterans-day-sbgp-closed-4/
CATEGORIES:Events
END:VEVENT
BEGIN:VEVENT
DTSTART;TZID=America/New_York:20251106T180000
DTEND;TZID=America/New_York:20251106T200000
DTSTAMP:20260423T190602
CREATED:20251007T141935Z
LAST-MODIFIED:20251106T212912Z
UID:51752-1762452000-1762459200@sbgpartnership.org
SUMMARY:SBGP Keys to Capacity Workshop: Making Informed Decisions Regarding Nonprofit Compensation
DESCRIPTION:SBGP Keys to Capacity Workshop: Making Informed Decisions Regarding Nonprofit Compensation (virtual)  \nThursday\, November 6\, 2025: 6:00-8:00pm \nRegister here. \nNonprofit organizations are able to achieve their mission through volunteers and their ability to attract and retain talented staff who can drive their mission forward. During this workshop participants will: \n\nExplore equitable\, sustainable\, and reasonable compensation as it plays a vital role in ensuring long-term success\nLearn best practices for compensating employees receiving a stipend or salary\n\n\nReview tools and strategies for setting up payroll for 501(c)(3) organizations\n\nIf requesting accommodations for this meeting\, please reach out one week in advance to cemmanuelle@sbgpartnership.org. SBGP will make reasonable accommodations as possible. 
URL:https://sbgpartnership.org/event/sbgp-keys-to-capacity-workshop-making-informed-decisions-regarding-nonprofit-compensation/
END:VEVENT
BEGIN:VEVENT
DTSTART;TZID=America/New_York:20251105T150000
DTEND;TZID=America/New_York:20251105T170000
DTSTAMP:20260423T190602
CREATED:20251002T154205Z
LAST-MODIFIED:20251104T222923Z
UID:51478-1762354800-1762362000@sbgpartnership.org
SUMMARY:SBGP Communications Committee Meeting
DESCRIPTION:This meeting is open to the public\, however\, part or all of the meeting may be conducted in a closed session to discuss matters that the Open Meetings Act permits to be discussed in a closed session. \nThis meeting will be held by screen-sharing conference call. Email cemmanuelle@sbgpartnership.org at least 24 hours in advance to RSVP for the meeting and to request conference call instructions \nIf requesting accommodations for this meeting\, please reach out one week in advance to cemmanuelle@sbgpartnership.org. SBGP will make reasonable accommodations as possible. \nAccess the agenda here.
URL:https://sbgpartnership.org/event/sbgp-communications-committee-meeting-8/
CATEGORIES:Events
END:VEVENT
BEGIN:VEVENT
DTSTART;TZID=America/New_York:20251104T090000
DTEND;TZID=America/New_York:20251104T110000
DTSTAMP:20260423T190602
CREATED:20241122T194521Z
LAST-MODIFIED:20251103T222937Z
UID:33220-1762246800-1762254000@sbgpartnership.org
SUMMARY:SBGP Strategic Planning Committee
DESCRIPTION:The SBGP Strategic Planning Committee will meet from 9:00 to 11:00 am on the 1st Tuesday of each month. This meeting is open to the public\, however\, part or all of the meeting may be conducted in a closed session to discuss matters that the Open Meetings Act permits to be discussed in a closed session. \nThis meeting will take place via screen-sharing conference call. Email brogers@sbgpartnership.org at least 24 hours in advance for call-in instructions. \nIf requesting accommodations for this meeting\, please reach out one week in advance to cemmanuelle@sbgpartnership.org. SBGP will make reasonable accommodations as possible. \nAccess the agenda here.
URL:https://sbgpartnership.org/event/sbgp-strategic-planning-committee-66/
CATEGORIES:Events
END:VEVENT
BEGIN:VEVENT
DTSTART;TZID=America/New_York:20251103T180000
DTEND;TZID=America/New_York:20251103T200000
DTSTAMP:20260423T190602
CREATED:20250307T161547Z
LAST-MODIFIED:20251103T222937Z
UID:36620-1762192800-1762200000@sbgpartnership.org
SUMMARY:SGBP Program Committee Meeting
DESCRIPTION:  \nThis meeting is open to the public\, however\, part or all of the meeting may be conducted in a closed session to discuss matters that the Open Meetings Act permits to be discussed in a closed session. \nThis meeting will take place via screen sharing conference call. For call-in instructions email lcornish@sbgpartnership.org. \nIf requesting accommodations for this meeting\, please reach out one week in advance\nto cemmanuelle@sbgpartnership.org. SBGP will make reasonable accommodations as possible. \nAccess the agenda here.
URL:https://sbgpartnership.org/event/sgbp-program-committee-meeting-119/
CATEGORIES:Events
END:VEVENT
BEGIN:VEVENT
DTSTART;TZID=America/New_York:20251015T180000
DTEND;TZID=America/New_York:20251015T200000
DTSTAMP:20260423T190602
CREATED:20241122T194520Z
LAST-MODIFIED:20251015T204448Z
UID:33218-1760551200-1760558400@sbgpartnership.org
SUMMARY:SBGP Board of Directors Meeting
DESCRIPTION:The SBGP Board of Directors meets at least six times each calendar year. This meeting is open to the public\, however\, part or all of the meeting may be conducted in a closed session to discuss matters that the Open Meetings Act permits to be discussed in a closed session. \nThis meeting will be held in-person at City Garage with a virtual option: 101 W. Dickman Street\, Suite 1000\, Baltimore\, MD\, 21230\nEmail epitkow@sbgpartnership.org at least 24 hours in advance to RSVP for the meeting and to request conference call instructions. \nIn-person meeting attendees are expected to be vaccinated. Masks are welcome but not required. Parking on-site\, ADA accessible bathrooms\, first-floor meeting space. \nIf requesting accommodations for this meeting\, please reach out one week in advance to cemmanuelle@sbgpartnership.org. SBGP will make reasonable accommodations as possible. \nAccess the agenda here.
URL:https://sbgpartnership.org/event/sbgp-board-of-directors-meeting-118/
LOCATION:City Garage\, 101 W Dickman St\, Baltimore\, MD\, United States
CATEGORIES:Events
END:VEVENT
BEGIN:VEVENT
DTSTART;TZID=America/New_York:20251014T090000
DTEND;TZID=America/New_York:20251014T110000
DTSTAMP:20260423T190602
CREATED:20241122T194517Z
LAST-MODIFIED:20251013T204506Z
UID:33215-1760432400-1760439600@sbgpartnership.org
SUMMARY:SBGP Strategic Planning Committee
DESCRIPTION:  \nThe SBGP Strategic Planning Committee will meet from 9:00 to 11:00 am on the 1st Tuesday of each month. October’s meeting has been rescheduled from October 7 to October 14. This meeting is open to the public\, however\, part or all of the meeting may be conducted in a closed session to discuss matters that the Open Meetings Act permits to be discussed in a closed session. \nThis meeting will take place via screen-sharing conference call. Email brogers@sbgpartnership.org at least 24 hours in advance for call-in instructions. \nIf requesting accommodations for this meeting\, please reach out one week in advance to cemmanuelle@sbgpartnership.org. SBGP will make reasonable accommodations as possible. \nAccess the agenda here.
URL:https://sbgpartnership.org/event/sbgp-strategic-planning-committee-65/
CATEGORIES:Events
END:VEVENT
BEGIN:VEVENT
DTSTART;TZID=America/New_York:20251013T090000
DTEND;TZID=America/New_York:20251013T170000
DTSTAMP:20260423T190602
CREATED:20241122T194538Z
LAST-MODIFIED:20251013T195941Z
UID:33234-1760346000-1760374800@sbgpartnership.org
SUMMARY:Indigenous Peoples' Day (SBGP Closed)
DESCRIPTION:SBGP is closed for Indigenous Peoples' Day.
URL:https://sbgpartnership.org/event/indigenous-peoples-day-sbgp-closed-5/
CATEGORIES:Events
END:VEVENT
BEGIN:VEVENT
DTSTART;TZID=America/New_York:20251011T090000
DTEND;TZID=America/New_York:20251011T170000
DTSTAMP:20260423T190602
CREATED:20250307T161545Z
LAST-MODIFIED:20251011T203027Z
UID:36619-1760173200-1760202000@sbgpartnership.org
SUMMARY:SGBP Program Committee Meeting
DESCRIPTION:This meeting is open to the public\, however\, part or all of the meeting may be conducted in a closed session to discuss matters that the Open Meetings Act permits to be discussed in a closed session.  This in-person meeting will be reviewing Community Grant applications. Meeting will be held at City Garage\, 101 W. Dickman Street\, Suite 1000\, Baltimore\, MD 21230. \nFor joining instructions email lcornish@sbgpartnership.org. \nIn-person meeting attendees are expected to be vaccinated. Masks are welcome but not required. Free parking\, ADA accessible bathrooms\, first-floor meeting space. \nIf requesting accommodations for this meeting\, please reach out one week in advance\nto cemmanuelle@sbgpartnership.org. SBGP will make reasonable accommodations as possible. \nAccess the agenda here. \n 
URL:https://sbgpartnership.org/event/sgbp-program-committee-meeting-118/
LOCATION:101 W Dickman St\, Baltimore\, MD\, United States
CATEGORIES:Events,Meeting
END:VEVENT
BEGIN:VEVENT
DTSTART;TZID=America/New_York:20250929T170000
DTEND;TZID=America/New_York:20250929T203000
DTSTAMP:20260423T190602
CREATED:20250801T071501Z
LAST-MODIFIED:20250929T183012Z
UID:46959-1759165200-1759177800@sbgpartnership.org
SUMMARY:SBGP Governance & Nominating Committee Meeting
DESCRIPTION:This meeting is open to the public\, however\, part or all of the meeting may be conducted in a closed session to discuss matters that the Open Meetings Act permits to be discussed in a closed session. This in-person meeting will be held at City Garage\, 101 W. Dickman Street\, Suite 1000\, Baltimore\, MD 21230. \nIn-person meeting attendees are expected to be vaccinated. Masks are welcome but not required. Free parking\, ADA accessible bathrooms\, first-floor meeting space. \nEmail epitkow@sbgpartnership.org at least 24 hours in advance to RSVP for the meeting. \nIf requesting accommodations for this meeting\, please reach out one week in advance to cemmanuelle@sbgpartnership.org. SBGP will make reasonable accommodations as possible. \nAccess the agenda here.
URL:https://sbgpartnership.org/event/sbgp-governance-nominating-committee-meeting-10/
CATEGORIES:Events
END:VEVENT
BEGIN:VEVENT
DTSTART;TZID=America/New_York:20250917T180000
DTEND;TZID=America/New_York:20250917T200000
DTSTAMP:20260423T190602
CREATED:20241122T194516Z
LAST-MODIFIED:20250917T183005Z
UID:33214-1758132000-1758139200@sbgpartnership.org
SUMMARY:SBGP Board of Directors Meeting
DESCRIPTION:  \nThe SBGP Board of Directors meets at least six times each calendar year. This meeting is open to the public\, however\, part or all of the meeting may be conducted in a closed session to discuss matters that the Open Meetings Act permits to be discussed in a closed session. \nThis meeting will be held in-person at City Garage with a virtual option: 101 W. Dickman Street\, Suite 1000\, Baltimore\, MD\, 21230\nEmail epitkow@sbgpartnership.org at least 24 hours in advance to RSVP for the meeting and to request conference call instructions. \nIn-person meeting attendees are expected to be vaccinated. Masks are welcome but not required. Parking on-site\, ADA accessible bathrooms\, first-floor meeting space. \nIf requesting accommodations for this meeting\, please reach out one week in advance to cemmanuelle@sbgpartnership.org. SBGP will make reasonable accommodations as possible. \nAccess the agenda here.
URL:https://sbgpartnership.org/event/sbgp-board-of-directors-meeting-117/
LOCATION:City Garage\, 101 W Dickman St\, Baltimore\, MD\, United States
CATEGORIES:Events
END:VEVENT
BEGIN:VEVENT
DTSTART;TZID=America/New_York:20250910T090000
DTEND;TZID=America/New_York:20250910T100000
DTSTAMP:20260423T190602
CREATED:20250203T221718Z
LAST-MODIFIED:20250909T182908Z
UID:35227-1757494800-1757498400@sbgpartnership.org
SUMMARY:SBGP Finance Committee Meeting
DESCRIPTION:  \nThis meeting is open to the public\, however\, part or all of the meeting may be conducted in a closed session to discuss matters that the Open Meetings Act permits to be discussed in a closed session. \nThis meeting will be held by screen-sharing conference call. Email kfgordon@sbgpartnership.org at least 24 hours in advance to RSVP for the meeting and to request conference call instructions. \nIf requesting accommodations for this meeting\, please reach out one week in advance to cemmanuelle@sbgpartnership.org. SBGP will make reasonable accommodations as possible. \nAccess the agenda here. \n 
URL:https://sbgpartnership.org/event/sbgp-finance-committee-meeting-138/
CATEGORIES:Events
END:VEVENT
BEGIN:VEVENT
DTSTART;TZID=America/New_York:20250902T090000
DTEND;TZID=America/New_York:20250902T110000
DTSTAMP:20260423T190602
CREATED:20241122T194515Z
LAST-MODIFIED:20250901T180019Z
UID:33212-1756803600-1756810800@sbgpartnership.org
SUMMARY:SBGP Strategic Planning Committee
DESCRIPTION:  \nThe SBGP Strategic Planning Committee will meet from 9:00 to 11:00 am on the 1st Tuesday of each month. This meeting is open to the public\, however\, part or all of the meeting may be conducted in a closed session to discuss matters that the Open Meetings Act permits to be discussed in a closed session. \nThis meeting will take place via screen-sharing conference call. Email brogers@sbgpartnership.org at least 24 hours in advance for call-in instructions. \nIf requesting accommodations for this meeting\, please reach out one week in advance to cemmanuelle@sbgpartnership.org. SBGP will make reasonable accommodations as possible. \n  \nAccess the agenda here. \n 
URL:https://sbgpartnership.org/event/sbgp-strategic-planning-committee-64/
CATEGORIES:Events
END:VEVENT
BEGIN:VEVENT
DTSTART;TZID=America/New_York:20250901T090000
DTEND;TZID=America/New_York:20250901T170000
DTSTAMP:20260423T190602
CREATED:20241122T194538Z
LAST-MODIFIED:20250901T075952Z
UID:33233-1756717200-1756746000@sbgpartnership.org
SUMMARY:Labor Day (SBGP Closed)
DESCRIPTION:SBGP is closed for Labor Day.
URL:https://sbgpartnership.org/event/labor-day-sbgp-closed-7/
CATEGORIES:Events
END:VEVENT
END:VCALENDAR