BEGIN:VCALENDAR
VERSION:2.0
PRODID:-//South Baltimore Gateway Partnership - ECPv6.15.18//NONSGML v1.0//EN
CALSCALE:GREGORIAN
METHOD:PUBLISH
X-WR-CALNAME:South Baltimore Gateway Partnership
X-ORIGINAL-URL:https://sbgpartnership.org
X-WR-CALDESC:Events for South Baltimore Gateway Partnership
REFRESH-INTERVAL;VALUE=DURATION:PT1H
X-Robots-Tag:noindex
X-PUBLISHED-TTL:PT1H
BEGIN:VTIMEZONE
TZID:America/New_York
BEGIN:DAYLIGHT
TZOFFSETFROM:-0500
TZOFFSETTO:-0400
TZNAME:EDT
DTSTART:20250309T070000
END:DAYLIGHT
BEGIN:STANDARD
TZOFFSETFROM:-0400
TZOFFSETTO:-0500
TZNAME:EST
DTSTART:20251102T060000
END:STANDARD
BEGIN:DAYLIGHT
TZOFFSETFROM:-0500
TZOFFSETTO:-0400
TZNAME:EDT
DTSTART:20260308T070000
END:DAYLIGHT
BEGIN:STANDARD
TZOFFSETFROM:-0400
TZOFFSETTO:-0500
TZNAME:EST
DTSTART:20261101T060000
END:STANDARD
BEGIN:DAYLIGHT
TZOFFSETFROM:-0500
TZOFFSETTO:-0400
TZNAME:EDT
DTSTART:20270314T070000
END:DAYLIGHT
BEGIN:STANDARD
TZOFFSETFROM:-0400
TZOFFSETTO:-0500
TZNAME:EST
DTSTART:20271107T060000
END:STANDARD
END:VTIMEZONE
BEGIN:VEVENT
DTSTART;TZID=America/New_York:20260610T090000
DTEND;TZID=America/New_York:20260610T100000
DTSTAMP:20260423T163319
CREATED:20251009T223003Z
LAST-MODIFIED:20260422T171433Z
UID:51958-1781082000-1781085600@sbgpartnership.org
SUMMARY:SBGP Finance Committee Meeting
DESCRIPTION:This meeting is open to the public\, however\, part or all of the meeting may be conducted in a closed session to discuss matters that the Open Meetings Act permits to be discussed in a closed session. \nThis meeting will be held by screen-sharing conference call. Email kfgordon@sbgpartnership.org at least 24 hours in advance to RSVP for the meeting and to request conference call instructions. \nIf requesting accommodations for this meeting\, please reach out one week in advance to cemmanuelle@sbgpartnership.org. SBGP will make reasonable accommodations as possible.
URL:https://sbgpartnership.org/event/sbgp-finance-committee-meeting-148/
CATEGORIES:Events
END:VEVENT
BEGIN:VEVENT
DTSTART;TZID=America/New_York:20260617T180000
DTEND;TZID=America/New_York:20260617T200000
DTSTAMP:20260423T163319
CREATED:20251009T223004Z
LAST-MODIFIED:20260422T171433Z
UID:51959-1781719200-1781726400@sbgpartnership.org
SUMMARY:SBGP Board of Directors Meeting
DESCRIPTION:The SBGP Board of Directors meets at least six times each calendar year. This meeting is open to the public\, however\, part or all of the meeting may be conducted in a closed session to discuss matters that the Open Meetings Act permits to be discussed in a closed session. \nThis meeting will be held in-person at City Garage with a virtual option: 101 W. Dickman Street\, Suite 1000\, Baltimore\, MD\, 21230Email epitkow@sbgpartnership.org at least 24 hours in advance to RSVP for the meeting and to request conference call instructions. \nMasks are welcome but not required. Parking on-site\, ADA accessible bathrooms\, first-floor meeting space. \nIf requesting accommodations for this meeting\, please reach out one week in advance to cemmanuelle@sbgpartnership.org. SBGP will make reasonable accommodations as possible.
URL:https://sbgpartnership.org/event/sbgp-board-of-directors-meeting-126/
LOCATION:City Garage\, 101 W Dickman St\, Baltimore\, MD\, United States
CATEGORIES:Events
END:VEVENT
BEGIN:VEVENT
DTSTART;TZID=America/New_York:20260619T090000
DTEND;TZID=America/New_York:20260619T170000
DTSTAMP:20260423T163319
CREATED:20251007T222423Z
LAST-MODIFIED:20260423T024446Z
UID:51790-1781859600-1781888400@sbgpartnership.org
SUMMARY:Juneteenth (SBGP Closed)
DESCRIPTION:Juneteenth recognizes the date of June 19\, 1865\, when news of the Emancipation Proclamation\, outlawing slavery\, finally reached Galveston\, Texas – almost 2 ½ years after it was enacted in 1862. SBGP will be closed Friday\, June 19\, in observance of Juneteenth.
URL:https://sbgpartnership.org/event/juneteenth-sbgp-closed-4/
CATEGORIES:Events
END:VEVENT
BEGIN:VEVENT
DTSTART;TZID=America/New_York:20260703T090000
DTEND;TZID=America/New_York:20260703T170000
DTSTAMP:20260423T163319
CREATED:20251008T215207Z
LAST-MODIFIED:20260423T024446Z
UID:51863-1783069200-1783098000@sbgpartnership.org
SUMMARY:Independence Day Observed (SBGP Closed)
DESCRIPTION:SBGP is closed for Independence Day.
URL:https://sbgpartnership.org/event/independence-day-observed-sbgp-closed-3/
CATEGORIES:Events
END:VEVENT
BEGIN:VEVENT
DTSTART;TZID=America/New_York:20260707T090000
DTEND;TZID=America/New_York:20260707T110000
DTSTAMP:20260423T163319
CREATED:20251010T195802Z
LAST-MODIFIED:20260422T171434Z
UID:52064-1783414800-1783422000@sbgpartnership.org
SUMMARY:SBGP Strategic Planning Committee
DESCRIPTION:The SBGP Strategic Planning Committee will meet from 9:00 to 11:00 am on the 1st Tuesday of each month. This meeting is open to the public\, however\, part or all of the meeting may be conducted in a closed session to discuss matters that the Open Meetings Act permits to be discussed in a closed session. \nThis meeting will take place via screen-sharing conference call. Email brogers@sbgpartnership.org at least 24 hours in advance for call-in instructions. \nIf requesting accommodations for this meeting\, please reach out one week in advance to cemmanuelle@sbgpartnership.org. SBGP will make reasonable accommodations as possible.
URL:https://sbgpartnership.org/event/sbgp-strategic-planning-committee-74/
CATEGORIES:Events
END:VEVENT
BEGIN:VEVENT
DTSTART;TZID=America/New_York:20260708T090000
DTEND;TZID=America/New_York:20260708T100000
DTSTAMP:20260423T163319
CREATED:20251009T223005Z
LAST-MODIFIED:20260422T171434Z
UID:51960-1783501200-1783504800@sbgpartnership.org
SUMMARY:SBGP Finance Committee Meeting
DESCRIPTION:This meeting is open to the public\, however\, part or all of the meeting may be conducted in a closed session to discuss matters that the Open Meetings Act permits to be discussed in a closed session. \nThis meeting will be held by screen-sharing conference call. Email kfgordon@sbgpartnership.org at least 24 hours in advance to RSVP for the meeting and to request conference call instructions. \nIf requesting accommodations for this meeting\, please reach out one week in advance to cemmanuelle@sbgpartnership.org. SBGP will make reasonable accommodations as possible.
URL:https://sbgpartnership.org/event/sbgp-finance-committee-meeting-149/
CATEGORIES:Events
END:VEVENT
BEGIN:VEVENT
DTSTART;TZID=America/New_York:20260714T180000
DTEND;TZID=America/New_York:20260714T200000
DTSTAMP:20260423T163319
CREATED:20251221T094946Z
LAST-MODIFIED:20260422T171434Z
UID:63382-1784052000-1784059200@sbgpartnership.org
SUMMARY:SBGP Program Committee Meeting
DESCRIPTION:This meeting is open to the public\, however\, part or all of the meeting may be conducted in a closed session to discuss matters that the Open Meetings Act permits to be discussed in a closed session. \nThis meeting will take place via screen sharing conference call. For call-in instructions email lcornish@sbgpartnership.org. \nIf requesting accommodations for this meeting\, please reach out one week in advanceto cemmanuelle@sbgpartnership.org. SBGP will make reasonable accommodations as possible.
URL:https://sbgpartnership.org/event/sgbp-program-committee-meeting-149/
CATEGORIES:Events
END:VEVENT
BEGIN:VEVENT
DTSTART;TZID=America/New_York:20260715T180000
DTEND;TZID=America/New_York:20260715T200000
DTSTAMP:20260423T163319
CREATED:20251009T223006Z
LAST-MODIFIED:20260422T171435Z
UID:51961-1784138400-1784145600@sbgpartnership.org
SUMMARY:SBGP Board of Directors Meeting
DESCRIPTION:The SBGP Board of Directors meets at least six times each calendar year. This meeting is open to the public\, however\, part or all of the meeting may be conducted in a closed session to discuss matters that the Open Meetings Act permits to be discussed in a closed session. \nThis meeting will be held in-person at City Garage with a virtual option: 101 W. Dickman Street\, Suite 1000\, Baltimore\, MD\, 21230Email epitkow@sbgpartnership.org at least 24 hours in advance to RSVP for the meeting and to request conference call instructions. \nMasks are welcome but not required. Parking on-site\, ADA accessible bathrooms\, first-floor meeting space. \nIf requesting accommodations for this meeting\, please reach out one week in advance to cemmanuelle@sbgpartnership.org. SBGP will make reasonable accommodations as possible.
URL:https://sbgpartnership.org/event/sbgp-board-of-directors-meeting-127/
LOCATION:City Garage\, 101 W Dickman St\, Baltimore\, MD\, United States
CATEGORIES:Events
END:VEVENT
BEGIN:VEVENT
DTSTART;TZID=America/New_York:20260804T090000
DTEND;TZID=America/New_York:20260804T110000
DTSTAMP:20260423T163319
CREATED:20251010T195806Z
LAST-MODIFIED:20260422T171435Z
UID:52067-1785834000-1785841200@sbgpartnership.org
SUMMARY:SBGP Strategic Planning Committee
DESCRIPTION:The SBGP Strategic Planning Committee will meet from 9:00 to 11:00 am on the 1st Tuesday of each month. This meeting is open to the public\, however\, part or all of the meeting may be conducted in a closed session to discuss matters that the Open Meetings Act permits to be discussed in a closed session. \nThis meeting will take place via screen-sharing conference call. Email brogers@sbgpartnership.org at least 24 hours in advance for call-in instructions. \nIf requesting accommodations for this meeting\, please reach out one week in advance to cemmanuelle@sbgpartnership.org. SBGP will make reasonable accommodations as possible.
URL:https://sbgpartnership.org/event/sbgp-strategic-planning-committee-75/
CATEGORIES:Events
END:VEVENT
BEGIN:VEVENT
DTSTART;TZID=America/New_York:20260804T180000
DTEND;TZID=America/New_York:20260804T200000
DTSTAMP:20260423T163319
CREATED:20251221T094946Z
LAST-MODIFIED:20260422T171435Z
UID:63383-1785866400-1785873600@sbgpartnership.org
SUMMARY:SBGP Program Committee Meeting
DESCRIPTION:This meeting is open to the public\, however\, part or all of the meeting may be conducted in a closed session to discuss matters that the Open Meetings Act permits to be discussed in a closed session. \nThis meeting will take place via screen sharing conference call. For call-in instructions email lcornish@sbgpartnership.org. \nIf requesting accommodations for this meeting\, please reach out one week in advanceto cemmanuelle@sbgpartnership.org. SBGP will make reasonable accommodations as possible.
URL:https://sbgpartnership.org/event/sgbp-program-committee-meeting-150/
CATEGORIES:Events
END:VEVENT
BEGIN:VEVENT
DTSTART;TZID=America/New_York:20260812T090000
DTEND;TZID=America/New_York:20260812T100000
DTSTAMP:20260423T163319
CREATED:20251009T223007Z
LAST-MODIFIED:20260422T171436Z
UID:51962-1786525200-1786528800@sbgpartnership.org
SUMMARY:SBGP Finance Committee Meeting
DESCRIPTION:This meeting is open to the public\, however\, part or all of the meeting may be conducted in a closed session to discuss matters that the Open Meetings Act permits to be discussed in a closed session. \nThis meeting will be held by screen-sharing conference call. Email kfgordon@sbgpartnership.org at least 24 hours in advance to RSVP for the meeting and to request conference call instructions. \nIf requesting accommodations for this meeting\, please reach out one week in advance to cemmanuelle@sbgpartnership.org. SBGP will make reasonable accommodations as possible.
URL:https://sbgpartnership.org/event/sbgp-finance-committee-meeting-150/
CATEGORIES:Events
END:VEVENT
BEGIN:VEVENT
DTSTART;TZID=America/New_York:20260819T180000
DTEND;TZID=America/New_York:20260819T200000
DTSTAMP:20260423T163319
CREATED:20251009T223007Z
LAST-MODIFIED:20260422T171436Z
UID:51963-1787162400-1787169600@sbgpartnership.org
SUMMARY:SBGP Board of Directors Meeting
DESCRIPTION:The SBGP Board of Directors meets at least six times each calendar year. This meeting is open to the public\, however\, part or all of the meeting may be conducted in a closed session to discuss matters that the Open Meetings Act permits to be discussed in a closed session. \nThis meeting will be held in-person at City Garage with a virtual option: 101 W. Dickman Street\, Suite 1000\, Baltimore\, MD\, 21230Email epitkow@sbgpartnership.org at least 24 hours in advance to RSVP for the meeting and to request conference call instructions. \nMasks are welcome but not required. Parking on-site\, ADA accessible bathrooms\, first-floor meeting space. \nIf requesting accommodations for this meeting\, please reach out one week in advance to cemmanuelle@sbgpartnership.org. SBGP will make reasonable accommodations as possible.
URL:https://sbgpartnership.org/event/sbgp-board-of-directors-meeting-128/
LOCATION:City Garage\, 101 W Dickman St\, Baltimore\, MD\, United States
CATEGORIES:Events
END:VEVENT
BEGIN:VEVENT
DTSTART;TZID=America/New_York:20260901T090000
DTEND;TZID=America/New_York:20260901T110000
DTSTAMP:20260423T163319
CREATED:20251010T195808Z
LAST-MODIFIED:20260422T171436Z
UID:52068-1788253200-1788260400@sbgpartnership.org
SUMMARY:SBGP Strategic Planning Committee
DESCRIPTION:The SBGP Strategic Planning Committee will meet from 9:00 to 11:00 am on the 1st Tuesday of each month. This meeting is open to the public\, however\, part or all of the meeting may be conducted in a closed session to discuss matters that the Open Meetings Act permits to be discussed in a closed session. \nThis meeting will take place via screen-sharing conference call. Email brogers@sbgpartnership.org at least 24 hours in advance for call-in instructions. \nIf requesting accommodations for this meeting\, please reach out one week in advance to cemmanuelle@sbgpartnership.org. SBGP will make reasonable accommodations as possible.
URL:https://sbgpartnership.org/event/sbgp-strategic-planning-committee-76/
CATEGORIES:Events
END:VEVENT
BEGIN:VEVENT
DTSTART;TZID=America/New_York:20260907T090000
DTEND;TZID=America/New_York:20260907T170000
DTSTAMP:20260423T163319
CREATED:20251008T215208Z
LAST-MODIFIED:20260423T024447Z
UID:51864-1788771600-1788800400@sbgpartnership.org
SUMMARY:Labor Day (SBGP Closed)
DESCRIPTION:SBGP is closed for Labor Day.
URL:https://sbgpartnership.org/event/labor-day-sbgp-closed-8/
CATEGORIES:Events
END:VEVENT
BEGIN:VEVENT
DTSTART;TZID=America/New_York:20260909T090000
DTEND;TZID=America/New_York:20260909T100000
DTSTAMP:20260423T163319
CREATED:20251009T223008Z
LAST-MODIFIED:20260422T171437Z
UID:51964-1788944400-1788948000@sbgpartnership.org
SUMMARY:SBGP Finance Committee Meeting
DESCRIPTION:This meeting is open to the public\, however\, part or all of the meeting may be conducted in a closed session to discuss matters that the Open Meetings Act permits to be discussed in a closed session. \nThis meeting will be held by screen-sharing conference call. Email kfgordon@sbgpartnership.org at least 24 hours in advance to RSVP for the meeting and to request conference call instructions. \nIf requesting accommodations for this meeting\, please reach out one week in advance to cemmanuelle@sbgpartnership.org. SBGP will make reasonable accommodations as possible.
URL:https://sbgpartnership.org/event/sbgp-finance-committee-meeting-151/
CATEGORIES:Events
END:VEVENT
BEGIN:VEVENT
DTSTART;TZID=America/New_York:20260910T153000
DTEND;TZID=America/New_York:20260910T170000
DTSTAMP:20260423T163319
CREATED:20251223T204406Z
LAST-MODIFIED:20260422T171437Z
UID:63609-1789054200-1789059600@sbgpartnership.org
SUMMARY:SBGP Communications Committee Meeting
DESCRIPTION:This meeting is open to the public\, however\, part or all of the meeting may be conducted in a closed session to discuss matters that the Open Meetings Act permits to be discussed in a closed session. \nThis meeting will be held by screen-sharing conference call. Email cemmanuelle@sbgpartnership.org at least 24 hours in advance to RSVP for the meeting and to request conference call instructions \nIf requesting accommodations for this meeting\, please reach out one week in advance to cemmanuelle@sbgpartnership.org. SBGP will make reasonable accommodations as possible.
URL:https://sbgpartnership.org/event/sbgp-communications-committee-meeting-11/
CATEGORIES:Events
END:VEVENT
BEGIN:VEVENT
DTSTART;TZID=America/New_York:20260916T180000
DTEND;TZID=America/New_York:20260916T200000
DTSTAMP:20260423T163319
CREATED:20251009T223009Z
LAST-MODIFIED:20260422T171437Z
UID:51965-1789581600-1789588800@sbgpartnership.org
SUMMARY:SBGP Board of Directors Meeting
DESCRIPTION:The SBGP Board of Directors meets at least six times each calendar year. This meeting is open to the public\, however\, part or all of the meeting may be conducted in a closed session to discuss matters that the Open Meetings Act permits to be discussed in a closed session. \nThis meeting will be held in-person at City Garage with a virtual option: 101 W. Dickman Street\, Suite 1000\, Baltimore\, MD\, 21230Email epitkow@sbgpartnership.org at least 24 hours in advance to RSVP for the meeting and to request conference call instructions. \nMasks are welcome but not required. Parking on-site\, ADA accessible bathrooms\, first-floor meeting space. \nIf requesting accommodations for this meeting\, please reach out one week in advance to cemmanuelle@sbgpartnership.org. SBGP will make reasonable accommodations as possible.
URL:https://sbgpartnership.org/event/sbgp-board-of-directors-meeting-129/
LOCATION:City Garage\, 101 W Dickman St\, Baltimore\, MD\, United States
CATEGORIES:Events
END:VEVENT
BEGIN:VEVENT
DTSTART;TZID=America/New_York:20261006T090000
DTEND;TZID=America/New_York:20261006T110000
DTSTAMP:20260423T163319
CREATED:20251010T195809Z
LAST-MODIFIED:20260422T171438Z
UID:52069-1791277200-1791284400@sbgpartnership.org
SUMMARY:SBGP Strategic Planning Committee
DESCRIPTION:The SBGP Strategic Planning Committee will meet from 9:00 to 11:00 am on the 1st Tuesday of each month. This meeting is open to the public\, however\, part or all of the meeting may be conducted in a closed session to discuss matters that the Open Meetings Act permits to be discussed in a closed session. \nThis meeting will take place via screen-sharing conference call. Email brogers@sbgpartnership.org at least 24 hours in advance for call-in instructions. \nIf requesting accommodations for this meeting\, please reach out one week in advance to cemmanuelle@sbgpartnership.org. SBGP will make reasonable accommodations as possible.
URL:https://sbgpartnership.org/event/sbgp-strategic-planning-committee-77/
CATEGORIES:Events
END:VEVENT
BEGIN:VEVENT
DTSTART;TZID=America/New_York:20261010T090000
DTEND;TZID=America/New_York:20261010T170000
DTSTAMP:20260423T163319
CREATED:20251221T094948Z
LAST-MODIFIED:20260422T171438Z
UID:63384-1791622800-1791651600@sbgpartnership.org
SUMMARY:SBGP Program Committee Meeting
DESCRIPTION:This meeting is open to the public\, however\, part or all of the meeting may be conducted in a closed session to discuss matters that the Open Meetings Act permits to be discussed in a closed session. \nThis meeting will take place via screen sharing conference call. For call-in instructions email lcornish@sbgpartnership.org. \nIf requesting accommodations for this meeting\, please reach out one week in advanceto cemmanuelle@sbgpartnership.org. SBGP will make reasonable accommodations as possible.
URL:https://sbgpartnership.org/event/sgbp-program-committee-meeting-151/
CATEGORIES:Events
END:VEVENT
BEGIN:VEVENT
DTSTART;TZID=America/New_York:20261012T090000
DTEND;TZID=America/New_York:20261012T170000
DTSTAMP:20260423T163319
CREATED:20251008T215209Z
LAST-MODIFIED:20260423T024447Z
UID:51865-1791795600-1791824400@sbgpartnership.org
SUMMARY:Indigenous Peoples' Day (SBGP Closed)
DESCRIPTION:SBGP is closed for Indigenous Peoples' Day.
URL:https://sbgpartnership.org/event/indigenous-peoples-day-sbgp-closed-6/
CATEGORIES:Events
END:VEVENT
BEGIN:VEVENT
DTSTART;TZID=America/New_York:20261014T090000
DTEND;TZID=America/New_York:20261014T100000
DTSTAMP:20260423T163319
CREATED:20251009T223010Z
LAST-MODIFIED:20260422T171439Z
UID:51966-1791968400-1791972000@sbgpartnership.org
SUMMARY:SBGP Finance Committee Meeting
DESCRIPTION:This meeting is open to the public\, however\, part or all of the meeting may be conducted in a closed session to discuss matters that the Open Meetings Act permits to be discussed in a closed session. \nThis meeting will be held by screen-sharing conference call. Email kfgordon@sbgpartnership.org at least 24 hours in advance to RSVP for the meeting and to request conference call instructions. \nIf requesting accommodations for this meeting\, please reach out one week in advance to cemmanuelle@sbgpartnership.org. SBGP will make reasonable accommodations as possible.
URL:https://sbgpartnership.org/event/sbgp-finance-committee-meeting-152/
CATEGORIES:Events
END:VEVENT
BEGIN:VEVENT
DTSTART;TZID=America/New_York:20261021T180000
DTEND;TZID=America/New_York:20261021T200000
DTSTAMP:20260423T163319
CREATED:20251009T223010Z
LAST-MODIFIED:20260422T171439Z
UID:51967-1792605600-1792612800@sbgpartnership.org
SUMMARY:SBGP Board of Directors Meeting
DESCRIPTION:The SBGP Board of Directors meets at least six times each calendar year. This meeting is open to the public\, however\, part or all of the meeting may be conducted in a closed session to discuss matters that the Open Meetings Act permits to be discussed in a closed session. \nThis meeting will be held in-person at City Garage with a virtual option: 101 W. Dickman Street\, Suite 1000\, Baltimore\, MD\, 21230Email epitkow@sbgpartnership.org at least 24 hours in advance to RSVP for the meeting and to request conference call instructions. \nMasks are welcome but not required. Parking on-site\, ADA accessible bathrooms\, first-floor meeting space. \nIf requesting accommodations for this meeting\, please reach out one week in advance to cemmanuelle@sbgpartnership.org. SBGP will make reasonable accommodations as possible.
URL:https://sbgpartnership.org/event/sbgp-board-of-directors-meeting-130/
LOCATION:City Garage\, 101 W Dickman St\, Baltimore\, MD\, United States
CATEGORIES:Events
END:VEVENT
BEGIN:VEVENT
DTSTART;TZID=America/New_York:20261103T090000
DTEND;TZID=America/New_York:20261103T110000
DTSTAMP:20260423T163319
CREATED:20251010T195813Z
LAST-MODIFIED:20260422T171439Z
UID:52072-1793696400-1793703600@sbgpartnership.org
SUMMARY:SBGP Strategic Planning Committee
DESCRIPTION:The SBGP Strategic Planning Committee will meet from 9:00 to 11:00 am on the 1st Tuesday of each month. This meeting is open to the public\, however\, part or all of the meeting may be conducted in a closed session to discuss matters that the Open Meetings Act permits to be discussed in a closed session. \nThis meeting will take place via screen-sharing conference call. Email brogers@sbgpartnership.org at least 24 hours in advance for call-in instructions. \nIf requesting accommodations for this meeting\, please reach out one week in advance to cemmanuelle@sbgpartnership.org. SBGP will make reasonable accommodations as possible.
URL:https://sbgpartnership.org/event/sbgp-strategic-planning-committee-78/
CATEGORIES:Events
END:VEVENT
BEGIN:VEVENT
DTSTART;TZID=America/New_York:20261103T180000
DTEND;TZID=America/New_York:20261103T200000
DTSTAMP:20260423T163319
CREATED:20251221T094950Z
LAST-MODIFIED:20260422T171440Z
UID:63385-1793728800-1793736000@sbgpartnership.org
SUMMARY:SBGP Program Committee Meeting
DESCRIPTION:This meeting is open to the public\, however\, part or all of the meeting may be conducted in a closed session to discuss matters that the Open Meetings Act permits to be discussed in a closed session. \nThis meeting will take place via screen sharing conference call. For call-in instructions email lcornish@sbgpartnership.org. \nIf requesting accommodations for this meeting\, please reach out one week in advanceto cemmanuelle@sbgpartnership.org. SBGP will make reasonable accommodations as possible.
URL:https://sbgpartnership.org/event/sgbp-program-committee-meeting-152/
CATEGORIES:Events
END:VEVENT
BEGIN:VEVENT
DTSTART;TZID=America/New_York:20261111T090000
DTEND;TZID=America/New_York:20261111T100000
DTSTAMP:20260423T163319
CREATED:20251009T223011Z
LAST-MODIFIED:20260422T171440Z
UID:51968-1794387600-1794391200@sbgpartnership.org
SUMMARY:SBGP Finance Committee Meeting
DESCRIPTION:This meeting is open to the public\, however\, part or all of the meeting may be conducted in a closed session to discuss matters that the Open Meetings Act permits to be discussed in a closed session. \nThis meeting will be held by screen-sharing conference call. Email kfgordon@sbgpartnership.org at least 24 hours in advance to RSVP for the meeting and to request conference call instructions. \nIf requesting accommodations for this meeting\, please reach out one week in advance to cemmanuelle@sbgpartnership.org. SBGP will make reasonable accommodations as possible.
URL:https://sbgpartnership.org/event/sbgp-finance-committee-meeting-153/
CATEGORIES:Events
END:VEVENT
BEGIN:VEVENT
DTSTART;TZID=America/New_York:20261111T090000
DTEND;TZID=America/New_York:20261111T170000
DTSTAMP:20260423T163319
CREATED:20251008T215210Z
LAST-MODIFIED:20260423T024448Z
UID:51866-1794387600-1794416400@sbgpartnership.org
SUMMARY:Veterans Day (SBGP Closed)
DESCRIPTION:SBGP is closed for Veterans Day.
URL:https://sbgpartnership.org/event/veterans-day-sbgp-closed-5/
CATEGORIES:Events
END:VEVENT
BEGIN:VEVENT
DTSTART;TZID=America/New_York:20261112T153000
DTEND;TZID=America/New_York:20261112T170000
DTSTAMP:20260423T163319
CREATED:20251223T204409Z
LAST-MODIFIED:20260422T171440Z
UID:63610-1794497400-1794502800@sbgpartnership.org
SUMMARY:SBGP Communications Committee Meeting
DESCRIPTION:This meeting is open to the public\, however\, part or all of the meeting may be conducted in a closed session to discuss matters that the Open Meetings Act permits to be discussed in a closed session. \nThis meeting will be held by screen-sharing conference call. Email cemmanuelle@sbgpartnership.org at least 24 hours in advance to RSVP for the meeting and to request conference call instructions \nIf requesting accommodations for this meeting\, please reach out one week in advance to cemmanuelle@sbgpartnership.org. SBGP will make reasonable accommodations as possible.
URL:https://sbgpartnership.org/event/sbgp-communications-committee-meeting-12/
CATEGORIES:Events
END:VEVENT
BEGIN:VEVENT
DTSTART;TZID=America/New_York:20261118T180000
DTEND;TZID=America/New_York:20261118T200000
DTSTAMP:20260423T163319
CREATED:20251009T223012Z
LAST-MODIFIED:20260422T171441Z
UID:51969-1795024800-1795032000@sbgpartnership.org
SUMMARY:SBGP Board of Directors Meeting
DESCRIPTION:The SBGP Board of Directors meets at least six times each calendar year. This meeting is open to the public\, however\, part or all of the meeting may be conducted in a closed session to discuss matters that the Open Meetings Act permits to be discussed in a closed session. \nThis meeting will be held in-person at City Garage with a virtual option: 101 W. Dickman Street\, Suite 1000\, Baltimore\, MD\, 21230Email epitkow@sbgpartnership.org at least 24 hours in advance to RSVP for the meeting and to request conference call instructions. \nMasks are welcome but not required. Parking on-site\, ADA accessible bathrooms\, first-floor meeting space. \nIf requesting accommodations for this meeting\, please reach out one week in advance to cemmanuelle@sbgpartnership.org. SBGP will make reasonable accommodations as possible.
URL:https://sbgpartnership.org/event/sbgp-board-of-directors-meeting-131/
LOCATION:City Garage\, 101 W Dickman St\, Baltimore\, MD\, United States
CATEGORIES:Events
END:VEVENT
BEGIN:VEVENT
DTSTART;TZID=America/New_York:20261126T090000
DTEND;TZID=America/New_York:20261126T170000
DTSTAMP:20260423T163319
CREATED:20251009T215944Z
LAST-MODIFIED:20260423T024448Z
UID:51930-1795683600-1795712400@sbgpartnership.org
SUMMARY:Thanksgiving Day (SBGP Closed)
DESCRIPTION:SBGP is closed for Thanksgiving Day.
URL:https://sbgpartnership.org/event/thanksgiving-day-sbgp-closed-9/
CATEGORIES:Events
END:VEVENT
BEGIN:VEVENT
DTSTART;TZID=America/New_York:20261127T090000
DTEND;TZID=America/New_York:20261127T170000
DTSTAMP:20260423T163319
CREATED:20251009T215945Z
LAST-MODIFIED:20260423T024448Z
UID:51931-1795770000-1795798800@sbgpartnership.org
SUMMARY:American Indian Heritage Day (SBGP Closed)
DESCRIPTION:SBGP is closed for American Indian Heritage Day.
URL:https://sbgpartnership.org/event/american-indian-heritage-day-sbgp-closed-7/
CATEGORIES:Events
END:VEVENT
END:VCALENDAR