BEGIN:VCALENDAR
VERSION:2.0
PRODID:-//South Baltimore Gateway Partnership - ECPv6.15.18//NONSGML v1.0//EN
CALSCALE:GREGORIAN
METHOD:PUBLISH
X-WR-CALNAME:South Baltimore Gateway Partnership
X-ORIGINAL-URL:https://sbgpartnership.org
X-WR-CALDESC:Events for South Baltimore Gateway Partnership
REFRESH-INTERVAL;VALUE=DURATION:PT1H
X-Robots-Tag:noindex
X-PUBLISHED-TTL:PT1H
BEGIN:VTIMEZONE
TZID:America/New_York
BEGIN:DAYLIGHT
TZOFFSETFROM:-0500
TZOFFSETTO:-0400
TZNAME:EDT
DTSTART:20240310T070000
END:DAYLIGHT
BEGIN:STANDARD
TZOFFSETFROM:-0400
TZOFFSETTO:-0500
TZNAME:EST
DTSTART:20241103T060000
END:STANDARD
BEGIN:DAYLIGHT
TZOFFSETFROM:-0500
TZOFFSETTO:-0400
TZNAME:EDT
DTSTART:20250309T070000
END:DAYLIGHT
BEGIN:STANDARD
TZOFFSETFROM:-0400
TZOFFSETTO:-0500
TZNAME:EST
DTSTART:20251102T060000
END:STANDARD
BEGIN:DAYLIGHT
TZOFFSETFROM:-0500
TZOFFSETTO:-0400
TZNAME:EDT
DTSTART:20260308T070000
END:DAYLIGHT
BEGIN:STANDARD
TZOFFSETFROM:-0400
TZOFFSETTO:-0500
TZNAME:EST
DTSTART:20261101T060000
END:STANDARD
END:VTIMEZONE
BEGIN:VEVENT
DTSTART;TZID=America/New_York:20250424T180000
DTEND;TZID=America/New_York:20250424T193000
DTSTAMP:20260424T141002
CREATED:20241213T200622Z
LAST-MODIFIED:20250424T141505Z
UID:33724-1745517600-1745523000@sbgpartnership.org
SUMMARY:communityBUILD Fundraising Workshop: Building Strategic Partnerships with Businesses (virtual)
DESCRIPTION:communityBUILD Fundraising Workshop: Building Strategic Partnerships with Businesses (virtual) \nThursday\, April 24\, 2025: 6:00 – 7:30pm \nRegister here. \nThis virtual workshop is a formal yet participatory training meant to educate and empower attendees with a roadmap on how to build\, manage\, and sustain strategic partnerships in the business community. Building strong relationships with key businesses\, organizations\, and stakeholders is critical to furthering your organization’s mission and impact. Through discussion\, data\, and case studies\, our presenter will share the blueprint for developing dynamic partnerships that result in the recruitment of partnerships that bring time\, leadership\, and resources with their commitment. \nThe session will be led by Alissa Ganser\, President & CEO of Business Volunteers Maryland. \nIf requesting accommodations for this meeting\, please reach out one week in advance to cemmanuelle@sbgpartnership.org. SBGP will make reasonable accommodations as possible. 
URL:https://sbgpartnership.org/event/building-strategic-partnerships-with-businesses/
CATEGORIES:Workshops
END:VEVENT
END:VCALENDAR