BEGIN:VCALENDAR
VERSION:2.0
PRODID:-//South Baltimore Gateway Partnership - ECPv6.15.18//NONSGML v1.0//EN
CALSCALE:GREGORIAN
METHOD:PUBLISH
X-ORIGINAL-URL:https://sbgpartnership.org
X-WR-CALDESC:Events for South Baltimore Gateway Partnership
REFRESH-INTERVAL;VALUE=DURATION:PT1H
X-Robots-Tag:noindex
X-PUBLISHED-TTL:PT1H
BEGIN:VTIMEZONE
TZID:America/New_York
BEGIN:DAYLIGHT
TZOFFSETFROM:-0500
TZOFFSETTO:-0400
TZNAME:EDT
DTSTART:20230312T070000
END:DAYLIGHT
BEGIN:STANDARD
TZOFFSETFROM:-0400
TZOFFSETTO:-0500
TZNAME:EST
DTSTART:20231105T060000
END:STANDARD
BEGIN:DAYLIGHT
TZOFFSETFROM:-0500
TZOFFSETTO:-0400
TZNAME:EDT
DTSTART:20240310T070000
END:DAYLIGHT
BEGIN:STANDARD
TZOFFSETFROM:-0400
TZOFFSETTO:-0500
TZNAME:EST
DTSTART:20241103T060000
END:STANDARD
BEGIN:DAYLIGHT
TZOFFSETFROM:-0500
TZOFFSETTO:-0400
TZNAME:EDT
DTSTART:20250309T070000
END:DAYLIGHT
BEGIN:STANDARD
TZOFFSETFROM:-0400
TZOFFSETTO:-0500
TZNAME:EST
DTSTART:20251102T060000
END:STANDARD
END:VTIMEZONE
BEGIN:VEVENT
DTSTART;TZID=America/New_York:20241107T180000
DTEND;TZID=America/New_York:20241107T200000
DTSTAMP:20260424T204537
CREATED:20240806T195636Z
LAST-MODIFIED:20241031T011137Z
UID:31785-1731002400-1731009600@sbgpartnership.org
SUMMARY:SBGP Nonprofit Boot Camp Workshop: Fundraising (virtual)
DESCRIPTION:SBGP Nonprofit Boot Camp Workshop: Fundraising (virtual) \nThursday\, November 7\, 2024: 6:00 – 8:00pm \nRegister here. \nGetting Board members\, staff\, and community stakeholders collectively involved in nonprofit fundraising activities can be challenging. \nDuring this workshop participants will: \n\nDelve into elements of resource development planning and fundraising policies.\nExplore the basics of fundraising and ways to increase staff and Board members comfort promoting and fundraising for your organization.\nLearn strategies\, tools\, and resources that find\, develop\, and solicit volunteers and donors.\nAssess organizations’ sources of income and existing fundraising efforts; identify short- and long-term goals that contribute to organizational sustainability.\n\nIf requesting accommodations for this meeting\, please reach out one week in advance to cemmanuelle@sbgpartnership.org. SBGP will make reasonable accommodations as possible. 
URL:https://sbgpartnership.org/event/sbgp-nonprofit-boot-camp-workshop-fundraising-virtual/
CATEGORIES:Workshops
END:VEVENT
BEGIN:VEVENT
DTSTART;TZID=America/New_York:20241121T180000
DTEND;TZID=America/New_York:20241121T200000
DTSTAMP:20260424T204537
CREATED:20240806T195637Z
LAST-MODIFIED:20241031T011137Z
UID:31786-1732212000-1732219200@sbgpartnership.org
SUMMARY:SBGP Nonprofit Boot Camp Workshop: Evaluation (virtual)
DESCRIPTION:SBGP Nonprofit Boot Camp Workshop: Evaluation (virtual) \nThursday\, November 21\, 2024: 6:00 – 8:00pm \nRegister here. \nTelling the success story of a nonprofit can be challenging without a robust evaluation model. Join us to explore different methods! \nDuring this workshop participants will: \n\nExplore program evaluation models that help s your organization understand its successes\, challenges\, lessons learned\, and partnerships.\nAssess existing approaches to outcome evaluation and effectiveness of current tools used within your organization.\nIdentify ways to highlight your organizations’ work and improve data collection that is simplified within the nonprofits existing practices\n\nIf requesting accommodations for this meeting\, please reach out one week in advance to cemmanuelle@sbgpartnership.org. SBGP will make reasonable accommodations as possible. 
URL:https://sbgpartnership.org/event/sbgp-nonprofit-boot-camp-workshop-evaluation-virtual/
CATEGORIES:Workshops
END:VEVENT
END:VCALENDAR