BEGIN:VCALENDAR
VERSION:2.0
PRODID:-//South Baltimore Gateway Partnership - ECPv6.15.18//NONSGML v1.0//EN
CALSCALE:GREGORIAN
METHOD:PUBLISH
X-WR-CALNAME:South Baltimore Gateway Partnership
X-ORIGINAL-URL:https://sbgpartnership.org
X-WR-CALDESC:Events for South Baltimore Gateway Partnership
REFRESH-INTERVAL;VALUE=DURATION:PT1H
X-Robots-Tag:noindex
X-PUBLISHED-TTL:PT1H
BEGIN:VTIMEZONE
TZID:America/New_York
BEGIN:DAYLIGHT
TZOFFSETFROM:-0500
TZOFFSETTO:-0400
TZNAME:EDT
DTSTART:20220313T070000
END:DAYLIGHT
BEGIN:STANDARD
TZOFFSETFROM:-0400
TZOFFSETTO:-0500
TZNAME:EST
DTSTART:20221106T060000
END:STANDARD
BEGIN:DAYLIGHT
TZOFFSETFROM:-0500
TZOFFSETTO:-0400
TZNAME:EDT
DTSTART:20230312T070000
END:DAYLIGHT
BEGIN:STANDARD
TZOFFSETFROM:-0400
TZOFFSETTO:-0500
TZNAME:EST
DTSTART:20231105T060000
END:STANDARD
BEGIN:DAYLIGHT
TZOFFSETFROM:-0500
TZOFFSETTO:-0400
TZNAME:EDT
DTSTART:20240310T070000
END:DAYLIGHT
BEGIN:STANDARD
TZOFFSETFROM:-0400
TZOFFSETTO:-0500
TZNAME:EST
DTSTART:20241103T060000
END:STANDARD
END:VTIMEZONE
BEGIN:VEVENT
DTSTART;TZID=America/New_York:20230928T180000
DTEND;TZID=America/New_York:20230928T200000
DTSTAMP:20260425T155629
CREATED:20230831T154700Z
LAST-MODIFIED:20230928T220602Z
UID:27699-1695924000-1695931200@sbgpartnership.org
SUMMARY:Keys to Capacity Workshop: Bookkeeping & Finances Part 1 (hybrid)
DESCRIPTION:Keys to Capacity Workshop: Bookkeeping & Finances Part 1 with Baltimore Fiscal Partners\nSeptember 28\, 2023 6:00-8:00PM (hybrid; in-person location City Garage\, 101 W. Dickman Street\, Baltimore\, MD 21230)\nIn-person meeting attendees are expected to be vaccinated. Masks are welcome but not required. On-site parking available\, ADA accessible bathrooms\, and first-floor meeting area.\n \nRegister here. \nPart 1 of a two-part series for individuals serving nonprofits that want to better understand their organization’s finances and how implementing best practices can help their organization be even more successful and transformative within their communities. \nFor Part 1\, ideal attendees will be individuals whose nonprofit organization is just starting out or has new staff or volunteers that want to understand the fundamentals of bookkeeping and finance. \nDuring this workshop\, participants will: \n\nLearn how to create operating and program budgets\nUnderstand best practices for grant tracking and reporting\nIdentify basic accounting systems that can help their organization automate their finances\n\nFacilitating: Baltimore Fiscal Partners – Emilie Drasher \nIf requesting accommodations for this meeting\, please reach out one week in advance to cemmanuelle@sbgpartnership.org. SBGP will make reasonable accommodations as possible.
URL:https://sbgpartnership.org/event/keys-to-capacity-workshop-bookkeeping-finances-part-1-hybrid/
LOCATION:City Garage\, 101 W Dickman St\, Baltimore\, MD 21230\, USA\, 101 W Dickman St\, Baltimore\, MD\, 21230\, United States
CATEGORIES:Workshops
END:VEVENT
END:VCALENDAR