BEGIN:VCALENDAR
VERSION:2.0
PRODID:-//South Baltimore Gateway Partnership - ECPv6.15.18//NONSGML v1.0//EN
CALSCALE:GREGORIAN
METHOD:PUBLISH
X-ORIGINAL-URL:https://sbgpartnership.org
X-WR-CALDESC:Events for South Baltimore Gateway Partnership
REFRESH-INTERVAL;VALUE=DURATION:PT1H
X-Robots-Tag:noindex
X-PUBLISHED-TTL:PT1H
BEGIN:VTIMEZONE
TZID:America/New_York
BEGIN:DAYLIGHT
TZOFFSETFROM:-0500
TZOFFSETTO:-0400
TZNAME:EDT
DTSTART:20220313T070000
END:DAYLIGHT
BEGIN:STANDARD
TZOFFSETFROM:-0400
TZOFFSETTO:-0500
TZNAME:EST
DTSTART:20221106T060000
END:STANDARD
BEGIN:DAYLIGHT
TZOFFSETFROM:-0500
TZOFFSETTO:-0400
TZNAME:EDT
DTSTART:20230312T070000
END:DAYLIGHT
BEGIN:STANDARD
TZOFFSETFROM:-0400
TZOFFSETTO:-0500
TZNAME:EST
DTSTART:20231105T060000
END:STANDARD
BEGIN:DAYLIGHT
TZOFFSETFROM:-0500
TZOFFSETTO:-0400
TZNAME:EDT
DTSTART:20240310T070000
END:DAYLIGHT
BEGIN:STANDARD
TZOFFSETFROM:-0400
TZOFFSETTO:-0500
TZNAME:EST
DTSTART:20241103T060000
END:STANDARD
END:VTIMEZONE
BEGIN:VEVENT
DTSTART;TZID=America/New_York:20230801T180000
DTEND;TZID=America/New_York:20230801T200000
DTSTAMP:20260425T170835
CREATED:20221118T211846Z
LAST-MODIFIED:20230801T232108Z
UID:20960-1690912800-1690920000@sbgpartnership.org
SUMMARY:Grant Writing 101 Workshop (virtual)
DESCRIPTION:Grant Writing 101 Workshop\n\nTuesday\, August 1\, 6:00 – 8:00pm (virtual) \nRegister here.\n \nJoin the South Baltimore Gateway Partnership for Grant Writing Basics! During this free\, virtual workshop\, you will learn how to: \n\nprepare a strong grant proposal using clear language\nevaluate community projects\ncreate a sample grant proposal\nimprove skills in grant-writing with technical consultants\n\nIf requesting accommodations for this meeting\, please reach out one week in advance to cemmanuelle@sbgpartnership.org. SBGP will make reasonable accommodations as possible.
URL:https://sbgpartnership.org/event/grant-writing-basics-workshop-virtual/
CATEGORIES:Workshops
END:VEVENT
END:VCALENDAR