BEGIN:VCALENDAR
VERSION:2.0
PRODID:-//South Baltimore Gateway Partnership - ECPv6.15.18//NONSGML v1.0//EN
CALSCALE:GREGORIAN
METHOD:PUBLISH
X-ORIGINAL-URL:https://sbgpartnership.org
X-WR-CALDESC:Events for South Baltimore Gateway Partnership
REFRESH-INTERVAL;VALUE=DURATION:PT1H
X-Robots-Tag:noindex
X-PUBLISHED-TTL:PT1H
BEGIN:VTIMEZONE
TZID:America/New_York
BEGIN:DAYLIGHT
TZOFFSETFROM:-0500
TZOFFSETTO:-0400
TZNAME:EDT
DTSTART:20220313T070000
END:DAYLIGHT
BEGIN:STANDARD
TZOFFSETFROM:-0400
TZOFFSETTO:-0500
TZNAME:EST
DTSTART:20221106T060000
END:STANDARD
BEGIN:DAYLIGHT
TZOFFSETFROM:-0500
TZOFFSETTO:-0400
TZNAME:EDT
DTSTART:20230312T070000
END:DAYLIGHT
BEGIN:STANDARD
TZOFFSETFROM:-0400
TZOFFSETTO:-0500
TZNAME:EST
DTSTART:20231105T060000
END:STANDARD
BEGIN:DAYLIGHT
TZOFFSETFROM:-0500
TZOFFSETTO:-0400
TZNAME:EDT
DTSTART:20240310T070000
END:DAYLIGHT
BEGIN:STANDARD
TZOFFSETFROM:-0400
TZOFFSETTO:-0500
TZNAME:EST
DTSTART:20241103T060000
END:STANDARD
END:VTIMEZONE
BEGIN:VEVENT
DTSTART;TZID=America/New_York:20230627T120000
DTEND;TZID=America/New_York:20230627T140000
DTSTAMP:20260425T194442
CREATED:20230525T201529Z
LAST-MODIFIED:20230626T213618Z
UID:23367-1687867200-1687874400@sbgpartnership.org
SUMMARY:Community Grants Summer 2023 Info Session #1 (virtual)
DESCRIPTION:  \nCommunity Grants Summer 2023 Info Session #1 (virtual) \nTuesday\, June 27\, 2023: 12:00 – 2:00pm \nRegister here.\n\nGet ready to apply for our next round of Community Grants! The Summer 2023 Community Grants Cycle 12 application closes Friday\, August 25 at 5:00pm. \nJoin us virtually for an application overview and tips for prospective grantees so you can prepare a strong grant proposal. \nIf requesting accommodations for this meeting\, please reach out one week in advance to cemmanuelle@sbgpartnership.org. SBGP will make reasonable accommodations as possible. \n 
URL:https://sbgpartnership.org/event/community-grants-summer-2023-info-session-1-virtual/
CATEGORIES:Workshops
END:VEVENT
BEGIN:VEVENT
DTSTART;TZID=America/New_York:20230627T180000
DTEND;TZID=America/New_York:20230627T200000
DTSTAMP:20260425T194442
CREATED:20221118T204252Z
LAST-MODIFIED:20230627T213648Z
UID:20953-1687888800-1687896000@sbgpartnership.org
SUMMARY:Keys to Capacity Workshop: Fostering Vital Neighborhoods (hybrid)
DESCRIPTION:Keys to Capacity Workshop: Fostering Vital Neighborhoods with Business Volunteers of Maryland\nJune 27\, 2023 6:00-8:00PM (hybrid; in-person location at City Garage\, 101 W. Dickman Street\, Suite 1000\, Baltimore\, MD 21218)\nIn-person meeting attendees are expected to be vaccinated. Masks are welcome but not required. Parking on-site\, ADA accessible bathrooms\, first-floor meeting area.\n \nRegister here. \nFostering Vital Neighborhoods is a moderated discussion for community groups\, organizations\, and individuals working to strengthen and grow their neighborhoods.  This is a great opportunity to meet others doing similar work in Baltimore\, and to discuss successes\, troubleshoot struggles\, and potentially collaborate.
URL:https://sbgpartnership.org/event/keys-to-capacity-workshop-fostering-vital-neighborhoods-with-hybrid-business-volunteers-of-maryland/
LOCATION:City Garage\, 101 W Dickman St\, Baltimore\, MD 21230\, USA\, 101 W Dickman St\, Baltimore\, MD\, 21230\, United States
CATEGORIES:Workshops
END:VEVENT
END:VCALENDAR