BEGIN:VCALENDAR
VERSION:2.0
PRODID:-//South Baltimore Gateway Partnership - ECPv6.15.18//NONSGML v1.0//EN
CALSCALE:GREGORIAN
METHOD:PUBLISH
X-WR-CALNAME:South Baltimore Gateway Partnership
X-ORIGINAL-URL:https://sbgpartnership.org
X-WR-CALDESC:Events for South Baltimore Gateway Partnership
REFRESH-INTERVAL;VALUE=DURATION:PT1H
X-Robots-Tag:noindex
X-PUBLISHED-TTL:PT1H
BEGIN:VTIMEZONE
TZID:America/New_York
BEGIN:DAYLIGHT
TZOFFSETFROM:-0500
TZOFFSETTO:-0400
TZNAME:EDT
DTSTART:20210314T070000
END:DAYLIGHT
BEGIN:STANDARD
TZOFFSETFROM:-0400
TZOFFSETTO:-0500
TZNAME:EST
DTSTART:20211107T060000
END:STANDARD
BEGIN:DAYLIGHT
TZOFFSETFROM:-0500
TZOFFSETTO:-0400
TZNAME:EDT
DTSTART:20220313T070000
END:DAYLIGHT
BEGIN:STANDARD
TZOFFSETFROM:-0400
TZOFFSETTO:-0500
TZNAME:EST
DTSTART:20221106T060000
END:STANDARD
BEGIN:DAYLIGHT
TZOFFSETFROM:-0500
TZOFFSETTO:-0400
TZNAME:EDT
DTSTART:20230312T070000
END:DAYLIGHT
BEGIN:STANDARD
TZOFFSETFROM:-0400
TZOFFSETTO:-0500
TZNAME:EST
DTSTART:20231105T060000
END:STANDARD
END:VTIMEZONE
BEGIN:VEVENT
DTSTART;TZID=America/New_York:20221208T180000
DTEND;TZID=America/New_York:20221208T200000
DTSTAMP:20260426T042539
CREATED:20221117T224451Z
LAST-MODIFIED:20221208T223431Z
UID:20940-1670522400-1670529600@sbgpartnership.org
SUMMARY:Keys to Capacity Workshop: BoardBUILD with Business Volunteers of Maryland
DESCRIPTION:Keys to Capacity Workshop: BoardBUILD with Business Volunteers of Maryland\nDecember 8\, 2022 6:00 – 8:00pm  (virtual only) \nRegister here. \nIn BoardBUILD\, Business Volunteers directs a critical learning experience for nonprofit leaders on board governance. \nThis free\, virtual offering will provide attendees with: \n\nthe knowledge of individual roles and responsibilities of members of Board of Directors;\na comprehensive experience that will focus heavily on the board’s role in financial oversight\, fiduciary responsibility\, and conflict of interest; and\nan understanding of the importance of leveraging the business acumen and expertise of board members to expand the capacity and capabilities of the nonprofit organization they serve.\n\nJoin us to learn the questions to ask to ensure your board and nonprofit are operating effectively\, as well as the warning signs that may indicate there is trouble and it’s time to reconnect and re-engage board members. The training uses will use a variety of case studies and exercises to provide a relevant and engaging and tool-building experience for attendees. This workshop will be facilitated\, brought to facilitated by Business Volunteers Maryland\, a nonprofit organization leading the charge on community by engagement by making strategic connections between people\, businesses\, and nonprofits. \nIf requesting accommodations for workshops\, please reach out one week in advance to cemmanuelle@sbgpartnership.org. SBGP will make reasonable accommodations as possible.
URL:https://sbgpartnership.org/event/keys-to-capacity-workshop-boardbuild-with-business-volunteers-of-maryland/
CATEGORIES:Workshops
END:VEVENT
END:VCALENDAR