BEGIN:VCALENDAR
VERSION:2.0
PRODID:-//South Baltimore Gateway Partnership - ECPv6.15.18//NONSGML v1.0//EN
CALSCALE:GREGORIAN
METHOD:PUBLISH
X-WR-CALNAME:South Baltimore Gateway Partnership
X-ORIGINAL-URL:https://sbgpartnership.org
X-WR-CALDESC:Events for South Baltimore Gateway Partnership
REFRESH-INTERVAL;VALUE=DURATION:PT1H
X-Robots-Tag:noindex
X-PUBLISHED-TTL:PT1H
BEGIN:VTIMEZONE
TZID:UTC
BEGIN:STANDARD
TZOFFSETFROM:+0000
TZOFFSETTO:+0000
TZNAME:UTC
DTSTART:20170101T000000
END:STANDARD
END:VTIMEZONE
BEGIN:VEVENT
DTSTART;TZID=UTC:20180620T180000
DTEND;TZID=UTC:20180620T200000
DTSTAMP:20260424T093114
CREATED:20180404T175104Z
LAST-MODIFIED:20180404T200101Z
UID:631-1529517600-1529524800@sbgpartnership.org
SUMMARY:Board of Directors Meeting
DESCRIPTION:The SBGP Board of Directors meets at least six times each calendar year. Board meetings are open to the public although parts of Board meetings may be closed.
URL:https://sbgpartnership.org/event/board-directors-meeting-4/
LOCATION:Medstar Harbor Hospital\, 6901 Baltimore Annapolis Blvd\, Brooklyn\, MD\, United States
CATEGORIES:Meeting
ATTACH;FMTTYPE=image/jpeg:https://sbgpartnership.org/wp-content/uploads/2017/08/aboutproper.jpg
END:VEVENT
BEGIN:VEVENT
DTSTART;TZID=UTC:20180418T180000
DTEND;TZID=UTC:20180418T200000
DTSTAMP:20260424T093114
CREATED:20180404T175120Z
LAST-MODIFIED:20180404T200108Z
UID:629-1524074400-1524081600@sbgpartnership.org
SUMMARY:Board of Directors Meeting
DESCRIPTION:The SBGP Board of Directors meets at least six times each calendar year. Board meetings are open to the public although parts of Board meetings may be closed.
URL:https://sbgpartnership.org/event/board-directors-meeting-5/
LOCATION:Medstar Harbor Hospital\, 6901 Baltimore Annapolis Blvd\, Brooklyn\, MD\, United States
CATEGORIES:Meeting
ATTACH;FMTTYPE=image/jpeg:https://sbgpartnership.org/wp-content/uploads/2017/08/sbgp_bg-1-e1584379356908.jpg
END:VEVENT
BEGIN:VEVENT
DTSTART;TZID=UTC:20180328T180000
DTEND;TZID=UTC:20180328T200000
DTSTAMP:20260424T093114
CREATED:20180222T150909Z
LAST-MODIFIED:20180302T161609Z
UID:580-1522260000-1522267200@sbgpartnership.org
SUMMARY:Board of Directors Meeting
DESCRIPTION:The SBGP Board of Directors meets at least six times each calendar year. Board meetings are open to the public although parts of Board meetings may be closed.
URL:https://sbgpartnership.org/event/board-directors-meeting-3/
LOCATION:Medstar Harbor Hospital\, 6901 Baltimore Annapolis Blvd\, Brooklyn\, MD\, United States
CATEGORIES:Meeting
ATTACH;FMTTYPE=image/jpeg:https://sbgpartnership.org/wp-content/uploads/2017/08/aboutproper.jpg
END:VEVENT
BEGIN:VEVENT
DTSTART;TZID=UTC:20180321T180000
DTEND;TZID=UTC:20180321T200000
DTSTAMP:20260424T093114
CREATED:20180222T005954Z
LAST-MODIFIED:20180302T161613Z
UID:577-1521655200-1521662400@sbgpartnership.org
SUMMARY:Spring Public Meeting
DESCRIPTION:Members of the general public are invited to the Spring Public Meeting and to provide feedback on the proposed budget for Fiscal Year 2019 as well as the general performance of SBGP.
URL:https://sbgpartnership.org/event/spring-public-meeting/
LOCATION:Medstar Harbor Hospital\, 6901 Baltimore Annapolis Blvd\, Brooklyn\, MD\, United States
CATEGORIES:Meeting
ATTACH;FMTTYPE=image/jpeg:https://sbgpartnership.org/wp-content/uploads/2017/08/sbgp_bg-1-e1584379356908.jpg
END:VEVENT
BEGIN:VEVENT
DTSTART;TZID=UTC:20180221T180000
DTEND;TZID=UTC:20180221T200000
DTSTAMP:20260424T093114
CREATED:20180202T210144Z
LAST-MODIFIED:20180222T151215Z
UID:536-1519236000-1519243200@sbgpartnership.org
SUMMARY:Board of Directors Meeting
DESCRIPTION:The SBGP Board of Directors meets at least six times each calendar year. Board meetings are open to the public although parts of Board meetings may be closed.
URL:https://sbgpartnership.org/event/board-directors-meeting-2/
LOCATION:Medstar Harbor Hospital\, 6901 Baltimore Annapolis Blvd\, Brooklyn\, MD\, United States
CATEGORIES:Meeting
ATTACH;FMTTYPE=image/jpeg:https://sbgpartnership.org/wp-content/uploads/2017/08/sbgp_bg.jpg
END:VEVENT
BEGIN:VEVENT
DTSTART;TZID=UTC:20180124T180000
DTEND;TZID=UTC:20180124T200000
DTSTAMP:20260424T093114
CREATED:20171226T203927Z
LAST-MODIFIED:20180207T190734Z
UID:451-1516816800-1516824000@sbgpartnership.org
SUMMARY:Board of Directors Meeting
DESCRIPTION:The SBGP Board of Directors meets at least six times each calendar year. Board meetings are open to the public although parts of Board meetings may be closed.
URL:https://sbgpartnership.org/event/board-directors-meeting/
LOCATION:Medstar Harbor Hospital\, 6901 Baltimore Annapolis Blvd\, Brooklyn\, MD\, United States
CATEGORIES:Meeting
ATTACH;FMTTYPE=image/jpeg:https://sbgpartnership.org/wp-content/uploads/2017/08/sbgp_bg.jpg
END:VEVENT
BEGIN:VEVENT
DTSTART;TZID=UTC:20180109T180000
DTEND;TZID=UTC:20180109T193000
DTSTAMP:20260424T093114
CREATED:20171226T203249Z
LAST-MODIFIED:20180202T212602Z
UID:435-1515520800-1515526200@sbgpartnership.org
SUMMARY:Community Grant Information Meeting
DESCRIPTION:Get ready to apply for our next round of Community Grants! Grants are due February 28. If you want more information or help applying\, come to one of our upcoming events. \nPlease RSVP to jdrummond@sbgpartnership.org.
URL:https://sbgpartnership.org/event/community-grant-information-meeting/
LOCATION:Southwest Baltimore Charter School\, 1300 Herkimer St\, Baltimore\, MD\, 21223\, United States
CATEGORIES:Events,Meeting
ATTACH;FMTTYPE=image/jpeg:https://sbgpartnership.org/wp-content/uploads/2017/08/aboutproper.jpg
END:VEVENT
END:VCALENDAR