BEGIN:VCALENDAR
VERSION:2.0
PRODID:-//South Baltimore Gateway Partnership - ECPv6.15.18//NONSGML v1.0//EN
CALSCALE:GREGORIAN
METHOD:PUBLISH
X-ORIGINAL-URL:https://sbgpartnership.org
X-WR-CALDESC:Events for South Baltimore Gateway Partnership
REFRESH-INTERVAL;VALUE=DURATION:PT1H
X-Robots-Tag:noindex
X-PUBLISHED-TTL:PT1H
BEGIN:VTIMEZONE
TZID:America/New_York
BEGIN:DAYLIGHT
TZOFFSETFROM:-0500
TZOFFSETTO:-0400
TZNAME:EDT
DTSTART:20220313T070000
END:DAYLIGHT
BEGIN:STANDARD
TZOFFSETFROM:-0400
TZOFFSETTO:-0500
TZNAME:EST
DTSTART:20221106T060000
END:STANDARD
BEGIN:DAYLIGHT
TZOFFSETFROM:-0500
TZOFFSETTO:-0400
TZNAME:EDT
DTSTART:20230312T070000
END:DAYLIGHT
BEGIN:STANDARD
TZOFFSETFROM:-0400
TZOFFSETTO:-0500
TZNAME:EST
DTSTART:20231105T060000
END:STANDARD
BEGIN:DAYLIGHT
TZOFFSETFROM:-0500
TZOFFSETTO:-0400
TZNAME:EDT
DTSTART:20240310T070000
END:DAYLIGHT
BEGIN:STANDARD
TZOFFSETFROM:-0400
TZOFFSETTO:-0500
TZNAME:EST
DTSTART:20241103T060000
END:STANDARD
END:VTIMEZONE
BEGIN:VEVENT
DTSTART;TZID=America/New_York:20231007T090000
DTEND;TZID=America/New_York:20231007T170000
DTSTAMP:20260425T162604
CREATED:20221207T220417Z
LAST-MODIFIED:20231002T155441Z
UID:21265-1696669200-1696698000@sbgpartnership.org
SUMMARY:SGBP Program Committee Meeting
DESCRIPTION:  \nThis meeting is open to the public\, however\, part or all of the meeting may be conducted in a closed session to discuss matters that the Open Meetings Act permits to be discussed in a closed session.  This in-person meeting will be reviewing Community Grant applications for the Summer 2023 cycle. Location: City Garage\, 101 W. Dickman Street\, Suite 1000\, Baltimore\, MD 21230 \nFor joining instructions email aasbell@sbgpartnership.org. \nIn-person meeting attendees are expected to be vaccinated. Masks are welcome but not required. On-site parking available\, ADA accessible bathrooms\, and first-floor meeting area. \nIf requesting accommodations for this meeting\, please reach out one week in advance\nto cemmanuelle@sbgpartnership.org. SBGP will make reasonable accommodations as possible. \nSee agenda here.
URL:https://sbgpartnership.org/event/sgbp-program-committee-meeting-31/
LOCATION:City Garage\, 101 W Dickman St\, Baltimore\, MD 21230\, USA\, 101 W Dickman St\, Baltimore\, MD\, 21230\, United States
CATEGORIES:Events,Meeting
END:VEVENT
BEGIN:VEVENT
DTSTART;TZID=America/New_York:20231018T180000
DTEND;TZID=America/New_York:20231018T200000
DTSTAMP:20260425T162604
CREATED:20221207T220418Z
LAST-MODIFIED:20231019T142535Z
UID:21269-1697652000-1697659200@sbgpartnership.org
SUMMARY:SBGP Board of Directors Meeting
DESCRIPTION:The SBGP Board of Directors meets at least six times each calendar year. This meeting is open to the public\, however\, part or all of the meeting may be conducted in a closed session to discuss matters that the Open Meetings Act permits to be discussed in a closed session. \nThis meeting will be held in-person at City Garage with a virtual option: 101 W. Dickman Street\, Suite 1000\, Baltimore\, MD 21230\nEmail epitkow@sbgpartnership.org at least 24 hours in advance to RSVP for the meeting and to request conference call instructions. \nIn-person meeting attendees are expected to be vaccinated. Masks are welcome but not required. Parking on-site\, ADA accessible bathrooms\, first-floor meeting space. \nIf requesting accommodations for this meeting\, please reach out one week in advance to cemmanuelle@sbgpartnership.org. SBGP will make reasonable accommodations as possible. \nSee agenda here.
URL:https://sbgpartnership.org/event/sbgp-board-of-directors-meeting-72/
LOCATION:City Garage\, 101 W Dickman St\, Suite 1000\, Baltimore\, MD 21230\, USA\, City Garage\, 101 W Dickman St\, Suite 1000\, Baltimore\, MD\, 21230
CATEGORIES:Events,Meeting
END:VEVENT
END:VCALENDAR